BEGIN:VCALENDAR
VERSION:2.0
PRODID:-//EZFacility.com, Inc.//EZL 2.5.5.28621
BEGIN:VEVENT
UID:9638613@ezleagues.ezfacility.com
DTSTAMP:20260424T021314Z
CREATED:20260424T021314Z
DTSTART:20160928T004000Z
DTEND:20160928T013000Z
LOCATION:zMississauga Valley Gymnasium 
CONTACT:
SUMMARY:Inferno VS. Huge Manatees
DESCRIPTION:League Name: MSL Basketball Rec League - Tuesdays - Edgy East\n
 Game Type: Regular\nGame Status: Complete\nHome Team: Inferno\nAway Team: 
 Huge Manatees\nHome Score: 49\nAway Score: 40
END:VEVENT
BEGIN:VEVENT
UID:9638626@ezleagues.ezfacility.com
DTSTAMP:20260424T021314Z
CREATED:20260424T021314Z
DTSTART:20161004T230000Z
DTEND:20161004T235000Z
LOCATION:zMississauga Valley Gymnasium 
CONTACT:
SUMMARY:Ultra Light Team VS. Huge Manatees
DESCRIPTION:League Name: MSL Basketball Rec League - Tuesdays - Edgy East\n
 Game Type: Regular\nGame Status: Complete\nHome Team: Ultra Light Team\nAw
 ay Team: Huge Manatees\nHome Score: 47\nAway Score: 44
END:VEVENT
BEGIN:VEVENT
UID:9638639@ezleagues.ezfacility.com
DTSTAMP:20260424T021314Z
CREATED:20260424T021314Z
DTSTART:20161011T235000Z
DTEND:20161012T004000Z
LOCATION:zMississauga Valley Gymnasium 
CONTACT:
SUMMARY:Huge Manatees VS. I - Thunder
DESCRIPTION:League Name: MSL Basketball Rec League - Tuesdays - Edgy East\n
 Game Type: Regular\nGame Status: Complete\nHome Team: Huge Manatees\nAway 
 Team: I - Thunder\nHome Score: 40\nAway Score: 48
END:VEVENT
BEGIN:VEVENT
UID:9638652@ezleagues.ezfacility.com
DTSTAMP:20260424T021314Z
CREATED:20260424T021314Z
DTSTART:20161018T230000Z
DTEND:20161018T235000Z
LOCATION:zMississauga Valley Gymnasium 
CONTACT:
SUMMARY:Huge Manatees VS. Net Prophets
DESCRIPTION:League Name: MSL Basketball Rec League - Tuesdays - Edgy East\n
 Game Type: Regular\nGame Status: Complete\nHome Team: Huge Manatees\nAway 
 Team: Net Prophets\nHome Score: 23\nAway Score: 31
END:VEVENT
BEGIN:VEVENT
UID:9638665@ezleagues.ezfacility.com
DTSTAMP:20260424T021314Z
CREATED:20260424T021314Z
DTSTART:20161025T230000Z
DTEND:20161025T235000Z
LOCATION:zMississauga Valley Gymnasium 
CONTACT:
SUMMARY:Huge Manatees VS. Banksters
DESCRIPTION:League Name: MSL Basketball Rec League - Tuesdays - Edgy East\n
 Game Type: Regular\nGame Status: Complete\nHome Team: Huge Manatees\nAway 
 Team: Banksters\nHome Score: 38\nAway Score: 72
END:VEVENT
BEGIN:VEVENT
UID:9638678@ezleagues.ezfacility.com
DTSTAMP:20260424T021314Z
CREATED:20260424T021314Z
DTSTART:20161101T235000Z
DTEND:20161102T004000Z
LOCATION:zMississauga Valley Gymnasium 
CONTACT:
SUMMARY:Huge Manatees VS. Team X
DESCRIPTION:League Name: MSL Basketball Rec League - Tuesdays - Edgy East\n
 Game Type: Regular\nGame Status: Complete\nHome Team: Huge Manatees\nAway 
 Team: Team X\nHome Score: 26\nAway Score: 67
END:VEVENT
BEGIN:VEVENT
UID:9638691@ezleagues.ezfacility.com
DTSTAMP:20260424T021314Z
CREATED:20260424T021314Z
DTSTART:20161109T000000Z
DTEND:20161109T005000Z
LOCATION:zMississauga Valley Gymnasium 
CONTACT:
SUMMARY:Huge Manatees VS. Squirtle Squad
DESCRIPTION:League Name: MSL Basketball Rec League - Tuesdays - Edgy East\n
 Game Type: Regular\nGame Status: Complete\nHome Team: Huge Manatees\nAway 
 Team: Squirtle Squad\nHome Score: 30\nAway Score: 62
END:VEVENT
BEGIN:VEVENT
UID:9638703@ezleagues.ezfacility.com
DTSTAMP:20260424T021314Z
CREATED:20260424T021314Z
DTSTART:20161116T005000Z
DTEND:20161116T014000Z
LOCATION:zMississauga Valley Gymnasium 
CONTACT:
SUMMARY:Space Jam VS. Huge Manatees
DESCRIPTION:League Name: MSL Basketball Rec League - Tuesdays - Edgy East\n
 Game Type: Regular\nGame Status: Complete\nHome Team: Space Jam\nAway Team
 : Huge Manatees\nHome Score: 61\nAway Score: 29
END:VEVENT
BEGIN:VEVENT
UID:9638714@ezleagues.ezfacility.com
DTSTAMP:20260424T021314Z
CREATED:20260424T021314Z
DTSTART:20161123T000000Z
DTEND:20161123T005000Z
LOCATION:zMississauga Valley Gymnasium 
CONTACT:
SUMMARY:Goon Squad VS. Huge Manatees
DESCRIPTION:League Name: MSL Basketball Rec League - Tuesdays - Edgy East\n
 Game Type: Regular\nGame Status: Complete\nHome Team: Goon Squad\nAway Tea
 m: Huge Manatees\nHome Score: 42\nAway Score: 48
END:VEVENT
BEGIN:VEVENT
UID:9638725@ezleagues.ezfacility.com
DTSTAMP:20260424T021314Z
CREATED:20260424T021314Z
DTSTART:20161130T000000Z
DTEND:20161130T005000Z
LOCATION:zMississauga Valley Gymnasium 
CONTACT:
SUMMARY:Ducks  VS. Huge Manatees
DESCRIPTION:League Name: MSL Basketball Rec League - Tuesdays - Edgy East\n
 Game Type: Regular\nGame Status: Complete\nHome Team: Ducks \nAway Team: H
 uge Manatees\nHome Score: 67\nAway Score: 31
END:VEVENT
BEGIN:VEVENT
UID:9638736@ezleagues.ezfacility.com
DTSTAMP:20260424T021314Z
CREATED:20260424T021314Z
DTSTART:20161207T000000Z
DTEND:20161207T005000Z
LOCATION:zMississauga Valley Gymnasium 
CONTACT:
SUMMARY:I- Lucky Balls VS. Huge Manatees
DESCRIPTION:League Name: MSL Basketball Rec League - Tuesdays - Edgy East\n
 Game Type: Regular\nGame Status: Complete\nHome Team: I- Lucky Balls\nAway
  Team: Huge Manatees\nHome Score: 40\nAway Score: 64
END:VEVENT
BEGIN:VEVENT
UID:9638748@ezleagues.ezfacility.com
DTSTAMP:20260424T021314Z
CREATED:20260424T021314Z
DTSTART:20161214T000000Z
DTEND:20161214T005000Z
LOCATION:zMississauga Valley Gymnasium 
CONTACT:
SUMMARY:Huge Manatees VS. Lemkos
DESCRIPTION:League Name: MSL Basketball Rec League - Tuesdays - Edgy East\n
 Game Type: Regular\nGame Status: Complete\nHome Team: Huge Manatees\nAway 
 Team: Lemkos\nHome Score: 40\nAway Score: 41
END:VEVENT
BEGIN:VEVENT
UID:9638761@ezleagues.ezfacility.com
DTSTAMP:20260424T021314Z
CREATED:20260424T021314Z
DTSTART:20161221T032000Z
DTEND:20161221T041000Z
LOCATION:zMississauga Valley Gymnasium 
CONTACT:
SUMMARY:Goon Squad VS. Huge Manatees
DESCRIPTION:League Name: MSL Basketball Rec League - Tuesdays - Edgy East\n
 Game Type: Postseason\nGame Status: Complete\nHome Team: Goon Squad\nAway 
 Team: Huge Manatees\nHome Score: 36\nAway Score: 33
END:VEVENT
BEGIN:VEVENT
UID:9638783@ezleagues.ezfacility.com
DTSTAMP:20260424T021314Z
CREATED:20260424T021314Z
DTSTART:20170104T041000Z
DTEND:20170104T050000Z
LOCATION:zMississauga Valley Gymnasium 
CONTACT:
SUMMARY:Huge Manatees VS. Ultra Light Team
DESCRIPTION:League Name: MSL Basketball Rec League - Tuesdays - Edgy East\n
 Game Type: Friendly\nGame Status: Complete\nHome Team: Huge Manatees\nAway
  Team: Ultra Light Team\nHome Score: 0\nAway Score: 20
END:VEVENT
BEGIN:VEVENT
UID:9638770@ezleagues.ezfacility.com
DTSTAMP:20260424T021314Z
CREATED:20260424T021314Z
DTSTART:20170111T014000Z
DTEND:20170111T023000Z
LOCATION:zMississauga Valley Gymnasium 
CONTACT:
SUMMARY:Net Prophets VS. Huge Manatees
DESCRIPTION:League Name: MSL Basketball Rec League - Tuesdays - Edgy East\n
 Game Type: Friendly\nGame Status: Complete\nHome Team: Net Prophets\nAway 
 Team: Huge Manatees\nHome Score: 0\nAway Score: 20
END:VEVENT
END:VCALENDAR
