BEGIN:VCALENDAR
VERSION:2.0
PRODID:-//EZFacility.com, Inc.//EZL 2.5.5.28621
BEGIN:VEVENT
UID:9662496@ezleagues.ezfacility.com
DTSTAMP:20260426T033447Z
CREATED:20260426T033447Z
DTSTART:20160929T005000Z
DTEND:20160929T014500Z
LOCATION:PFFC Field House - A
CONTACT:
SUMMARY:  FC Revolution VS.   Lostraccos FC
DESCRIPTION:League Name: MSL Soccer - W/T Men's Division #4 North\nGame Typ
 e: Regular\nGame Status: Complete\nHome Team:   FC Revolution\nAway Team: 
   Lostraccos FC\nHome Score: 4\nAway Score: 3
END:VEVENT
BEGIN:VEVENT
UID:9662543@ezleagues.ezfacility.com
DTSTAMP:20260426T033447Z
CREATED:20260426T033447Z
DTSTART:20161005T235500Z
DTEND:20161006T005000Z
LOCATION:PFFC Dome - 2
CONTACT:
SUMMARY:  FC Revolution VS.   The Office 
DESCRIPTION:League Name: MSL Soccer - W/T Men's Division #4 North\nGame Typ
 e: Regular\nGame Status: Complete\nHome Team:   FC Revolution\nAway Team: 
   The Office \nHome Score: 4\nAway Score: 2
END:VEVENT
BEGIN:VEVENT
UID:9662582@ezleagues.ezfacility.com
DTSTAMP:20260426T033447Z
CREATED:20260426T033447Z
DTSTART:20161012T230000Z
DTEND:20161012T235500Z
LOCATION:PFFC Dome - 1
CONTACT:
SUMMARY:  FC Revolution VS.   Dat Academy
DESCRIPTION:League Name: MSL Soccer - W/T Men's Division #4 North\nGame Typ
 e: Regular\nGame Status: Complete\nHome Team:   FC Revolution\nAway Team: 
   Dat Academy\nHome Score: 6\nAway Score: 1
END:VEVENT
BEGIN:VEVENT
UID:9662625@ezleagues.ezfacility.com
DTSTAMP:20260426T033447Z
CREATED:20260426T033447Z
DTSTART:20161020T220500Z
DTEND:20161020T230000Z
LOCATION:PFFC Dome - 3
CONTACT:
SUMMARY:  FC Revolution VS. ATFC 
DESCRIPTION:League Name: MSL Soccer - W/T Men's Division #4 North\nGame Typ
 e: Regular\nGame Status: Complete\nHome Team:   FC Revolution\nAway Team: 
 ATFC \nHome Score: 2\nAway Score: 3
END:VEVENT
BEGIN:VEVENT
UID:9662668@ezleagues.ezfacility.com
DTSTAMP:20260426T033447Z
CREATED:20260426T033447Z
DTSTART:20161028T033500Z
DTEND:20161028T043000Z
LOCATION:PFFC Dome - 4
CONTACT:
SUMMARY:  FC Revolution VS. TEAM REMOVED
DESCRIPTION:League Name: MSL Soccer - W/T Men's Division #4 North\nGame Typ
 e: Regular\nGame Status: Complete\nHome Team:   FC Revolution\nAway Team: 
 TEAM REMOVED\nHome Score: 3\nAway Score: 0
END:VEVENT
BEGIN:VEVENT
UID:9662711@ezleagues.ezfacility.com
DTSTAMP:20260426T033447Z
CREATED:20260426T033447Z
DTSTART:20161104T024000Z
DTEND:20161104T033500Z
LOCATION:PFFC Field House - A
CONTACT:
SUMMARY:  FC Revolution VS.   Haddad National
DESCRIPTION:League Name: MSL Soccer - W/T Men's Division #4 North\nGame Typ
 e: Regular\nGame Status: Complete\nHome Team:   FC Revolution\nAway Team: 
   Haddad National\nHome Score: 6\nAway Score: 1
END:VEVENT
BEGIN:VEVENT
UID:9662754@ezleagues.ezfacility.com
DTSTAMP:20260426T033447Z
CREATED:20260426T033447Z
DTSTART:20161111T024500Z
DTEND:20161111T034000Z
LOCATION:PFFC Field House - B
CONTACT:
SUMMARY:  FC Revolution VS.   The Office 
DESCRIPTION:League Name: MSL Soccer - W/T Men's Division #4 North\nGame Typ
 e: Regular\nGame Status: Complete\nHome Team:   FC Revolution\nAway Team: 
   The Office \nHome Score: 5\nAway Score: 1
END:VEVENT
BEGIN:VEVENT
UID:9662797@ezleagues.ezfacility.com
DTSTAMP:20260426T033447Z
CREATED:20260426T033447Z
DTSTART:20161117T034000Z
DTEND:20161117T043500Z
LOCATION:PFFC Field House - D
CONTACT:
SUMMARY:  JumpOutGang VS.   FC Revolution
DESCRIPTION:League Name: MSL Soccer - W/T Men's Division #4 North\nGame Typ
 e: Regular\nGame Status: Complete\nHome Team:   JumpOutGang\nAway Team:   
 FC Revolution\nHome Score: 4\nAway Score: 3
END:VEVENT
BEGIN:VEVENT
UID:9662840@ezleagues.ezfacility.com
DTSTAMP:20260426T033447Z
CREATED:20260426T033447Z
DTSTART:20161125T005500Z
DTEND:20161125T015000Z
LOCATION:PFFC Field House - D
CONTACT:
SUMMARY:  Dirty Sanchez FC VS.   FC Revolution
DESCRIPTION:League Name: MSL Soccer - W/T Men's Division #4 North\nGame Typ
 e: Regular\nGame Status: Complete\nHome Team:   Dirty Sanchez FC\nAway Tea
 m:   FC Revolution\nHome Score: 4\nAway Score: 6
END:VEVENT
BEGIN:VEVENT
UID:9662883@ezleagues.ezfacility.com
DTSTAMP:20260426T033447Z
CREATED:20260426T033447Z
DTSTART:20161201T005500Z
DTEND:20161201T015000Z
LOCATION:PFFC Field House - B
CONTACT:
SUMMARY:  Lostraccos FC VS.   FC Revolution
DESCRIPTION:League Name: MSL Soccer - W/T Men's Division #4 North\nGame Typ
 e: Regular\nGame Status: Complete\nHome Team:   Lostraccos FC\nAway Team: 
   FC Revolution\nHome Score: 5\nAway Score: 3
END:VEVENT
BEGIN:VEVENT
UID:9662926@ezleagues.ezfacility.com
DTSTAMP:20260426T033447Z
CREATED:20260426T033447Z
DTSTART:20161208T230500Z
DTEND:20161209T000000Z
LOCATION:PFFC Field House - B
CONTACT:
SUMMARY:FC Atletico VS.   FC Revolution
DESCRIPTION:League Name: MSL Soccer - W/T Men's Division #4 North\nGame Typ
 e: Regular\nGame Status: Complete\nHome Team: FC Atletico\nAway Team:   FC
  Revolution\nHome Score: 2\nAway Score: 5
END:VEVENT
BEGIN:VEVENT
UID:9662969@ezleagues.ezfacility.com
DTSTAMP:20260426T033447Z
CREATED:20260426T033447Z
DTSTART:20161216T030000Z
DTEND:20161216T035500Z
LOCATION:PFFC Dome - 2
CONTACT:
SUMMARY:  Dat Academy VS.   FC Revolution
DESCRIPTION:League Name: MSL Soccer - W/T Men's Division #4 North\nGame Typ
 e: Regular\nGame Status: Complete\nHome Team:   Dat Academy\nAway Team:   
 FC Revolution\nHome Score: 4\nAway Score: 6
END:VEVENT
BEGIN:VEVENT
UID:9663013@ezleagues.ezfacility.com
DTSTAMP:20260426T033447Z
CREATED:20260426T033447Z
DTSTART:20161222T034000Z
DTEND:20161222T043500Z
LOCATION:PFFC Field House - C
CONTACT:
SUMMARY:  Dat Academy VS.   FC Revolution
DESCRIPTION:League Name: MSL Soccer - W/T Men's Division #4 North\nGame Typ
 e: Regular\nGame Status: Complete\nHome Team:   Dat Academy\nAway Team:   
 FC Revolution\nHome Score: 2\nAway Score: 5
END:VEVENT
BEGIN:VEVENT
UID:9663012@ezleagues.ezfacility.com
DTSTAMP:20260426T033447Z
CREATED:20260426T033447Z
DTSTART:20161223T034000Z
DTEND:20161223T043500Z
LOCATION:PFFC Field House - B
CONTACT:
SUMMARY:ATFC  VS.   FC Revolution
DESCRIPTION:League Name: MSL Soccer - W/T Men's Division #4 North\nGame Typ
 e: Regular\nGame Status: Complete\nHome Team: ATFC \nAway Team:   FC Revol
 ution\nHome Score: 5\nAway Score: 10
END:VEVENT
BEGIN:VEVENT
UID:9985566@ezleagues.ezfacility.com
DTSTAMP:20260426T033447Z
CREATED:20260426T033447Z
DTSTART:20170106T022500Z
DTEND:20170106T031500Z
LOCATION:PFFC Field House - A
CONTACT:
SUMMARY:  FC Revolution VS. Winner of Game 1
DESCRIPTION:League Name: MSL Soccer - W/T Men's Division #4 North\nGame Typ
 e: Postseason\nGame Status: Complete\nHome Team:   FC Revolution\nAway Tea
 m: Winner of Game 1\nHome Score: 5\nAway Score: 1
END:VEVENT
BEGIN:VEVENT
UID:9985570@ezleagues.ezfacility.com
DTSTAMP:20260426T033447Z
CREATED:20260426T033447Z
DTSTART:20170113T014500Z
DTEND:20170113T023500Z
LOCATION:PFFC Field House - B
CONTACT:
SUMMARY:  FC Revolution VS.   Dat Academy
DESCRIPTION:League Name: MSL Soccer - W/T Men's Division #4 North\nGame Typ
 e: Postseason\nGame Status: Complete\nHome Team:   FC Revolution\nAway Tea
 m:   Dat Academy\nHome Score: 4\nAway Score: 3
END:VEVENT
END:VCALENDAR
