BEGIN:VCALENDAR
VERSION:2.0
PRODID:-//EZFacility.com, Inc.//EZL 2.5.5.28621
BEGIN:VEVENT
UID:9666473@ezleagues.ezfacility.com
DTSTAMP:20260424T044103Z
CREATED:20260424T044103Z
DTSTART:20161001T005000Z
DTEND:20161001T014500Z
LOCATION:PFFC Field House - B
CONTACT:
SUMMARY:Polonia VS.   FC Playboys
DESCRIPTION:League Name: MSL Soccer - Over 35 Zico Division\nGame Type: Reg
 ular\nGame Status: Complete\nHome Team: Polonia\nAway Team:   FC Playboys\
 nHome Score: 1\nAway Score: 1
END:VEVENT
BEGIN:VEVENT
UID:9666488@ezleagues.ezfacility.com
DTSTAMP:20260424T044103Z
CREATED:20260424T044103Z
DTSTART:20161007T235500Z
DTEND:20161008T005000Z
LOCATION:PFFC Dome - 1
CONTACT:
SUMMARY:  Cartel F.C. VS.   FC Playboys
DESCRIPTION:League Name: MSL Soccer - Over 35 Zico Division\nGame Type: Reg
 ular\nGame Status: Complete\nHome Team:   Cartel F.C.\nAway Team:   FC Pla
 yboys\nHome Score: 0\nAway Score: 3
END:VEVENT
BEGIN:VEVENT
UID:9666503@ezleagues.ezfacility.com
DTSTAMP:20260424T044103Z
CREATED:20260424T044103Z
DTSTART:20161014T235500Z
DTEND:20161015T005000Z
LOCATION:PFFC Dome - 3
CONTACT:
SUMMARY:Slavutich VS.   FC Playboys
DESCRIPTION:League Name: MSL Soccer - Over 35 Zico Division\nGame Type: Reg
 ular\nGame Status: Complete\nHome Team: Slavutich\nAway Team:   FC Playboy
 s\nHome Score: 1\nAway Score: 2
END:VEVENT
BEGIN:VEVENT
UID:9666518@ezleagues.ezfacility.com
DTSTAMP:20260424T044103Z
CREATED:20260424T044103Z
DTSTART:20161021T235500Z
DTEND:20161022T005000Z
LOCATION:PFFC Dome - 1
CONTACT:
SUMMARY:  FC Playboys VS. Armada FC
DESCRIPTION:League Name: MSL Soccer - Over 35 Zico Division\nGame Type: Reg
 ular\nGame Status: Complete\nHome Team:   FC Playboys\nAway Team: Armada F
 C\nHome Score: 8\nAway Score: 2
END:VEVENT
BEGIN:VEVENT
UID:9666532@ezleagues.ezfacility.com
DTSTAMP:20260424T044103Z
CREATED:20260424T044103Z
DTSTART:20161028T220500Z
DTEND:20161028T230000Z
LOCATION:PFFC Field House - B
CONTACT:
SUMMARY:  M United VS.   FC Playboys
DESCRIPTION:League Name: MSL Soccer - Over 35 Zico Division\nGame Type: Reg
 ular\nGame Status: Complete\nHome Team:   M United\nAway Team:   FC Playbo
 ys\nHome Score: 4\nAway Score: 2
END:VEVENT
BEGIN:VEVENT
UID:9666545@ezleagues.ezfacility.com
DTSTAMP:20260424T044103Z
CREATED:20260424T044103Z
DTSTART:20161105T005000Z
DTEND:20161105T014500Z
LOCATION:PFFC Field House - B
CONTACT:
SUMMARY:  NK Vatreni VS.   FC Playboys
DESCRIPTION:League Name: MSL Soccer - Over 35 Zico Division\nGame Type: Reg
 ular\nGame Status: Complete\nHome Team:   NK Vatreni\nAway Team:   FC Play
 boys\nHome Score: 5\nAway Score: 2
END:VEVENT
BEGIN:VEVENT
UID:9666558@ezleagues.ezfacility.com
DTSTAMP:20260424T044103Z
CREATED:20260424T044103Z
DTSTART:20161112T034000Z
DTEND:20161112T043500Z
LOCATION:PFFC Field House - B
CONTACT:
SUMMARY:  Karpaty VS.   FC Playboys
DESCRIPTION:League Name: MSL Soccer - Over 35 Zico Division\nGame Type: Reg
 ular\nGame Status: Complete\nHome Team:   Karpaty\nAway Team:   FC Playboy
 s\nHome Score: 3\nAway Score: 7
END:VEVENT
BEGIN:VEVENT
UID:9666571@ezleagues.ezfacility.com
DTSTAMP:20260424T044103Z
CREATED:20260424T044103Z
DTSTART:20161118T015000Z
DTEND:20161118T024500Z
LOCATION:PFFC Field House - C
CONTACT:
SUMMARY:  FC Playboys VS.   19th Hole Sports Bar
DESCRIPTION:League Name: MSL Soccer - Over 35 Zico Division\nGame Type: Reg
 ular\nGame Status: Complete\nHome Team:   FC Playboys\nAway Team:   19th H
 ole Sports Bar\nHome Score: 5\nAway Score: 3
END:VEVENT
BEGIN:VEVENT
UID:9666584@ezleagues.ezfacility.com
DTSTAMP:20260424T044103Z
CREATED:20260424T044103Z
DTSTART:20161125T034000Z
DTEND:20161125T043500Z
LOCATION:PFFC Field House - C
CONTACT:
SUMMARY:  SL SHE  VS.   FC Playboys
DESCRIPTION:League Name: MSL Soccer - Over 35 Zico Division\nGame Type: Reg
 ular\nGame Status: Complete\nHome Team:   SL SHE \nAway Team:   FC Playboy
 s\nHome Score: 2\nAway Score: 2
END:VEVENT
BEGIN:VEVENT
UID:9666597@ezleagues.ezfacility.com
DTSTAMP:20260424T044103Z
CREATED:20260424T044103Z
DTSTART:20161202T230500Z
DTEND:20161203T000000Z
LOCATION:PFFC Field House - C
CONTACT:
SUMMARY:  FC Playboys VS.   Serbian White Eagles
DESCRIPTION:League Name: MSL Soccer - Over 35 Zico Division\nGame Type: Reg
 ular\nGame Status: Complete\nHome Team:   FC Playboys\nAway Team:   Serbia
 n White Eagles\nHome Score: 3\nAway Score: 4
END:VEVENT
BEGIN:VEVENT
UID:9666612@ezleagues.ezfacility.com
DTSTAMP:20260424T044103Z
CREATED:20260424T044103Z
DTSTART:20161209T024500Z
DTEND:20161209T034000Z
LOCATION:PFFC Field House - C
CONTACT:
SUMMARY:  FC Playboys VS.   Olimpia
DESCRIPTION:League Name: MSL Soccer - Over 35 Zico Division\nGame Type: Reg
 ular\nGame Status: Complete\nHome Team:   FC Playboys\nAway Team:   Olimpi
 a\nHome Score: 2\nAway Score: 4
END:VEVENT
BEGIN:VEVENT
UID:9666627@ezleagues.ezfacility.com
DTSTAMP:20260424T044103Z
CREATED:20260424T044103Z
DTSTART:20161216T024500Z
DTEND:20161216T034000Z
LOCATION:PFFC Field House - C
CONTACT:
SUMMARY:  FC Playboys VS. Polonia
DESCRIPTION:League Name: MSL Soccer - Over 35 Zico Division\nGame Type: Reg
 ular\nGame Status: Complete\nHome Team:   FC Playboys\nAway Team: Polonia\
 nHome Score: 2\nAway Score: 4
END:VEVENT
BEGIN:VEVENT
UID:9666642@ezleagues.ezfacility.com
DTSTAMP:20260424T044103Z
CREATED:20260424T044103Z
DTSTART:20161224T024500Z
DTEND:20161224T034000Z
LOCATION:PFFC Field House - A
CONTACT:
SUMMARY:  FC Playboys VS.   Cartel F.C.
DESCRIPTION:League Name: MSL Soccer - Over 35 Zico Division\nGame Type: Reg
 ular\nGame Status: Complete\nHome Team:   FC Playboys\nAway Team:   Cartel
  F.C.\nHome Score: 7\nAway Score: 3
END:VEVENT
BEGIN:VEVENT
UID:9666657@ezleagues.ezfacility.com
DTSTAMP:20260424T044103Z
CREATED:20260424T044103Z
DTSTART:20161231T015000Z
DTEND:20161231T024500Z
LOCATION:PFFC Field House - B
CONTACT:
SUMMARY:  FC Playboys VS. Slavutich
DESCRIPTION:League Name: MSL Soccer - Over 35 Zico Division\nGame Type: Reg
 ular\nGame Status: Complete\nHome Team:   FC Playboys\nAway Team: Slavutic
 h\nHome Score: 3\nAway Score: 4
END:VEVENT
BEGIN:VEVENT
UID:9986762@ezleagues.ezfacility.com
DTSTAMP:20260424T044103Z
CREATED:20260424T044103Z
DTSTART:20170106T030000Z
DTEND:20170106T035000Z
LOCATION:PFFC Dome - 3
CONTACT:
SUMMARY:Slavutich VS.   FC Playboys
DESCRIPTION:League Name: MSL Soccer - Over 35 Zico Division\nGame Type: Pos
 tseason\nGame Status: Complete\nHome Team: Slavutich\nAway Team:   FC Play
 boys\nHome Score: 5\nAway Score: 2
END:VEVENT
END:VCALENDAR
