BEGIN:VCALENDAR
VERSION:2.0
PRODID:-//EZFacility.com, Inc.//EZL 2.5.5.28621
BEGIN:VEVENT
UID:9717583@ezleagues.ezfacility.com
DTSTAMP:20260426T033416Z
CREATED:20260426T033416Z
DTSTART:20161001T014500Z
DTEND:20161001T024000Z
LOCATION:PFFC Field House - D
CONTACT:
SUMMARY:South Central FC VS. FC Kanhellenic
DESCRIPTION:League Name: MSL Soccer - Friday Men's Division #3 North\nGame 
 Type: Regular\nGame Status: Complete\nHome Team: South Central FC\nAway Te
 am: FC Kanhellenic\nHome Score: 6\nAway Score: 1
END:VEVENT
BEGIN:VEVENT
UID:9717597@ezleagues.ezfacility.com
DTSTAMP:20260426T033416Z
CREATED:20260426T033416Z
DTSTART:20161007T220500Z
DTEND:20161007T230000Z
LOCATION:PFFC Dome - 4
CONTACT:
SUMMARY:FC Kanhellenic VS. F.K. Tirona
DESCRIPTION:League Name: MSL Soccer - Friday Men's Division #3 North\nGame 
 Type: Regular\nGame Status: Complete\nHome Team: FC Kanhellenic\nAway Team
 : F.K. Tirona\nHome Score: 0\nAway Score: 7
END:VEVENT
BEGIN:VEVENT
UID:9717614@ezleagues.ezfacility.com
DTSTAMP:20260426T033416Z
CREATED:20260426T033416Z
DTSTART:20161015T033500Z
DTEND:20161015T043000Z
LOCATION:PFFC Dome - 3
CONTACT:
SUMMARY:Pharoahs VS. FC Kanhellenic
DESCRIPTION:League Name: MSL Soccer - Friday Men's Division #3 North\nGame 
 Type: Regular\nGame Status: Complete\nHome Team: Pharoahs\nAway Team: FC K
 anhellenic\nHome Score: 1\nAway Score: 9
END:VEVENT
BEGIN:VEVENT
UID:9717633@ezleagues.ezfacility.com
DTSTAMP:20260426T033416Z
CREATED:20260426T033416Z
DTSTART:20161022T024000Z
DTEND:20161022T033500Z
LOCATION:PFFC Dome - 4
CONTACT:
SUMMARY:  Mississauga Croatia Blue VS. FC Kanhellenic
DESCRIPTION:League Name: MSL Soccer - Friday Men's Division #3 North\nGame 
 Type: Regular\nGame Status: Complete\nHome Team:   Mississauga Croatia Blu
 e\nAway Team: FC Kanhellenic\nHome Score: 1\nAway Score: 0
END:VEVENT
BEGIN:VEVENT
UID:9717650@ezleagues.ezfacility.com
DTSTAMP:20260426T033416Z
CREATED:20260426T033416Z
DTSTART:20161029T000000Z
DTEND:20161029T005500Z
LOCATION:PFFC Dome - 4
CONTACT:
SUMMARY:FC Chevaps VS. FC Kanhellenic
DESCRIPTION:League Name: MSL Soccer - Friday Men's Division #3 North\nGame 
 Type: Regular\nGame Status: Complete\nHome Team: FC Chevaps\nAway Team: FC
  Kanhellenic\nHome Score: 4\nAway Score: 3
END:VEVENT
BEGIN:VEVENT
UID:9717668@ezleagues.ezfacility.com
DTSTAMP:20260426T033416Z
CREATED:20260426T033416Z
DTSTART:20161104T220500Z
DTEND:20161104T230000Z
LOCATION:PFFC Field House - D
CONTACT:
SUMMARY:FC Kanhellenic VS. F.K. Tirona
DESCRIPTION:League Name: MSL Soccer - Friday Men's Division #3 North\nGame 
 Type: Regular\nGame Status: Complete\nHome Team: FC Kanhellenic\nAway Team
 : F.K. Tirona\nHome Score: 3\nAway Score: 7
END:VEVENT
BEGIN:VEVENT
UID:9717685@ezleagues.ezfacility.com
DTSTAMP:20260426T033416Z
CREATED:20260426T033416Z
DTSTART:20161112T034000Z
DTEND:20161112T043500Z
LOCATION:PFFC Field House - D
CONTACT:
SUMMARY:  Mississauga Croatia Red  VS. FC Kanhellenic
DESCRIPTION:League Name: MSL Soccer - Friday Men's Division #3 North\nGame 
 Type: Regular\nGame Status: Complete\nHome Team:   Mississauga Croatia Red
  \nAway Team: FC Kanhellenic\nHome Score: 6\nAway Score: 3
END:VEVENT
BEGIN:VEVENT
UID:9717701@ezleagues.ezfacility.com
DTSTAMP:20260426T033416Z
CREATED:20260426T033416Z
DTSTART:20161119T034000Z
DTEND:20161119T043500Z
LOCATION:PFFC Field House - C
CONTACT:
SUMMARY:FC Kanhellenic VS. South Central FC
DESCRIPTION:League Name: MSL Soccer - Friday Men's Division #3 North\nGame 
 Type: Regular\nGame Status: Complete\nHome Team: FC Kanhellenic\nAway Team
 : South Central FC\nHome Score: 3\nAway Score: 4
END:VEVENT
BEGIN:VEVENT
UID:9717717@ezleagues.ezfacility.com
DTSTAMP:20260426T033416Z
CREATED:20260426T033416Z
DTSTART:20161126T015000Z
DTEND:20161126T024500Z
LOCATION:PFFC Field House - C
CONTACT:
SUMMARY:  Mississauga Croatia Blue VS. FC Kanhellenic
DESCRIPTION:League Name: MSL Soccer - Friday Men's Division #3 North\nGame 
 Type: Regular\nGame Status: Complete\nHome Team:   Mississauga Croatia Blu
 e\nAway Team: FC Kanhellenic\nHome Score: 4\nAway Score: 3
END:VEVENT
BEGIN:VEVENT
UID:9717733@ezleagues.ezfacility.com
DTSTAMP:20260426T033416Z
CREATED:20260426T033416Z
DTSTART:20161203T030000Z
DTEND:20161203T035500Z
LOCATION:PFFC Dome - 4
CONTACT:
SUMMARY:  FC Zahid VS. FC Kanhellenic
DESCRIPTION:League Name: MSL Soccer - Friday Men's Division #3 North\nGame 
 Type: Regular\nGame Status: Complete\nHome Team:   FC Zahid\nAway Team: FC
  Kanhellenic\nHome Score: 3\nAway Score: 6
END:VEVENT
BEGIN:VEVENT
UID:9717749@ezleagues.ezfacility.com
DTSTAMP:20260426T033416Z
CREATED:20260426T033416Z
DTSTART:20161210T024500Z
DTEND:20161210T034000Z
LOCATION:PFFC Field House - B
CONTACT:
SUMMARY:FC Kanhellenic VS. RNS
DESCRIPTION:League Name: MSL Soccer - Friday Men's Division #3 North\nGame 
 Type: Regular\nGame Status: Complete\nHome Team: FC Kanhellenic\nAway Team
 : RNS\nHome Score: 2\nAway Score: 3
END:VEVENT
BEGIN:VEVENT
UID:9717767@ezleagues.ezfacility.com
DTSTAMP:20260426T033416Z
CREATED:20260426T033416Z
DTSTART:20161217T015000Z
DTEND:20161217T024500Z
LOCATION:PFFC Field House - A
CONTACT:
SUMMARY:FC Kanhellenic VS. Pharoahs
DESCRIPTION:League Name: MSL Soccer - Friday Men's Division #3 North\nGame 
 Type: Regular\nGame Status: Complete\nHome Team: FC Kanhellenic\nAway Team
 : Pharoahs\nHome Score: 5\nAway Score: 2
END:VEVENT
BEGIN:VEVENT
UID:9717785@ezleagues.ezfacility.com
DTSTAMP:20260426T033416Z
CREATED:20260426T033416Z
DTSTART:20161224T015000Z
DTEND:20161224T024500Z
LOCATION:PFFC Dome - 3
CONTACT:
SUMMARY:FC Kanhellenic VS. Halychyna
DESCRIPTION:League Name: MSL Soccer - Friday Men's Division #3 North\nGame 
 Type: Regular\nGame Status: Complete\nHome Team: FC Kanhellenic\nAway Team
 : Halychyna\nHome Score: 6\nAway Score: 8
END:VEVENT
BEGIN:VEVENT
UID:9717803@ezleagues.ezfacility.com
DTSTAMP:20260426T033416Z
CREATED:20260426T033416Z
DTSTART:20161231T005500Z
DTEND:20161231T015000Z
LOCATION:PFFC Field House - D
CONTACT:
SUMMARY:FC Kanhellenic VS. FC Chevaps
DESCRIPTION:League Name: MSL Soccer - Friday Men's Division #3 North\nGame 
 Type: Regular\nGame Status: Complete\nHome Team: FC Kanhellenic\nAway Team
 : FC Chevaps\nHome Score: 1\nAway Score: 8
END:VEVENT
BEGIN:VEVENT
UID:9985478@ezleagues.ezfacility.com
DTSTAMP:20260426T033416Z
CREATED:20260426T033416Z
DTSTART:20170106T235500Z
DTEND:20170107T004500Z
LOCATION:PFFC Field House - A
CONTACT:
SUMMARY:  Mississauga Croatia Red  VS. FC Kanhellenic
DESCRIPTION:League Name: MSL Soccer - Friday Men's Division #3 North\nGame 
 Type: Postseason\nGame Status: Complete\nHome Team:   Mississauga Croatia 
 Red \nAway Team: FC Kanhellenic\nHome Score: 2\nAway Score: 3
END:VEVENT
BEGIN:VEVENT
UID:9985483@ezleagues.ezfacility.com
DTSTAMP:20260426T033416Z
CREATED:20260426T033416Z
DTSTART:20170107T013500Z
DTEND:20170107T022500Z
LOCATION:PFFC Field House - D
CONTACT:
SUMMARY:South Central FC VS. FC Kanhellenic
DESCRIPTION:League Name: MSL Soccer - Friday Men's Division #3 North\nGame 
 Type: Postseason\nGame Status: Complete\nHome Team: South Central FC\nAway
  Team: FC Kanhellenic\nHome Score: 5\nAway Score: 0
END:VEVENT
END:VCALENDAR
