BEGIN:VCALENDAR
VERSION:2.0
PRODID:-//EZFacility.com, Inc.//EZL 2.5.5.28621
BEGIN:VEVENT
UID:9717578@ezleagues.ezfacility.com
DTSTAMP:20260426T033643Z
CREATED:20260426T033643Z
DTSTART:20161001T033500Z
DTEND:20161001T043000Z
LOCATION:PFFC Field House - B
CONTACT:
SUMMARY:  Quarterback FC VS.   New Caledonia AK 
DESCRIPTION:League Name: MSL Soccer - Friday Men's Division #5\nGame Type: 
 Regular\nGame Status: Complete\nHome Team:   Quarterback FC\nAway Team:   
 New Caledonia AK \nHome Score: 0\nAway Score: 2
END:VEVENT
BEGIN:VEVENT
UID:9717594@ezleagues.ezfacility.com
DTSTAMP:20260426T033643Z
CREATED:20260426T033643Z
DTSTART:20161008T024000Z
DTEND:20161008T033500Z
LOCATION:PFFC Field House - A
CONTACT:
SUMMARY:  Quarterback FC VS.   Wolfpack
DESCRIPTION:League Name: MSL Soccer - Friday Men's Division #5\nGame Type: 
 Regular\nGame Status: Complete\nHome Team:   Quarterback FC\nAway Team:   
 Wolfpack\nHome Score: 2\nAway Score: 4
END:VEVENT
BEGIN:VEVENT
UID:9717610@ezleagues.ezfacility.com
DTSTAMP:20260426T033643Z
CREATED:20260426T033643Z
DTSTART:20161015T014500Z
DTEND:20161015T024000Z
LOCATION:PFFC Field House - D
CONTACT:
SUMMARY:  Arsenal FC VS.   Quarterback FC
DESCRIPTION:League Name: MSL Soccer - Friday Men's Division #5\nGame Type: 
 Regular\nGame Status: Complete\nHome Team:   Arsenal FC\nAway Team:   Quar
 terback FC\nHome Score: 2\nAway Score: 2
END:VEVENT
BEGIN:VEVENT
UID:9717628@ezleagues.ezfacility.com
DTSTAMP:20260426T033643Z
CREATED:20260426T033643Z
DTSTART:20161022T014500Z
DTEND:20161022T024000Z
LOCATION:PFFC Dome - 2
CONTACT:
SUMMARY:  Blue Bloods VS.   Quarterback FC
DESCRIPTION:League Name: MSL Soccer - Friday Men's Division #5\nGame Type: 
 Regular\nGame Status: Complete\nHome Team:   Blue Bloods\nAway Team:   Qua
 rterback FC\nHome Score: 1\nAway Score: 5
END:VEVENT
BEGIN:VEVENT
UID:9717646@ezleagues.ezfacility.com
DTSTAMP:20260426T033643Z
CREATED:20260426T033643Z
DTSTART:20161029T005500Z
DTEND:20161029T015000Z
LOCATION:PFFC Dome - 4
CONTACT:
SUMMARY:  Panthers YSC VS.   Quarterback FC
DESCRIPTION:League Name: MSL Soccer - Friday Men's Division #5\nGame Type: 
 Regular\nGame Status: Complete\nHome Team:   Panthers YSC\nAway Team:   Qu
 arterback FC\nHome Score: 3\nAway Score: 0
END:VEVENT
BEGIN:VEVENT
UID:9717663@ezleagues.ezfacility.com
DTSTAMP:20260426T033643Z
CREATED:20260426T033643Z
DTSTART:20161104T235500Z
DTEND:20161105T005000Z
LOCATION:PFFC Field House - D
CONTACT:
SUMMARY:  New Caledonia AK  VS.   Quarterback FC
DESCRIPTION:League Name: MSL Soccer - Friday Men's Division #5\nGame Type: 
 Regular\nGame Status: Complete\nHome Team:   New Caledonia AK \nAway Team:
    Quarterback FC\nHome Score: 2\nAway Score: 3
END:VEVENT
BEGIN:VEVENT
UID:9717679@ezleagues.ezfacility.com
DTSTAMP:20260426T033643Z
CREATED:20260426T033643Z
DTSTART:20161112T000000Z
DTEND:20161112T005500Z
LOCATION:PFFC Field House - C
CONTACT:
SUMMARY:  Wolfpack VS.   Quarterback FC
DESCRIPTION:League Name: MSL Soccer - Friday Men's Division #5\nGame Type: 
 Regular\nGame Status: Complete\nHome Team:   Wolfpack\nAway Team:   Quarte
 rback FC\nHome Score: 3\nAway Score: 1
END:VEVENT
BEGIN:VEVENT
UID:9717695@ezleagues.ezfacility.com
DTSTAMP:20260426T033643Z
CREATED:20260426T033643Z
DTSTART:20161119T030000Z
DTEND:20161119T035500Z
LOCATION:PFFC Dome - 4
CONTACT:
SUMMARY:  Quarterback FC VS.   Arsenal FC
DESCRIPTION:League Name: MSL Soccer - Friday Men's Division #5\nGame Type: 
 Regular\nGame Status: Complete\nHome Team:   Quarterback FC\nAway Team:   
 Arsenal FC\nHome Score: 1\nAway Score: 3
END:VEVENT
BEGIN:VEVENT
UID:9717713@ezleagues.ezfacility.com
DTSTAMP:20260426T033643Z
CREATED:20260426T033643Z
DTSTART:20161126T034000Z
DTEND:20161126T043500Z
LOCATION:PFFC Field House - A
CONTACT:
SUMMARY:  Quarterback FC VS.   Blue Bloods
DESCRIPTION:League Name: MSL Soccer - Friday Men's Division #5\nGame Type: 
 Regular\nGame Status: Complete\nHome Team:   Quarterback FC\nAway Team:   
 Blue Bloods\nHome Score: 4\nAway Score: 1
END:VEVENT
BEGIN:VEVENT
UID:9717731@ezleagues.ezfacility.com
DTSTAMP:20260426T033643Z
CREATED:20260426T033643Z
DTSTART:20161203T005500Z
DTEND:20161203T015000Z
LOCATION:PFFC Field House - B
CONTACT:
SUMMARY:  Quarterback FC VS.   Panthers YSC
DESCRIPTION:League Name: MSL Soccer - Friday Men's Division #5\nGame Type: 
 Regular\nGame Status: Complete\nHome Team:   Quarterback FC\nAway Team:   
 Panthers YSC\nHome Score: 3\nAway Score: 3
END:VEVENT
BEGIN:VEVENT
UID:9717748@ezleagues.ezfacility.com
DTSTAMP:20260426T033643Z
CREATED:20260426T033643Z
DTSTART:20161210T034000Z
DTEND:20161210T043500Z
LOCATION:PFFC Field House - D
CONTACT:
SUMMARY:  New Caledonia AK  VS.   Quarterback FC
DESCRIPTION:League Name: MSL Soccer - Friday Men's Division #5\nGame Type: 
 Regular\nGame Status: Complete\nHome Team:   New Caledonia AK \nAway Team:
    Quarterback FC\nHome Score: 2\nAway Score: 1
END:VEVENT
BEGIN:VEVENT
UID:9717764@ezleagues.ezfacility.com
DTSTAMP:20260426T033643Z
CREATED:20260426T033643Z
DTSTART:20161216T230500Z
DTEND:20161217T000000Z
LOCATION:PFFC Field House - D
CONTACT:
SUMMARY:  Wolfpack VS.   Quarterback FC
DESCRIPTION:League Name: MSL Soccer - Friday Men's Division #5\nGame Type: 
 Regular\nGame Status: Complete\nHome Team:   Wolfpack\nAway Team:   Quarte
 rback FC\nHome Score: 4\nAway Score: 6
END:VEVENT
BEGIN:VEVENT
UID:9717780@ezleagues.ezfacility.com
DTSTAMP:20260426T033643Z
CREATED:20260426T033643Z
DTSTART:20161224T000000Z
DTEND:20161224T005500Z
LOCATION:PFFC Field House - A
CONTACT:
SUMMARY:  Quarterback FC VS.   Arsenal FC
DESCRIPTION:League Name: MSL Soccer - Friday Men's Division #5\nGame Type: 
 Regular\nGame Status: Complete\nHome Team:   Quarterback FC\nAway Team:   
 Arsenal FC\nHome Score: 3\nAway Score: 2
END:VEVENT
BEGIN:VEVENT
UID:9717798@ezleagues.ezfacility.com
DTSTAMP:20260426T033643Z
CREATED:20260426T033643Z
DTSTART:20161231T000000Z
DTEND:20161231T005500Z
LOCATION:PFFC Field House - A
CONTACT:
SUMMARY:  Quarterback FC VS.   Blue Bloods
DESCRIPTION:League Name: MSL Soccer - Friday Men's Division #5\nGame Type: 
 Regular\nGame Status: Complete\nHome Team:   Quarterback FC\nAway Team:   
 Blue Bloods\nHome Score: 0\nAway Score: 1
END:VEVENT
BEGIN:VEVENT
UID:9985518@ezleagues.ezfacility.com
DTSTAMP:20260426T033643Z
CREATED:20260426T033643Z
DTSTART:20170107T040500Z
DTEND:20170107T045500Z
LOCATION:PFFC Field House - D
CONTACT:
SUMMARY:  Wolfpack VS.   Quarterback FC
DESCRIPTION:League Name: MSL Soccer - Friday Men's Division #5\nGame Type: 
 Postseason\nGame Status: Complete\nHome Team:   Wolfpack\nAway Team:   Qua
 rterback FC\nHome Score: 2\nAway Score: 0
END:VEVENT
END:VCALENDAR
