BEGIN:VCALENDAR
VERSION:2.0
PRODID:-//EZFacility.com, Inc.//EZL 2.5.5.28621
BEGIN:VEVENT
UID:9666465@ezleagues.ezfacility.com
DTSTAMP:20260426T033437Z
CREATED:20260426T033437Z
DTSTART:20160930T024000Z
DTEND:20160930T033500Z
LOCATION:PFFC Field House - C
CONTACT:
SUMMARY:Europa fc VS.   Mimico Town
DESCRIPTION:League Name: MSL Soccer - Over 35 Cruyff Division\nGame Type: R
 egular\nGame Status: Complete\nHome Team: Europa fc\nAway Team:   Mimico T
 own\nHome Score: 4\nAway Score: 3
END:VEVENT
BEGIN:VEVENT
UID:9666478@ezleagues.ezfacility.com
DTSTAMP:20260426T033437Z
CREATED:20260426T033437Z
DTSTART:20161007T220500Z
DTEND:20161007T230000Z
LOCATION:PFFC Dome - 2
CONTACT:
SUMMARY:Europa fc VS.   Devils
DESCRIPTION:League Name: MSL Soccer - Over 35 Cruyff Division\nGame Type: R
 egular\nGame Status: Complete\nHome Team: Europa fc\nAway Team:   Devils\n
 Home Score: 3\nAway Score: 2
END:VEVENT
BEGIN:VEVENT
UID:9666491@ezleagues.ezfacility.com
DTSTAMP:20260426T033437Z
CREATED:20260426T033437Z
DTSTART:20161015T014500Z
DTEND:20161015T024000Z
LOCATION:PFFC Dome - 1
CONTACT:
SUMMARY:  La Parrilla VS. Europa fc
DESCRIPTION:League Name: MSL Soccer - Over 35 Cruyff Division\nGame Type: R
 egular\nGame Status: Complete\nHome Team:   La Parrilla\nAway Team: Europa
  fc\nHome Score: 2\nAway Score: 2
END:VEVENT
BEGIN:VEVENT
UID:9666506@ezleagues.ezfacility.com
DTSTAMP:20260426T033437Z
CREATED:20260426T033437Z
DTSTART:20161022T005000Z
DTEND:20161022T014500Z
LOCATION:PFFC Dome - 4
CONTACT:
SUMMARY:Legends VS. Europa fc
DESCRIPTION:League Name: MSL Soccer - Over 35 Cruyff Division\nGame Type: R
 egular\nGame Status: Complete\nHome Team: Legends\nAway Team: Europa fc\nH
 ome Score: 4\nAway Score: 1
END:VEVENT
BEGIN:VEVENT
UID:9666521@ezleagues.ezfacility.com
DTSTAMP:20260426T033437Z
CREATED:20260426T033437Z
DTSTART:20161029T005000Z
DTEND:20161029T014500Z
LOCATION:PFFC Field House - D
CONTACT:
SUMMARY:  ChepoFC VS. Europa fc
DESCRIPTION:League Name: MSL Soccer - Over 35 Cruyff Division\nGame Type: R
 egular\nGame Status: Complete\nHome Team:   ChepoFC\nAway Team: Europa fc\
 nHome Score: 5\nAway Score: 2
END:VEVENT
BEGIN:VEVENT
UID:9666536@ezleagues.ezfacility.com
DTSTAMP:20260426T033437Z
CREATED:20260426T033437Z
DTSTART:20161105T024000Z
DTEND:20161105T033500Z
LOCATION:PFFC Field House - B
CONTACT:
SUMMARY:  PcClick VS. Europa fc
DESCRIPTION:League Name: MSL Soccer - Over 35 Cruyff Division\nGame Type: R
 egular\nGame Status: Complete\nHome Team:   PcClick\nAway Team: Europa fc\
 nHome Score: 1\nAway Score: 2
END:VEVENT
BEGIN:VEVENT
UID:9666550@ezleagues.ezfacility.com
DTSTAMP:20260426T033437Z
CREATED:20260426T033437Z
DTSTART:20161111T230500Z
DTEND:20161112T000000Z
LOCATION:PFFC Field House - C
CONTACT:
SUMMARY:Europa fc VS. The Goaldies FC
DESCRIPTION:League Name: MSL Soccer - Over 35 Cruyff Division\nGame Type: R
 egular\nGame Status: Complete\nHome Team: Europa fc\nAway Team: The Goaldi
 es FC\nHome Score: 0\nAway Score: 0
END:VEVENT
BEGIN:VEVENT
UID:9666563@ezleagues.ezfacility.com
DTSTAMP:20260426T033437Z
CREATED:20260426T033437Z
DTSTART:20161119T005500Z
DTEND:20161119T015000Z
LOCATION:PFFC Field House - C
CONTACT:
SUMMARY:  Mimico Town VS. Europa fc
DESCRIPTION:League Name: MSL Soccer - Over 35 Cruyff Division\nGame Type: R
 egular\nGame Status: Complete\nHome Team:   Mimico Town\nAway Team: Europa
  fc\nHome Score: 2\nAway Score: 1
END:VEVENT
BEGIN:VEVENT
UID:9666576@ezleagues.ezfacility.com
DTSTAMP:20260426T033437Z
CREATED:20260426T033437Z
DTSTART:20161126T005500Z
DTEND:20161126T015000Z
LOCATION:PFFC Field House - C
CONTACT:
SUMMARY:  Devils VS. Europa fc
DESCRIPTION:League Name: MSL Soccer - Over 35 Cruyff Division\nGame Type: R
 egular\nGame Status: Complete\nHome Team:   Devils\nAway Team: Europa fc\n
 Home Score: 5\nAway Score: 3
END:VEVENT
BEGIN:VEVENT
UID:9666589@ezleagues.ezfacility.com
DTSTAMP:20260426T033437Z
CREATED:20260426T033437Z
DTSTART:20161203T024500Z
DTEND:20161203T034000Z
LOCATION:PFFC Field House - A
CONTACT:
SUMMARY:Europa fc VS.   La Parrilla
DESCRIPTION:League Name: MSL Soccer - Over 35 Cruyff Division\nGame Type: R
 egular\nGame Status: Complete\nHome Team: Europa fc\nAway Team:   La Parri
 lla\nHome Score: 1\nAway Score: 3
END:VEVENT
BEGIN:VEVENT
UID:9666604@ezleagues.ezfacility.com
DTSTAMP:20260426T033437Z
CREATED:20260426T033437Z
DTSTART:20161210T005500Z
DTEND:20161210T015000Z
LOCATION:PFFC Field House - C
CONTACT:
SUMMARY:Europa fc VS. Legends
DESCRIPTION:League Name: MSL Soccer - Over 35 Cruyff Division\nGame Type: R
 egular\nGame Status: Complete\nHome Team: Europa fc\nAway Team: Legends\nH
 ome Score: 2\nAway Score: 5
END:VEVENT
BEGIN:VEVENT
UID:9666619@ezleagues.ezfacility.com
DTSTAMP:20260426T033437Z
CREATED:20260426T033437Z
DTSTART:20161217T000000Z
DTEND:20161217T005500Z
LOCATION:PFFC Field House - D
CONTACT:
SUMMARY:Europa fc VS.   ChepoFC
DESCRIPTION:League Name: MSL Soccer - Over 35 Cruyff Division\nGame Type: R
 egular\nGame Status: Complete\nHome Team: Europa fc\nAway Team:   ChepoFC\
 nHome Score: 3\nAway Score: 0
END:VEVENT
BEGIN:VEVENT
UID:9666634@ezleagues.ezfacility.com
DTSTAMP:20260426T033437Z
CREATED:20260426T033437Z
DTSTART:20161224T000000Z
DTEND:20161224T005500Z
LOCATION:PFFC Field House - D
CONTACT:
SUMMARY:Europa fc VS.   PcClick
DESCRIPTION:League Name: MSL Soccer - Over 35 Cruyff Division\nGame Type: R
 egular\nGame Status: Complete\nHome Team: Europa fc\nAway Team:   PcClick\
 nHome Score: 4\nAway Score: 7
END:VEVENT
BEGIN:VEVENT
UID:9666648@ezleagues.ezfacility.com
DTSTAMP:20260426T033437Z
CREATED:20260426T033437Z
DTSTART:20161230T024500Z
DTEND:20161230T034000Z
LOCATION:PFFC Field House - C
CONTACT:
SUMMARY:The Goaldies FC VS. Europa fc
DESCRIPTION:League Name: MSL Soccer - Over 35 Cruyff Division\nGame Type: R
 egular\nGame Status: Complete\nHome Team: The Goaldies FC\nAway Team: Euro
 pa fc\nHome Score: 4\nAway Score: 1
END:VEVENT
BEGIN:VEVENT
UID:9986741@ezleagues.ezfacility.com
DTSTAMP:20260426T033437Z
CREATED:20260426T033437Z
DTSTART:20170106T004500Z
DTEND:20170106T014000Z
LOCATION:PFFC Field House - A
CONTACT:
SUMMARY:  ChepoFC VS. Europa fc
DESCRIPTION:League Name: MSL Soccer - Over 35 Cruyff Division\nGame Type: P
 ostseason\nGame Status: Complete\nHome Team:   ChepoFC\nAway Team: Europa 
 fc\nHome Score: 1\nAway Score: 0
END:VEVENT
END:VCALENDAR
