BEGIN:VCALENDAR
VERSION:2.0
PRODID:-//EZFacility.com, Inc.//EZL 2.5.5.28621
BEGIN:VEVENT
UID:9684846@ezleagues.ezfacility.com
DTSTAMP:20260426T033448Z
CREATED:20260426T033448Z
DTSTART:20161016T163700Z
DTEND:20161016T172900Z
LOCATION:Field   ID 2
CONTACT:
SUMMARY:Ross VS. A Bit Optimistic
DESCRIPTION:League Name: Fall Indoor 2016   Coed 0pen BLACK\nGame Type: Reg
 ular\nGame Status: Complete\nHome Team: Ross\nAway Team: A Bit Optimistic\
 nHome Score: 9\nAway Score: 3
END:VEVENT
BEGIN:VEVENT
UID:9701810@ezleagues.ezfacility.com
DTSTAMP:20260426T033448Z
CREATED:20260426T033448Z
DTSTART:20161030T182100Z
DTEND:20161030T191300Z
LOCATION:Field   ID 2
CONTACT:
SUMMARY:The Rock VS. Ross
DESCRIPTION:League Name: Fall Indoor 2016   Coed 0pen BLACK\nGame Type: Reg
 ular\nGame Status: Complete\nHome Team: The Rock\nAway Team: Ross\nHome Sc
 ore: 7\nAway Score: 5
END:VEVENT
BEGIN:VEVENT
UID:9781943@ezleagues.ezfacility.com
DTSTAMP:20260426T033448Z
CREATED:20260426T033448Z
DTSTART:20161106T234600Z
DTEND:20161107T003800Z
LOCATION:_
CONTACT:
SUMMARY:Shootist VS. Ross
DESCRIPTION:League Name: Fall Indoor 2016   Coed 0pen BLACK\nGame Type: Reg
 ular\nGame Status: Complete\nHome Team: Shootist\nAway Team: Ross\nHome Sc
 ore: 5\nAway Score: 7
END:VEVENT
BEGIN:VEVENT
UID:9781944@ezleagues.ezfacility.com
DTSTAMP:20260426T033448Z
CREATED:20260426T033448Z
DTSTART:20161113T225400Z
DTEND:20161113T234600Z
LOCATION:Field   ID 2
CONTACT:
SUMMARY:Grandview FC VS. Ross
DESCRIPTION:League Name: Fall Indoor 2016   Coed 0pen BLACK\nGame Type: Reg
 ular\nGame Status: Complete\nHome Team: Grandview FC\nAway Team: Ross\nHom
 e Score: 3\nAway Score: 3
END:VEVENT
BEGIN:VEVENT
UID:9781950@ezleagues.ezfacility.com
DTSTAMP:20260426T033448Z
CREATED:20260426T033448Z
DTSTART:20161121T022200Z
DTEND:20161121T031400Z
LOCATION:Field   ID 3
CONTACT:
SUMMARY:Ross VS. The Rock
DESCRIPTION:League Name: Fall Indoor 2016   Coed 0pen BLACK\nGame Type: Reg
 ular\nGame Status: Complete\nHome Team: Ross\nAway Team: The Rock\nHome Sc
 ore: 7\nAway Score: 3
END:VEVENT
BEGIN:VEVENT
UID:9781954@ezleagues.ezfacility.com
DTSTAMP:20260426T033448Z
CREATED:20260426T033448Z
DTSTART:20161205T013000Z
DTEND:20161205T022200Z
LOCATION:Field   ID 2
CONTACT:
SUMMARY:A Bit Optimistic VS. Ross
DESCRIPTION:League Name: Fall Indoor 2016   Coed 0pen BLACK\nGame Type: Reg
 ular\nGame Status: Complete\nHome Team: A Bit Optimistic\nAway Team: Ross\
 nHome Score: 7\nAway Score: 6
END:VEVENT
BEGIN:VEVENT
UID:9781956@ezleagues.ezfacility.com
DTSTAMP:20260426T033448Z
CREATED:20260426T033448Z
DTSTART:20161211T220200Z
DTEND:20161211T225400Z
LOCATION:Field   ID 1
CONTACT:
SUMMARY:Ross VS. Shootist
DESCRIPTION:League Name: Fall Indoor 2016   Coed 0pen BLACK\nGame Type: Reg
 ular\nGame Status: Complete\nHome Team: Ross\nAway Team: Shootist\nHome Sc
 ore: 2\nAway Score: 5
END:VEVENT
BEGIN:VEVENT
UID:9781999@ezleagues.ezfacility.com
DTSTAMP:20260426T033448Z
CREATED:20260426T033448Z
DTSTART:20161218T234600Z
DTEND:20161219T003800Z
LOCATION:Field   ID 3
CONTACT:
SUMMARY:Ross VS. Grandview FC
DESCRIPTION:League Name: Fall Indoor 2016   Coed 0pen BLACK\nGame Type: Reg
 ular\nGame Status: Complete\nHome Team: Ross\nAway Team: Grandview FC\nHom
 e Score: 5\nAway Score: 5
END:VEVENT
BEGIN:VEVENT
UID:9782003@ezleagues.ezfacility.com
DTSTAMP:20260426T033448Z
CREATED:20260426T033448Z
DTSTART:20170108T183400Z
DTEND:20170108T192600Z
LOCATION:Field   ID 2
CONTACT:
SUMMARY:The Rock VS. Ross
DESCRIPTION:League Name: Fall Indoor 2016   Coed 0pen BLACK\nGame Type: Reg
 ular\nGame Status: Complete\nHome Team: The Rock\nAway Team: Ross\nHome Sc
 ore: 3\nAway Score: 8
END:VEVENT
END:VCALENDAR
