BEGIN:VCALENDAR
VERSION:2.0
PRODID:-//EZFacility.com, Inc.//EZL 2.5.5.28621
BEGIN:VEVENT
UID:9701158@ezleagues.ezfacility.com
DTSTAMP:20260421T181211Z
CREATED:20260421T181211Z
DTSTART:20161016T000000Z
DTEND:20161016T010000Z
LOCATION:Harmans Premier Field #4
CONTACT:
SUMMARY:Aliansa FC VS. Los Motos
DESCRIPTION:League Name: Sat Mens Open 1st div \nGame Type: Regular\nGame S
 tatus: Complete\nHome Team: Aliansa FC\nAway Team: Los Motos\nHome Score: 
 3\nAway Score: 14
END:VEVENT
BEGIN:VEVENT
UID:9701169@ezleagues.ezfacility.com
DTSTAMP:20260421T181211Z
CREATED:20260421T181211Z
DTSTART:20161023T000000Z
DTEND:20161023T010000Z
LOCATION:Harmans Premier Field #5
CONTACT:
SUMMARY:Arcenal VS. Los Motos
DESCRIPTION:League Name: Sat Mens Open 1st div \nGame Type: Regular\nGame S
 tatus: Complete\nHome Team: Arcenal\nAway Team: Los Motos\nHome Score: 4\n
 Away Score: 7
END:VEVENT
BEGIN:VEVENT
UID:9701189@ezleagues.ezfacility.com
DTSTAMP:20260421T181211Z
CREATED:20260421T181211Z
DTSTART:20161106T020000Z
DTEND:20161106T030000Z
LOCATION:Harmans Premier Field #4
CONTACT:
SUMMARY:FC Chiapas VS. Los Motos
DESCRIPTION:League Name: Sat Mens Open 1st div \nGame Type: Regular\nGame S
 tatus: Complete\nHome Team: FC Chiapas\nAway Team: Los Motos\nHome Score: 
 6\nAway Score: 5
END:VEVENT
BEGIN:VEVENT
UID:9701197@ezleagues.ezfacility.com
DTSTAMP:20260421T181211Z
CREATED:20260421T181211Z
DTSTART:20161113T000000Z
DTEND:20161113T010000Z
LOCATION:Harmans Premier Field #4
CONTACT:
SUMMARY:Mexico VS. Los Motos
DESCRIPTION:League Name: Sat Mens Open 1st div \nGame Type: Regular\nGame S
 tatus: Complete\nHome Team: Mexico\nAway Team: Los Motos\nHome Score: 2\nA
 way Score: 6
END:VEVENT
BEGIN:VEVENT
UID:9701208@ezleagues.ezfacility.com
DTSTAMP:20260421T181211Z
CREATED:20260421T181211Z
DTSTART:20161120T020000Z
DTEND:20161120T030000Z
LOCATION:Harmans Premier Field #5
CONTACT:
SUMMARY:Los Motos VS. Aliansa FC
DESCRIPTION:League Name: Sat Mens Open 1st div \nGame Type: Regular\nGame S
 tatus: Complete\nHome Team: Los Motos\nAway Team: Aliansa FC\nHome Score: 
 10\nAway Score: 0
END:VEVENT
BEGIN:VEVENT
UID:9701179@ezleagues.ezfacility.com
DTSTAMP:20260421T181211Z
CREATED:20260421T181211Z
DTSTART:20161120T030000Z
DTEND:20161120T031600Z
LOCATION:Harmans Premier Field #5
CONTACT:
SUMMARY:Los Motos VS. CD Pumas
DESCRIPTION:League Name: Sat Mens Open 1st div \nGame Type: Regular\nGame S
 tatus: Complete\nHome Team: Los Motos\nAway Team: CD Pumas\nHome Score: 3\
 nAway Score: 3
END:VEVENT
BEGIN:VEVENT
UID:9701219@ezleagues.ezfacility.com
DTSTAMP:20260421T181211Z
CREATED:20260421T181211Z
DTSTART:20161127T000000Z
DTEND:20161127T010000Z
LOCATION:Harmans Premier Field #4
CONTACT:
SUMMARY:Los Motos VS. Arcenal
DESCRIPTION:League Name: Sat Mens Open 1st div \nGame Type: Regular\nGame S
 tatus: Complete\nHome Team: Los Motos\nAway Team: Arcenal\nHome Score: 3\n
 Away Score: 5
END:VEVENT
BEGIN:VEVENT
UID:9910342@ezleagues.ezfacility.com
DTSTAMP:20260421T181211Z
CREATED:20260421T181211Z
DTSTART:20161204T030000Z
DTEND:20161204T040000Z
LOCATION:Harmans Premier Field #5
CONTACT:
SUMMARY:Los Motos VS. FC Chiapas
DESCRIPTION:League Name: Sat Mens Open 1st div \nGame Type: Regular\nGame S
 tatus: Complete\nHome Team: Los Motos\nAway Team: FC Chiapas\nHome Score: 
 5\nAway Score: 6
END:VEVENT
BEGIN:VEVENT
UID:9940165@ezleagues.ezfacility.com
DTSTAMP:20260421T181211Z
CREATED:20260421T181211Z
DTSTART:20161211T010000Z
DTEND:20161211T020000Z
LOCATION:Harmans Premier Field #4
CONTACT:
SUMMARY:Mexico VS. Los Motos
DESCRIPTION:League Name: Sat Mens Open 1st div \nGame Type: Regular\nGame S
 tatus: Complete\nHome Team: Mexico\nAway Team: Los Motos\nHome Score: 3\nA
 way Score: 0
END:VEVENT
END:VCALENDAR
