BEGIN:VCALENDAR
VERSION:2.0
PRODID:-//EZFacility.com, Inc.//EZL 2.5.5.28621
BEGIN:VEVENT
UID:9772139@ezleagues.ezfacility.com
DTSTAMP:20260426T033514Z
CREATED:20260426T033514Z
DTSTART:20161104T203000Z
DTEND:20161104T212200Z
LOCATION:Field   ID 2
CONTACT:
SUMMARY:Deez Nutmegs VS. YMCMB
DESCRIPTION:League Name: Fall Indoor 2016 Boy's U-17/18 B\nGame Type: Regul
 ar\nGame Status: Complete\nHome Team: Deez Nutmegs\nAway Team: YMCMB\nHome
  Score: 7\nAway Score: 6
END:VEVENT
BEGIN:VEVENT
UID:9772143@ezleagues.ezfacility.com
DTSTAMP:20260426T033514Z
CREATED:20260426T033514Z
DTSTART:20161111T222500Z
DTEND:20161111T231700Z
LOCATION:Field   ID 2
CONTACT:
SUMMARY:Ivory Toast VS. Deez Nutmegs
DESCRIPTION:League Name: Fall Indoor 2016 Boy's U-17/18 B\nGame Type: Regul
 ar\nGame Status: Complete\nHome Team: Ivory Toast\nAway Team: Deez Nutmegs
 \nHome Score: 6\nAway Score: 5
END:VEVENT
BEGIN:VEVENT
UID:9808217@ezleagues.ezfacility.com
DTSTAMP:20260426T033514Z
CREATED:20260426T033514Z
DTSTART:20161118T213000Z
DTEND:20161118T222200Z
LOCATION:Field   ID 1
CONTACT:
SUMMARY:Deez Nutmegs VS. Emoji Explosion
DESCRIPTION:League Name: Fall Indoor 2016 Boy's U-17/18 B\nGame Type: Regul
 ar\nGame Status: Complete\nHome Team: Deez Nutmegs\nAway Team: Emoji Explo
 sion\nHome Score: 8\nAway Score: 7
END:VEVENT
BEGIN:VEVENT
UID:9808299@ezleagues.ezfacility.com
DTSTAMP:20260426T033514Z
CREATED:20260426T033514Z
DTSTART:20161202T232000Z
DTEND:20161203T001200Z
LOCATION:Field   ID 1
CONTACT:
SUMMARY:Ronaldoughnuts VS. Deez Nutmegs
DESCRIPTION:League Name: Fall Indoor 2016 Boy's U-17/18 B\nGame Type: Regul
 ar\nGame Status: Complete\nHome Team: Ronaldoughnuts\nAway Team: Deez Nutm
 egs\nHome Score: 7\nAway Score: 4
END:VEVENT
BEGIN:VEVENT
UID:9808295@ezleagues.ezfacility.com
DTSTAMP:20260426T033514Z
CREATED:20260426T033514Z
DTSTART:20161209T222500Z
DTEND:20161209T231700Z
LOCATION:Field   ID 3
CONTACT:
SUMMARY:Deez Nutmegs VS. Fighting Gamecocks
DESCRIPTION:League Name: Fall Indoor 2016 Boy's U-17/18 B\nGame Type: Regul
 ar\nGame Status: Complete\nHome Team: Deez Nutmegs\nAway Team: Fighting Ga
 mecocks\nHome Score: 1\nAway Score: 4
END:VEVENT
BEGIN:VEVENT
UID:9808298@ezleagues.ezfacility.com
DTSTAMP:20260426T033514Z
CREATED:20260426T033514Z
DTSTART:20161214T213000Z
DTEND:20161214T222200Z
LOCATION:Field   ID 1
CONTACT:
SUMMARY:YMCMB VS. Deez Nutmegs
DESCRIPTION:League Name: Fall Indoor 2016 Boy's U-17/18 B\nGame Type: Regul
 ar\nGame Status: Complete\nHome Team: YMCMB\nAway Team: Deez Nutmegs\nHome
  Score: 4\nAway Score: 9
END:VEVENT
BEGIN:VEVENT
UID:9808284@ezleagues.ezfacility.com
DTSTAMP:20260426T033514Z
CREATED:20260426T033514Z
DTSTART:20161223T213000Z
DTEND:20161223T222200Z
LOCATION:Field   ID 1
CONTACT:
SUMMARY:Deez Nutmegs VS. Ivory Toast
DESCRIPTION:League Name: Fall Indoor 2016 Boy's U-17/18 B\nGame Type: Regul
 ar\nGame Status: Complete\nHome Team: Deez Nutmegs\nAway Team: Ivory Toast
 \nHome Score: 12\nAway Score: 6
END:VEVENT
BEGIN:VEVENT
UID:9808287@ezleagues.ezfacility.com
DTSTAMP:20260426T033514Z
CREATED:20260426T033514Z
DTSTART:20170106T213000Z
DTEND:20170106T222200Z
LOCATION:Field   ID 2
CONTACT:
SUMMARY:Emoji Explosion VS. Deez Nutmegs
DESCRIPTION:League Name: Fall Indoor 2016 Boy's U-17/18 B\nGame Type: Regul
 ar\nGame Status: Complete\nHome Team: Emoji Explosion\nAway Team: Deez Nut
 megs\nHome Score: 5\nAway Score: 5
END:VEVENT
BEGIN:VEVENT
UID:9808288@ezleagues.ezfacility.com
DTSTAMP:20260426T033514Z
CREATED:20260426T033514Z
DTSTART:20170111T213000Z
DTEND:20170111T222200Z
LOCATION:Field   ID 1
CONTACT:
SUMMARY:Deez Nutmegs VS. Ronaldoughnuts
DESCRIPTION:League Name: Fall Indoor 2016 Boy's U-17/18 B\nGame Type: Regul
 ar\nGame Status: Complete\nHome Team: Deez Nutmegs\nAway Team: Ronaldoughn
 uts\nHome Score: 4\nAway Score: 16
END:VEVENT
END:VCALENDAR
