BEGIN:VCALENDAR
VERSION:2.0
PRODID:-//EZFacility.com, Inc.//EZL 2.5.5.28621
BEGIN:VEVENT
UID:9780813@ezleagues.ezfacility.com
DTSTAMP:20260424T044034Z
CREATED:20260424T044034Z
DTSTART:20161026T030000Z
DTEND:20161026T040000Z
LOCATION:Jessup Premier Field #1
CONTACT:
SUMMARY:Los Gringos VS. Jaguares
DESCRIPTION:League Name: Tues Mens Open 1st div \nGame Type: Regular\nGame 
 Status: Complete\nHome Team: Los Gringos\nAway Team: Jaguares\nHome Score:
  1\nAway Score: 6
END:VEVENT
BEGIN:VEVENT
UID:9780821@ezleagues.ezfacility.com
DTSTAMP:20260424T044034Z
CREATED:20260424T044034Z
DTSTART:20161102T000000Z
DTEND:20161102T010000Z
LOCATION:Jessup Premier Field #2
CONTACT:
SUMMARY:Drunkard United VS. Los Gringos
DESCRIPTION:League Name: Tues Mens Open 1st div \nGame Type: Regular\nGame 
 Status: Complete\nHome Team: Drunkard United\nAway Team: Los Gringos\nHome
  Score: 10\nAway Score: 1
END:VEVENT
BEGIN:VEVENT
UID:9780829@ezleagues.ezfacility.com
DTSTAMP:20260424T044034Z
CREATED:20260424T044034Z
DTSTART:20161109T010000Z
DTEND:20161109T020000Z
LOCATION:Jessup Premier Field #1
CONTACT:
SUMMARY:Young Stars VS. Los Gringos
DESCRIPTION:League Name: Tues Mens Open 1st div \nGame Type: Regular\nGame 
 Status: Complete\nHome Team: Young Stars\nAway Team: Los Gringos\nHome Sco
 re: 7\nAway Score: 5
END:VEVENT
BEGIN:VEVENT
UID:9780839@ezleagues.ezfacility.com
DTSTAMP:20260424T044034Z
CREATED:20260424T044034Z
DTSTART:20161116T020000Z
DTEND:20161116T030000Z
LOCATION:Jessup Premier Field #2
CONTACT:
SUMMARY:Los Gringos VS. United
DESCRIPTION:League Name: Tues Mens Open 1st div \nGame Type: Regular\nGame 
 Status: Complete\nHome Team: Los Gringos\nAway Team: United\nHome Score: 3
 \nAway Score: 0
END:VEVENT
BEGIN:VEVENT
UID:9780849@ezleagues.ezfacility.com
DTSTAMP:20260424T044034Z
CREATED:20260424T044034Z
DTSTART:20161123T005000Z
DTEND:20161123T015000Z
LOCATION:Jessup Premier Field #2
CONTACT:
SUMMARY:Los Gringos VS. Elite
DESCRIPTION:League Name: Tues Mens Open 1st div \nGame Type: Regular\nGame 
 Status: Complete\nHome Team: Los Gringos\nAway Team: Elite\nHome Score: 7\
 nAway Score: 8
END:VEVENT
BEGIN:VEVENT
UID:9780859@ezleagues.ezfacility.com
DTSTAMP:20260424T044034Z
CREATED:20260424T044034Z
DTSTART:20161130T020000Z
DTEND:20161130T030000Z
LOCATION:Jessup Premier Field #2
CONTACT:
SUMMARY:Los Gringos VS. Fusion FC
DESCRIPTION:League Name: Tues Mens Open 1st div \nGame Type: Regular\nGame 
 Status: Complete\nHome Team: Los Gringos\nAway Team: Fusion FC\nHome Score
 : 0\nAway Score: 1
END:VEVENT
BEGIN:VEVENT
UID:9780869@ezleagues.ezfacility.com
DTSTAMP:20260424T044034Z
CREATED:20260424T044034Z
DTSTART:20161207T010000Z
DTEND:20161207T020000Z
LOCATION:Jessup Premier Field #1
CONTACT:
SUMMARY:Los Gringos VS. Al Nahrain FC
DESCRIPTION:League Name: Tues Mens Open 1st div \nGame Type: Regular\nGame 
 Status: Complete\nHome Team: Los Gringos\nAway Team: Al Nahrain FC\nHome S
 core: 0\nAway Score: 3
END:VEVENT
BEGIN:VEVENT
UID:9940201@ezleagues.ezfacility.com
DTSTAMP:20260424T044034Z
CREATED:20260424T044034Z
DTSTART:20161214T010000Z
DTEND:20161214T014800Z
LOCATION:Jessup Premier Field #2
CONTACT:
SUMMARY:Drunkard United VS. Los Gringos
DESCRIPTION:League Name: Tues Mens Open 1st div \nGame Type: Regular\nGame 
 Status: Complete\nHome Team: Drunkard United\nAway Team: Los Gringos\nHome
  Score: 2\nAway Score: 7
END:VEVENT
BEGIN:VEVENT
UID:9958987@ezleagues.ezfacility.com
DTSTAMP:20260424T044034Z
CREATED:20260424T044034Z
DTSTART:20161221T010000Z
DTEND:20161221T020000Z
LOCATION:Jessup Premier Field #1
CONTACT:
SUMMARY:Los Gringos VS. Real Annapolis
DESCRIPTION:League Name: Tues Mens Open 1st div \nGame Type: Regular\nGame 
 Status: Complete\nHome Team: Los Gringos\nAway Team: Real Annapolis\nHome 
 Score: 3\nAway Score: 0
END:VEVENT
END:VCALENDAR
