BEGIN:VCALENDAR
VERSION:2.0
PRODID:-//EZFacility.com, Inc.//EZL 2.5.5.28621
BEGIN:VEVENT
UID:9806619@ezleagues.ezfacility.com
DTSTAMP:20260422T082650Z
CREATED:20260422T082650Z
DTSTART:20161112T163600Z
DTEND:20161112T172800Z
LOCATION:Field   ID 2
CONTACT:
SUMMARY:SF Academy Girls U9 VS. Royal Tigers
DESCRIPTION:League Name: Fall Indoor 2016 Girl's U-09\nGame Type: Regular\n
 Game Status: Complete\nHome Team: SF Academy Girls U9\nAway Team: Royal Ti
 gers\nHome Score: 0\nAway Score: 10
END:VEVENT
BEGIN:VEVENT
UID:9806626@ezleagues.ezfacility.com
DTSTAMP:20260422T082650Z
CREATED:20260422T082650Z
DTSTART:20161119T163600Z
DTEND:20161119T172800Z
LOCATION:Field   ID 2
CONTACT:
SUMMARY:Locomotive Rangers GU9 VS. Royal Tigers
DESCRIPTION:League Name: Fall Indoor 2016 Girl's U-09\nGame Type: Regular\n
 Game Status: Complete\nHome Team: Locomotive Rangers GU9\nAway Team: Royal
  Tigers\nHome Score: 2\nAway Score: 9
END:VEVENT
BEGIN:VEVENT
UID:9806633@ezleagues.ezfacility.com
DTSTAMP:20260422T082650Z
CREATED:20260422T082650Z
DTSTART:20161126T163600Z
DTEND:20161126T172800Z
LOCATION:Field   ID 3
CONTACT:
SUMMARY:Kick'n Divas VS. Royal Tigers
DESCRIPTION:League Name: Fall Indoor 2016 Girl's U-09\nGame Type: Regular\n
 Game Status: Complete\nHome Team: Kick'n Divas\nAway Team: Royal Tigers\nH
 ome Score: 2\nAway Score: 5
END:VEVENT
BEGIN:VEVENT
UID:9806637@ezleagues.ezfacility.com
DTSTAMP:20260422T082650Z
CREATED:20260422T082650Z
DTSTART:20161203T163600Z
DTEND:20161203T172800Z
LOCATION:Field   ID 3
CONTACT:
SUMMARY:The Rocks VS. Royal Tigers
DESCRIPTION:League Name: Fall Indoor 2016 Girl's U-09\nGame Type: Regular\n
 Game Status: Complete\nHome Team: The Rocks\nAway Team: Royal Tigers\nHome
  Score: 1\nAway Score: 8
END:VEVENT
BEGIN:VEVENT
UID:9806644@ezleagues.ezfacility.com
DTSTAMP:20260422T082650Z
CREATED:20260422T082650Z
DTSTART:20161210T182000Z
DTEND:20161210T191200Z
LOCATION:Field   ID 2
CONTACT:
SUMMARY:Shooting Stars VS. Royal Tigers
DESCRIPTION:League Name: Fall Indoor 2016 Girl's U-09\nGame Type: Regular\n
 Game Status: Complete\nHome Team: Shooting Stars\nAway Team: Royal Tigers\
 nHome Score: 3\nAway Score: 4
END:VEVENT
BEGIN:VEVENT
UID:9806647@ezleagues.ezfacility.com
DTSTAMP:20260422T082650Z
CREATED:20260422T082650Z
DTSTART:20161216T222500Z
DTEND:20161216T231700Z
LOCATION:Field   ID 1
CONTACT:
SUMMARY:Royal Tigers VS. Rainbow Warriors
DESCRIPTION:League Name: Fall Indoor 2016 Girl's U-09\nGame Type: Regular\n
 Game Status: Complete\nHome Team: Royal Tigers\nAway Team: Rainbow Warrior
 s\nHome Score: 14\nAway Score: 0
END:VEVENT
BEGIN:VEVENT
UID:9806653@ezleagues.ezfacility.com
DTSTAMP:20260422T082650Z
CREATED:20260422T082650Z
DTSTART:20170107T163600Z
DTEND:20170107T172800Z
LOCATION:Field   ID 2
CONTACT:
SUMMARY:Royal Tigers VS. Kick'n Divas
DESCRIPTION:League Name: Fall Indoor 2016 Girl's U-09\nGame Type: Regular\n
 Game Status: Complete\nHome Team: Royal Tigers\nAway Team: Kick'n Divas\nH
 ome Score: 4\nAway Score: 3
END:VEVENT
BEGIN:VEVENT
UID:9806661@ezleagues.ezfacility.com
DTSTAMP:20260422T082650Z
CREATED:20260422T082650Z
DTSTART:20170113T222500Z
DTEND:20170113T231700Z
LOCATION:Field   ID 1
CONTACT:
SUMMARY:Royal Tigers VS. Club Ohio 08 Shamrocks
DESCRIPTION:League Name: Fall Indoor 2016 Girl's U-09\nGame Type: Regular\n
 Game Status: Complete\nHome Team: Royal Tigers\nAway Team: Club Ohio 08 Sh
 amrocks\nHome Score: 0\nAway Score: 3
END:VEVENT
BEGIN:VEVENT
UID:9806667@ezleagues.ezfacility.com
DTSTAMP:20260422T082650Z
CREATED:20260422T082650Z
DTSTART:20170114T172800Z
DTEND:20170114T182000Z
LOCATION:Field   ID 3
CONTACT:
SUMMARY:Royal Tigers VS. GC Jedi
DESCRIPTION:League Name: Fall Indoor 2016 Girl's U-09\nGame Type: Regular\n
 Game Status: Complete\nHome Team: Royal Tigers\nAway Team: GC Jedi\nHome S
 core: 3\nAway Score: 4
END:VEVENT
END:VCALENDAR
