BEGIN:VCALENDAR
VERSION:2.0
PRODID:-//EZFacility.com, Inc.//EZL 2.5.5.28621
BEGIN:VEVENT
UID:9818535@ezleagues.ezfacility.com
DTSTAMP:20260424T135632Z
CREATED:20260424T135632Z
DTSTART:20161110T005000Z
DTEND:20161110T014000Z
LOCATION:Jessup Premier Field #1
CONTACT:
SUMMARY:Blumpkins VS. FCJ
DESCRIPTION:League Name: Wed Mens Open 2nd div \nGame Type: Regular\nGame S
 tatus: Complete\nHome Team: Blumpkins\nAway Team: FCJ\nHome Score: 5\nAway
  Score: 6
END:VEVENT
BEGIN:VEVENT
UID:9818543@ezleagues.ezfacility.com
DTSTAMP:20260424T135632Z
CREATED:20260424T135632Z
DTSTART:20161117T032000Z
DTEND:20161117T041000Z
LOCATION:Jessup Premier Field #2
CONTACT:
SUMMARY:Toros Neza VS. Blumpkins
DESCRIPTION:League Name: Wed Mens Open 2nd div \nGame Type: Regular\nGame S
 tatus: Complete\nHome Team: Toros Neza\nAway Team: Blumpkins\nHome Score: 
 4\nAway Score: 4
END:VEVENT
BEGIN:VEVENT
UID:9818559@ezleagues.ezfacility.com
DTSTAMP:20260424T135632Z
CREATED:20260424T135632Z
DTSTART:20161201T023000Z
DTEND:20161201T032000Z
LOCATION:Jessup Premier Field #1
CONTACT:
SUMMARY:Brazil VS. Blumpkins
DESCRIPTION:League Name: Wed Mens Open 2nd div \nGame Type: Regular\nGame S
 tatus: Complete\nHome Team: Brazil\nAway Team: Blumpkins\nHome Score: 4\nA
 way Score: 6
END:VEVENT
BEGIN:VEVENT
UID:9818567@ezleagues.ezfacility.com
DTSTAMP:20260424T135632Z
CREATED:20260424T135632Z
DTSTART:20161208T000000Z
DTEND:20161208T005000Z
LOCATION:Jessup Premier Field #1
CONTACT:
SUMMARY:Kruger Industrial Smoothing VS. Blumpkins
DESCRIPTION:League Name: Wed Mens Open 2nd div \nGame Type: Regular\nGame S
 tatus: Complete\nHome Team: Kruger Industrial Smoothing\nAway Team: Blumpk
 ins\nHome Score: 2\nAway Score: 7
END:VEVENT
BEGIN:VEVENT
UID:9818575@ezleagues.ezfacility.com
DTSTAMP:20260424T135632Z
CREATED:20260424T135632Z
DTSTART:20161215T041000Z
DTEND:20161215T050000Z
LOCATION:Jessup Premier Field #2
CONTACT:
SUMMARY:Blumpkins VS. Real Play
DESCRIPTION:League Name: Wed Mens Open 2nd div \nGame Type: Regular\nGame S
 tatus: Complete\nHome Team: Blumpkins\nAway Team: Real Play\nHome Score: 4
 \nAway Score: 4
END:VEVENT
BEGIN:VEVENT
UID:9818583@ezleagues.ezfacility.com
DTSTAMP:20260424T135632Z
CREATED:20260424T135632Z
DTSTART:20161222T032000Z
DTEND:20161222T041000Z
LOCATION:Jessup Premier Field #2
CONTACT:
SUMMARY:Blumpkins VS. Cremas FC
DESCRIPTION:League Name: Wed Mens Open 2nd div \nGame Type: Regular\nGame S
 tatus: Complete\nHome Team: Blumpkins\nAway Team: Cremas FC\nHome Score: 2
 \nAway Score: 3
END:VEVENT
BEGIN:VEVENT
UID:9818551@ezleagues.ezfacility.com
DTSTAMP:20260424T135632Z
CREATED:20260424T135632Z
DTSTART:20170105T023000Z
DTEND:20170105T032000Z
LOCATION:Jessup Premier Field #1
CONTACT:
SUMMARY:Juventud VS. Blumpkins
DESCRIPTION:League Name: Wed Mens Open 2nd div \nGame Type: Regular\nGame S
 tatus: Complete\nHome Team: Juventud\nAway Team: Blumpkins\nHome Score: 5\
 nAway Score: 4
END:VEVENT
BEGIN:VEVENT
UID:10047030@ezleagues.ezfacility.com
DTSTAMP:20260424T135632Z
CREATED:20260424T135632Z
DTSTART:20170112T000000Z
DTEND:20170112T005000Z
LOCATION:Jessup Premier Field #1
CONTACT:
SUMMARY:Blumpkins VS. Cremas FC
DESCRIPTION:League Name: Wed Mens Open 2nd div \nGame Type: Regular\nGame S
 tatus: Complete\nHome Team: Blumpkins\nAway Team: Cremas FC\nHome Score: 3
 \nAway Score: 2
END:VEVENT
BEGIN:VEVENT
UID:10085622@ezleagues.ezfacility.com
DTSTAMP:20260424T135632Z
CREATED:20260424T135632Z
DTSTART:20170119T032000Z
DTEND:20170119T041000Z
LOCATION:Jessup Premier Field #1
CONTACT:
SUMMARY:Blumpkins VS. Kruger Industrial Smoothing
DESCRIPTION:League Name: Wed Mens Open 2nd div \nGame Type: Regular\nGame S
 tatus: Complete\nHome Team: Blumpkins\nAway Team: Kruger Industrial Smooth
 ing\nHome Score: 4\nAway Score: 3
END:VEVENT
END:VCALENDAR
