BEGIN:VCALENDAR
VERSION:2.0
PRODID:-//EZFacility.com, Inc.//EZL 2.5.5.28621
BEGIN:VEVENT
UID:9869637@ezleagues.ezfacility.com
DTSTAMP:20260421T193834Z
CREATED:20260421T193834Z
DTSTART:20161120T211000Z
DTEND:20161120T220000Z
LOCATION:INDOOR FIELD
CONTACT:
SUMMARY:Bend Research Inc. VS. Black Shoes
DESCRIPTION:League Name: Winter Adult Soccer-***FULL***Coed B League\nGame 
 Type: Regular\nGame Status: Complete\nHome Team: Bend Research Inc.\nAway 
 Team: Black Shoes\nHome Score: 9\nAway Score: 4
END:VEVENT
BEGIN:VEVENT
UID:9869655@ezleagues.ezfacility.com
DTSTAMP:20260421T193834Z
CREATED:20260421T193834Z
DTSTART:20161204T225000Z
DTEND:20161204T234000Z
LOCATION:INDOOR FIELD
CONTACT:
SUMMARY:Black Shoes VS. Ricky Ricardo
DESCRIPTION:League Name: Winter Adult Soccer-***FULL***Coed B League\nGame 
 Type: Regular\nGame Status: Complete\nHome Team: Black Shoes\nAway Team: R
 icky Ricardo\nHome Score: 4\nAway Score: 6
END:VEVENT
BEGIN:VEVENT
UID:9869664@ezleagues.ezfacility.com
DTSTAMP:20260421T193834Z
CREATED:20260421T193834Z
DTSTART:20161212T003000Z
DTEND:20161212T012000Z
LOCATION:INDOOR FIELD
CONTACT:
SUMMARY:Grace Bio-Lab Rats VS. Black Shoes
DESCRIPTION:League Name: Winter Adult Soccer-***FULL***Coed B League\nGame 
 Type: Regular\nGame Status: Complete\nHome Team: Grace Bio-Lab Rats\nAway 
 Team: Black Shoes\nHome Score: 5\nAway Score: 10
END:VEVENT
BEGIN:VEVENT
UID:9869673@ezleagues.ezfacility.com
DTSTAMP:20260421T193834Z
CREATED:20260421T193834Z
DTSTART:20161218T234000Z
DTEND:20161219T003000Z
LOCATION:INDOOR FIELD
CONTACT:
SUMMARY:Pobrecitos VS. Black Shoes
DESCRIPTION:League Name: Winter Adult Soccer-***FULL***Coed B League\nGame 
 Type: Regular\nGame Status: Complete\nHome Team: Pobrecitos\nAway Team: Bl
 ack Shoes\nHome Score: 2\nAway Score: 7
END:VEVENT
BEGIN:VEVENT
UID:9869646@ezleagues.ezfacility.com
DTSTAMP:20260421T193834Z
CREATED:20260421T193834Z
DTSTART:20170108T220000Z
DTEND:20170108T225000Z
LOCATION:INDOOR FIELD
CONTACT:
SUMMARY:Black Shoes VS. Fighting Gavins
DESCRIPTION:League Name: Winter Adult Soccer-***FULL***Coed B League\nGame 
 Type: Regular\nGame Status: Complete\nHome Team: Black Shoes\nAway Team: F
 ighting Gavins\nHome Score: 4\nAway Score: 9
END:VEVENT
BEGIN:VEVENT
UID:9869682@ezleagues.ezfacility.com
DTSTAMP:20260421T193834Z
CREATED:20260421T193834Z
DTSTART:20170115T225000Z
DTEND:20170115T234000Z
LOCATION:INDOOR FIELD
CONTACT:
SUMMARY:Black Shoes VS. P2P
DESCRIPTION:League Name: Winter Adult Soccer-***FULL***Coed B League\nGame 
 Type: Regular\nGame Status: Complete\nHome Team: Black Shoes\nAway Team: P
 2P\nHome Score: 5\nAway Score: 10
END:VEVENT
BEGIN:VEVENT
UID:9869691@ezleagues.ezfacility.com
DTSTAMP:20260421T193834Z
CREATED:20260421T193834Z
DTSTART:20170123T030000Z
DTEND:20170123T035000Z
LOCATION:INDOOR FIELD
CONTACT:
SUMMARY:Black Shoes VS. El Fungo
DESCRIPTION:League Name: Winter Adult Soccer-***FULL***Coed B League\nGame 
 Type: Regular\nGame Status: Pending\nHome Team: Black Shoes\nAway Team: El
  Fungo\n
END:VEVENT
BEGIN:VEVENT
UID:10131575@ezleagues.ezfacility.com
DTSTAMP:20260421T193834Z
CREATED:20260421T193834Z
DTSTART:20170130T013000Z
DTEND:20170130T015500Z
LOCATION:INDOOR FIELD
CONTACT:
SUMMARY:Black Shoes VS. Grace Bio-Lab Rats
DESCRIPTION:League Name: Winter Adult Soccer-***FULL***Coed B League\nGame 
 Type: Regular\nGame Status: Pending\nHome Team: Black Shoes\nAway Team: Gr
 ace Bio-Lab Rats\n
END:VEVENT
END:VCALENDAR
