BEGIN:VCALENDAR
VERSION:2.0
PRODID:-//EZFacility.com, Inc.//EZL 2.5.5.28621
BEGIN:VEVENT
UID:9869639@ezleagues.ezfacility.com
DTSTAMP:20260425T231159Z
CREATED:20260425T231159Z
DTSTART:20161120T225000Z
DTEND:20161120T234000Z
LOCATION:INDOOR FIELD
CONTACT:
SUMMARY:Brick House VS. Fighting Gavins
DESCRIPTION:League Name: Winter Adult Soccer-***FULL***Coed B League\nGame 
 Type: Regular\nGame Status: Complete\nHome Team: Brick House\nAway Team: F
 ighting Gavins\nHome Score: 2\nAway Score: 4
END:VEVENT
BEGIN:VEVENT
UID:9869657@ezleagues.ezfacility.com
DTSTAMP:20260425T231159Z
CREATED:20260425T231159Z
DTSTART:20161204T211000Z
DTEND:20161204T220000Z
LOCATION:INDOOR FIELD
CONTACT:
SUMMARY:Grace Bio-Lab Rats VS. Brick House
DESCRIPTION:League Name: Winter Adult Soccer-***FULL***Coed B League\nGame 
 Type: Regular\nGame Status: Complete\nHome Team: Grace Bio-Lab Rats\nAway 
 Team: Brick House\nHome Score: 7\nAway Score: 10
END:VEVENT
BEGIN:VEVENT
UID:9869666@ezleagues.ezfacility.com
DTSTAMP:20260425T231159Z
CREATED:20260425T231159Z
DTSTART:20161212T021000Z
DTEND:20161212T030000Z
LOCATION:INDOOR FIELD
CONTACT:
SUMMARY:Pobrecitos VS. Brick House
DESCRIPTION:League Name: Winter Adult Soccer-***FULL***Coed B League\nGame 
 Type: Regular\nGame Status: Complete\nHome Team: Pobrecitos\nAway Team: Br
 ick House\nHome Score: 6\nAway Score: 6
END:VEVENT
BEGIN:VEVENT
UID:9869675@ezleagues.ezfacility.com
DTSTAMP:20260425T231159Z
CREATED:20260425T231159Z
DTSTART:20161218T220000Z
DTEND:20161218T225000Z
LOCATION:INDOOR FIELD
CONTACT:
SUMMARY:Brick House VS. P2P
DESCRIPTION:League Name: Winter Adult Soccer-***FULL***Coed B League\nGame 
 Type: Regular\nGame Status: Complete\nHome Team: Brick House\nAway Team: P
 2P\nHome Score: 3\nAway Score: 5
END:VEVENT
BEGIN:VEVENT
UID:9869648@ezleagues.ezfacility.com
DTSTAMP:20260425T231159Z
CREATED:20260425T231159Z
DTSTART:20170108T234000Z
DTEND:20170109T003000Z
LOCATION:INDOOR FIELD
CONTACT:
SUMMARY:Brick House VS. Ricky Ricardo
DESCRIPTION:League Name: Winter Adult Soccer-***FULL***Coed B League\nGame 
 Type: Regular\nGame Status: Complete\nHome Team: Brick House\nAway Team: R
 icky Ricardo\nHome Score: 1\nAway Score: 0
END:VEVENT
BEGIN:VEVENT
UID:9869684@ezleagues.ezfacility.com
DTSTAMP:20260425T231159Z
CREATED:20260425T231159Z
DTSTART:20170116T021000Z
DTEND:20170116T030000Z
LOCATION:INDOOR FIELD
CONTACT:
SUMMARY:Brick House VS. El Fungo
DESCRIPTION:League Name: Winter Adult Soccer-***FULL***Coed B League\nGame 
 Type: Regular\nGame Status: Complete\nHome Team: Brick House\nAway Team: E
 l Fungo\nHome Score: 6\nAway Score: 9
END:VEVENT
BEGIN:VEVENT
UID:9869692@ezleagues.ezfacility.com
DTSTAMP:20260425T231159Z
CREATED:20260425T231159Z
DTSTART:20170123T012000Z
DTEND:20170123T021000Z
LOCATION:INDOOR FIELD
CONTACT:
SUMMARY:Benders VS. Brick House
DESCRIPTION:League Name: Winter Adult Soccer-***FULL***Coed B League\nGame 
 Type: Regular\nGame Status: Pending\nHome Team: Benders\nAway Team: Brick 
 House\n
END:VEVENT
BEGIN:VEVENT
UID:10131573@ezleagues.ezfacility.com
DTSTAMP:20260425T231159Z
CREATED:20260425T231159Z
DTSTART:20170130T004000Z
DTEND:20170130T010500Z
LOCATION:INDOOR FIELD
CONTACT:
SUMMARY:Dechutes Brewery VS. Brick House
DESCRIPTION:League Name: Winter Adult Soccer-***FULL***Coed B League\nGame 
 Type: Regular\nGame Status: Pending\nHome Team: Dechutes Brewery\nAway Tea
 m: Brick House\n
END:VEVENT
END:VCALENDAR
