BEGIN:VCALENDAR
VERSION:2.0
PRODID:-//EZFacility.com, Inc.//EZL 2.5.5.28621
BEGIN:VEVENT
UID:9869644@ezleagues.ezfacility.com
DTSTAMP:20260426T040905Z
CREATED:20260426T040905Z
DTSTART:20161120T234000Z
DTEND:20161121T003000Z
LOCATION:INDOOR FIELD
CONTACT:
SUMMARY:Pobrecitos VS. Sit or Quit
DESCRIPTION:League Name: Winter Adult Soccer-***FULL***Coed B League\nGame 
 Type: Regular\nGame Status: Complete\nHome Team: Pobrecitos\nAway Team: Si
 t or Quit\nHome Score: 7\nAway Score: 3
END:VEVENT
BEGIN:VEVENT
UID:9869659@ezleagues.ezfacility.com
DTSTAMP:20260426T040905Z
CREATED:20260426T040905Z
DTSTART:20161205T012000Z
DTEND:20161205T021000Z
LOCATION:INDOOR FIELD
CONTACT:
SUMMARY:Golden Retrievers VS. Pobrecitos
DESCRIPTION:League Name: Winter Adult Soccer-***FULL***Coed B League\nGame 
 Type: Regular\nGame Status: Complete\nHome Team: Golden Retrievers\nAway T
 eam: Pobrecitos\nHome Score: 2\nAway Score: 6
END:VEVENT
BEGIN:VEVENT
UID:9869666@ezleagues.ezfacility.com
DTSTAMP:20260426T040905Z
CREATED:20260426T040905Z
DTSTART:20161212T021000Z
DTEND:20161212T030000Z
LOCATION:INDOOR FIELD
CONTACT:
SUMMARY:Pobrecitos VS. Brick House
DESCRIPTION:League Name: Winter Adult Soccer-***FULL***Coed B League\nGame 
 Type: Regular\nGame Status: Complete\nHome Team: Pobrecitos\nAway Team: Br
 ick House\nHome Score: 6\nAway Score: 6
END:VEVENT
BEGIN:VEVENT
UID:9869673@ezleagues.ezfacility.com
DTSTAMP:20260426T040905Z
CREATED:20260426T040905Z
DTSTART:20161218T234000Z
DTEND:20161219T003000Z
LOCATION:INDOOR FIELD
CONTACT:
SUMMARY:Pobrecitos VS. Black Shoes
DESCRIPTION:League Name: Winter Adult Soccer-***FULL***Coed B League\nGame 
 Type: Regular\nGame Status: Complete\nHome Team: Pobrecitos\nAway Team: Bl
 ack Shoes\nHome Score: 2\nAway Score: 7
END:VEVENT
BEGIN:VEVENT
UID:9869652@ezleagues.ezfacility.com
DTSTAMP:20260426T040905Z
CREATED:20260426T040905Z
DTSTART:20170109T030000Z
DTEND:20170109T035000Z
LOCATION:INDOOR FIELD
CONTACT:
SUMMARY:The Crop Dusters VS. Pobrecitos
DESCRIPTION:League Name: Winter Adult Soccer-***FULL***Coed B League\nGame 
 Type: Regular\nGame Status: Complete\nHome Team: The Crop Dusters\nAway Te
 am: Pobrecitos\nHome Score: 6\nAway Score: 4
END:VEVENT
BEGIN:VEVENT
UID:9869680@ezleagues.ezfacility.com
DTSTAMP:20260426T040905Z
CREATED:20260426T040905Z
DTSTART:20170116T003000Z
DTEND:20170116T012000Z
LOCATION:INDOOR FIELD
CONTACT:
SUMMARY:Fighting Gavins VS. Pobrecitos
DESCRIPTION:League Name: Winter Adult Soccer-***FULL***Coed B League\nGame 
 Type: Regular\nGame Status: Complete\nHome Team: Fighting Gavins\nAway Tea
 m: Pobrecitos\nHome Score: 3\nAway Score: 4
END:VEVENT
BEGIN:VEVENT
UID:9869687@ezleagues.ezfacility.com
DTSTAMP:20260426T040905Z
CREATED:20260426T040905Z
DTSTART:20170122T220000Z
DTEND:20170122T225000Z
LOCATION:INDOOR FIELD
CONTACT:
SUMMARY:Ricky Ricardo VS. Pobrecitos
DESCRIPTION:League Name: Winter Adult Soccer-***FULL***Coed B League\nGame 
 Type: Regular\nGame Status: Pending\nHome Team: Ricky Ricardo\nAway Team: 
 Pobrecitos\n
END:VEVENT
BEGIN:VEVENT
UID:10131503@ezleagues.ezfacility.com
DTSTAMP:20260426T040905Z
CREATED:20260426T040905Z
DTSTART:20170129T213500Z
DTEND:20170129T220000Z
LOCATION:INDOOR FIELD
CONTACT:
SUMMARY:P2P VS. Pobrecitos
DESCRIPTION:League Name: Winter Adult Soccer-***FULL***Coed B League\nGame 
 Type: Regular\nGame Status: Pending\nHome Team: P2P\nAway Team: Pobrecitos
 \n
END:VEVENT
END:VCALENDAR
