BEGIN:VCALENDAR
VERSION:2.0
PRODID:-//EZFacility.com, Inc.//EZL 2.5.5.28621
BEGIN:VEVENT
UID:9888293@ezleagues.ezfacility.com
DTSTAMP:20260423T010510Z
CREATED:20260423T010510Z
DTSTART:20161205T220000Z
DTEND:20161205T230000Z
LOCATION:Jessup Premier Field #1
CONTACT:
SUMMARY:ASA Stars VS. CHEN 
DESCRIPTION:League Name: Youth (WINTER 1) SD1 M, T, W, F HS Boys 2nd Div\nG
 ame Type: Regular\nGame Status: Complete\nHome Team: ASA Stars\nAway Team:
  CHEN \nHome Score: 1\nAway Score: 3
END:VEVENT
BEGIN:VEVENT
UID:9888308@ezleagues.ezfacility.com
DTSTAMP:20260423T010510Z
CREATED:20260423T010510Z
DTSTART:20161216T230000Z
DTEND:20161217T000000Z
LOCATION:Jessup Premier Field #1
CONTACT:
SUMMARY:ASA Stars VS. Severna Park Arsenal
DESCRIPTION:League Name: Youth (WINTER 1) SD1 M, T, W, F HS Boys 2nd Div\nG
 ame Type: Regular\nGame Status: Complete\nHome Team: ASA Stars\nAway Team:
  Severna Park Arsenal\nHome Score: 2\nAway Score: 2
END:VEVENT
BEGIN:VEVENT
UID:9888278@ezleagues.ezfacility.com
DTSTAMP:20260423T010510Z
CREATED:20260423T010510Z
DTSTART:20161220T220000Z
DTEND:20161220T230000Z
LOCATION:Jessup Premier Field #2
CONTACT:
SUMMARY:ASA Stars VS. Saints FC
DESCRIPTION:League Name: Youth (WINTER 1) SD1 M, T, W, F HS Boys 2nd Div\nG
 ame Type: Regular\nGame Status: Complete\nHome Team: ASA Stars\nAway Team:
  Saints FC\nHome Score: 0\nAway Score: 3
END:VEVENT
BEGIN:VEVENT
UID:9888350@ezleagues.ezfacility.com
DTSTAMP:20260423T010510Z
CREATED:20260423T010510Z
DTSTART:20170102T230000Z
DTEND:20170103T000000Z
LOCATION:Jessup Premier Field #2
CONTACT:
SUMMARY:The Church of Philippi VS. ASA Stars
DESCRIPTION:League Name: Youth (WINTER 1) SD1 M, T, W, F HS Boys 2nd Div\nG
 ame Type: Regular\nGame Status: Complete\nHome Team: The Church of Philipp
 i\nAway Team: ASA Stars\nHome Score: 9\nAway Score: 5
END:VEVENT
BEGIN:VEVENT
UID:9888363@ezleagues.ezfacility.com
DTSTAMP:20260423T010510Z
CREATED:20260423T010510Z
DTSTART:20170111T230000Z
DTEND:20170112T000000Z
LOCATION:Jessup Premier Field #1
CONTACT:
SUMMARY:Catonsville Cobras VS. ASA Stars
DESCRIPTION:League Name: Youth (WINTER 1) SD1 M, T, W, F HS Boys 2nd Div\nG
 ame Type: Regular\nGame Status: Complete\nHome Team: Catonsville Cobras\nA
 way Team: ASA Stars\nHome Score: 3\nAway Score: 2
END:VEVENT
BEGIN:VEVENT
UID:9888376@ezleagues.ezfacility.com
DTSTAMP:20260423T010510Z
CREATED:20260423T010510Z
DTSTART:20170120T220000Z
DTEND:20170120T230000Z
LOCATION:Jessup Premier Field #1
CONTACT:
SUMMARY:T4T VS. ASA Stars
DESCRIPTION:League Name: Youth (WINTER 1) SD1 M, T, W, F HS Boys 2nd Div\nG
 ame Type: Regular\nGame Status: Complete\nHome Team: T4T\nAway Team: ASA S
 tars\nHome Score: 5\nAway Score: 0
END:VEVENT
BEGIN:VEVENT
UID:9888323@ezleagues.ezfacility.com
DTSTAMP:20260423T010510Z
CREATED:20260423T010510Z
DTSTART:20170123T220000Z
DTEND:20170123T230000Z
LOCATION:Jessup Premier Field #2
CONTACT:
SUMMARY:ASA Stars VS. FC Glen Burnie 2
DESCRIPTION:League Name: Youth (WINTER 1) SD1 M, T, W, F HS Boys 2nd Div\nG
 ame Type: Regular\nGame Status: Complete\nHome Team: ASA Stars\nAway Team:
  FC Glen Burnie 2\nHome Score: 4\nAway Score: 0
END:VEVENT
BEGIN:VEVENT
UID:9888337@ezleagues.ezfacility.com
DTSTAMP:20260423T010510Z
CREATED:20260423T010510Z
DTSTART:20170201T220000Z
DTEND:20170201T230000Z
LOCATION:Jessup Premier Field #2
CONTACT:
SUMMARY:Eagles VS. ASA Stars
DESCRIPTION:League Name: Youth (WINTER 1) SD1 M, T, W, F HS Boys 2nd Div\nG
 ame Type: Regular\nGame Status: Pending\nHome Team: Eagles\nAway Team: ASA
  Stars\n
END:VEVENT
END:VCALENDAR
