BEGIN:VCALENDAR
VERSION:2.0
PRODID:-//EZFacility.com, Inc.//EZL 2.5.5.28621
BEGIN:VEVENT
UID:9937872@ezleagues.ezfacility.com
DTSTAMP:20260426T033851Z
CREATED:20260426T033851Z
DTSTART:20161210T230500Z
DTEND:20161211T000000Z
LOCATION:Harmans Premier Field #4
CONTACT:
SUMMARY:Jay's Crew VS. Azteca Mix
DESCRIPTION:League Name: Coed Over 35 \nGame Type: Regular\nGame Status: Co
 mplete\nHome Team: Jay's Crew\nAway Team: Azteca Mix\nHome Score: 5\nAway 
 Score: 1
END:VEVENT
BEGIN:VEVENT
UID:9937868@ezleagues.ezfacility.com
DTSTAMP:20260426T033851Z
CREATED:20260426T033851Z
DTSTART:20161211T000000Z
DTEND:20161211T010000Z
LOCATION:Harmans Premier Field #5
CONTACT:
SUMMARY:Azul Grana VS. Azteca Mix
DESCRIPTION:League Name: Coed Over 35 \nGame Type: Regular\nGame Status: Co
 mplete\nHome Team: Azul Grana\nAway Team: Azteca Mix\nHome Score: 1\nAway 
 Score: 1
END:VEVENT
BEGIN:VEVENT
UID:9937876@ezleagues.ezfacility.com
DTSTAMP:20260426T033851Z
CREATED:20260426T033851Z
DTSTART:20161217T230500Z
DTEND:20161218T000000Z
LOCATION:Harmans Premier Field #4
CONTACT:
SUMMARY:Azteca Mix VS. Red Menace
DESCRIPTION:League Name: Coed Over 35 \nGame Type: Regular\nGame Status: Co
 mplete\nHome Team: Azteca Mix\nAway Team: Red Menace\nHome Score: 0\nAway 
 Score: 4
END:VEVENT
BEGIN:VEVENT
UID:9937883@ezleagues.ezfacility.com
DTSTAMP:20260426T033851Z
CREATED:20260426T033851Z
DTSTART:20170107T220500Z
DTEND:20170107T230000Z
LOCATION:Harmans Premier Field #4
CONTACT:
SUMMARY:Azteca Mix VS. Azul Grana
DESCRIPTION:League Name: Coed Over 35 \nGame Type: Regular\nGame Status: Co
 mplete\nHome Team: Azteca Mix\nAway Team: Azul Grana\nHome Score: 2\nAway 
 Score: 3
END:VEVENT
BEGIN:VEVENT
UID:9937887@ezleagues.ezfacility.com
DTSTAMP:20260426T033851Z
CREATED:20260426T033851Z
DTSTART:20170114T230500Z
DTEND:20170115T000000Z
LOCATION:Harmans Premier Field #4
CONTACT:
SUMMARY:Azteca Mix VS. Jay's Crew
DESCRIPTION:League Name: Coed Over 35 \nGame Type: Regular\nGame Status: Co
 mplete\nHome Team: Azteca Mix\nAway Team: Jay's Crew\nHome Score: 5\nAway 
 Score: 3
END:VEVENT
BEGIN:VEVENT
UID:9937879@ezleagues.ezfacility.com
DTSTAMP:20260426T033851Z
CREATED:20260426T033851Z
DTSTART:20170121T230500Z
DTEND:20170122T000000Z
LOCATION:Harmans Premier Field #4
CONTACT:
SUMMARY:FC Classico VS. Azteca Mix
DESCRIPTION:League Name: Coed Over 35 \nGame Type: Regular\nGame Status: Co
 mplete\nHome Team: FC Classico\nAway Team: Azteca Mix\nHome Score: 3\nAway
  Score: 6
END:VEVENT
BEGIN:VEVENT
UID:9937881@ezleagues.ezfacility.com
DTSTAMP:20260426T033851Z
CREATED:20260426T033851Z
DTSTART:20170128T230500Z
DTEND:20170129T000000Z
LOCATION:Harmans Premier Field #5
CONTACT:
SUMMARY:Soccer Soul VS. Azteca Mix
DESCRIPTION:League Name: Coed Over 35 \nGame Type: Regular\nGame Status: Co
 mplete\nHome Team: Soccer Soul\nAway Team: Azteca Mix\nHome Score: 2\nAway
  Score: 2
END:VEVENT
BEGIN:VEVENT
UID:10166469@ezleagues.ezfacility.com
DTSTAMP:20260426T033851Z
CREATED:20260426T033851Z
DTSTART:20170204T230500Z
DTEND:20170205T000500Z
LOCATION:Harmans Premier Field #5
CONTACT:
SUMMARY:Azteca Mix VS. FC Classico
DESCRIPTION:League Name: Coed Over 35 \nGame Type: Regular\nGame Status: Co
 mplete\nHome Team: Azteca Mix\nAway Team: FC Classico\nHome Score: 7\nAway
  Score: 5
END:VEVENT
BEGIN:VEVENT
UID:10185109@ezleagues.ezfacility.com
DTSTAMP:20260426T033851Z
CREATED:20260426T033851Z
DTSTART:20170211T230500Z
DTEND:20170212T000000Z
LOCATION:Harmans Premier Field #5
CONTACT:
SUMMARY:Azteca Mix VS. Red Menace
DESCRIPTION:League Name: Coed Over 35 \nGame Type: Regular\nGame Status: Co
 mplete\nHome Team: Azteca Mix\nAway Team: Red Menace\nHome Score: 5\nAway 
 Score: 2
END:VEVENT
END:VCALENDAR
