BEGIN:VCALENDAR
VERSION:2.0
PRODID:-//EZFacility.com, Inc.//EZL 2.5.5.28621
BEGIN:VEVENT
UID:9937869@ezleagues.ezfacility.com
DTSTAMP:20260424T044308Z
CREATED:20260424T044308Z
DTSTART:20161203T221000Z
DTEND:20161203T230500Z
LOCATION:Harmans Premier Field #4
CONTACT:
SUMMARY:FC Classico VS. Red Menace
DESCRIPTION:League Name: Coed Over 35 \nGame Type: Regular\nGame Status: Co
 mplete\nHome Team: FC Classico\nAway Team: Red Menace\nHome Score: 7\nAway
  Score: 2
END:VEVENT
BEGIN:VEVENT
UID:9937871@ezleagues.ezfacility.com
DTSTAMP:20260424T044308Z
CREATED:20260424T044308Z
DTSTART:20161210T230500Z
DTEND:20161211T000000Z
LOCATION:Harmans Premier Field #5
CONTACT:
SUMMARY:Azul Grana VS. FC Classico
DESCRIPTION:League Name: Coed Over 35 \nGame Type: Regular\nGame Status: Co
 mplete\nHome Team: Azul Grana\nAway Team: FC Classico\nHome Score: 3\nAway
  Score: 7
END:VEVENT
BEGIN:VEVENT
UID:9937884@ezleagues.ezfacility.com
DTSTAMP:20260424T044308Z
CREATED:20260424T044308Z
DTSTART:20170107T230500Z
DTEND:20170108T000000Z
LOCATION:Harmans Premier Field #5
CONTACT:
SUMMARY:Red Menace VS. FC Classico
DESCRIPTION:League Name: Coed Over 35 \nGame Type: Regular\nGame Status: Co
 mplete\nHome Team: Red Menace\nAway Team: FC Classico\nHome Score: 8\nAway
  Score: 6
END:VEVENT
BEGIN:VEVENT
UID:9937886@ezleagues.ezfacility.com
DTSTAMP:20260424T044308Z
CREATED:20260424T044308Z
DTSTART:20170114T230500Z
DTEND:20170115T000000Z
LOCATION:Harmans Premier Field #5
CONTACT:
SUMMARY:FC Classico VS. Azul Grana
DESCRIPTION:League Name: Coed Over 35 \nGame Type: Regular\nGame Status: Co
 mplete\nHome Team: FC Classico\nAway Team: Azul Grana\nHome Score: 2\nAway
  Score: 7
END:VEVENT
BEGIN:VEVENT
UID:9937879@ezleagues.ezfacility.com
DTSTAMP:20260424T044308Z
CREATED:20260424T044308Z
DTSTART:20170121T230500Z
DTEND:20170122T000000Z
LOCATION:Harmans Premier Field #4
CONTACT:
SUMMARY:FC Classico VS. Azteca Mix
DESCRIPTION:League Name: Coed Over 35 \nGame Type: Regular\nGame Status: Co
 mplete\nHome Team: FC Classico\nAway Team: Azteca Mix\nHome Score: 3\nAway
  Score: 6
END:VEVENT
BEGIN:VEVENT
UID:9968246@ezleagues.ezfacility.com
DTSTAMP:20260424T044308Z
CREATED:20260424T044308Z
DTSTART:20170128T220500Z
DTEND:20170128T230000Z
LOCATION:Harmans Premier Field #5
CONTACT:
SUMMARY:FC Classico VS. Soccer Soul
DESCRIPTION:League Name: Coed Over 35 \nGame Type: Regular\nGame Status: Co
 mplete\nHome Team: FC Classico\nAway Team: Soccer Soul\nHome Score: 3\nAwa
 y Score: 6
END:VEVENT
BEGIN:VEVENT
UID:9937882@ezleagues.ezfacility.com
DTSTAMP:20260424T044308Z
CREATED:20260424T044308Z
DTSTART:20170128T230500Z
DTEND:20170129T000000Z
LOCATION:Harmans Premier Field #4
CONTACT:
SUMMARY:Jay's Crew VS. FC Classico
DESCRIPTION:League Name: Coed Over 35 \nGame Type: Regular\nGame Status: Co
 mplete\nHome Team: Jay's Crew\nAway Team: FC Classico\nHome Score: 7\nAway
  Score: 2
END:VEVENT
BEGIN:VEVENT
UID:10166469@ezleagues.ezfacility.com
DTSTAMP:20260424T044308Z
CREATED:20260424T044308Z
DTSTART:20170204T230500Z
DTEND:20170205T000500Z
LOCATION:Harmans Premier Field #5
CONTACT:
SUMMARY:Azteca Mix VS. FC Classico
DESCRIPTION:League Name: Coed Over 35 \nGame Type: Regular\nGame Status: Co
 mplete\nHome Team: Azteca Mix\nAway Team: FC Classico\nHome Score: 7\nAway
  Score: 5
END:VEVENT
BEGIN:VEVENT
UID:10185107@ezleagues.ezfacility.com
DTSTAMP:20260424T044308Z
CREATED:20260424T044308Z
DTSTART:20170211T230500Z
DTEND:20170212T000000Z
LOCATION:Harmans Premier Field #4
CONTACT:
SUMMARY:FC Classico VS. Azul Grana
DESCRIPTION:League Name: Coed Over 35 \nGame Type: Regular\nGame Status: Co
 mplete\nHome Team: FC Classico\nAway Team: Azul Grana\nHome Score: 5\nAway
  Score: 5
END:VEVENT
END:VCALENDAR
