BEGIN:VCALENDAR
VERSION:2.0
PRODID:-//EZFacility.com, Inc.//EZL 2.5.5.28621
BEGIN:VEVENT
UID:9956100@ezleagues.ezfacility.com
DTSTAMP:20260424T044157Z
CREATED:20260424T044157Z
DTSTART:20161218T032000Z
DTEND:20161218T041000Z
LOCATION:Harmans Premier Field #5
CONTACT:
SUMMARY:Maraton VS. Seattle W.
DESCRIPTION:League Name: Sat Mens Open 1st div \nGame Type: Regular\nGame S
 tatus: Complete\nHome Team: Maraton\nAway Team: Seattle W.\nHome Score: 4\
 nAway Score: 8
END:VEVENT
BEGIN:VEVENT
UID:9956133@ezleagues.ezfacility.com
DTSTAMP:20260424T044157Z
CREATED:20260424T044157Z
DTSTART:20170108T032000Z
DTEND:20170108T041000Z
LOCATION:Harmans Premier Field #4
CONTACT:
SUMMARY:Seattle W. VS. CD Pumas
DESCRIPTION:League Name: Sat Mens Open 1st div \nGame Type: Regular\nGame S
 tatus: Complete\nHome Team: Seattle W.\nAway Team: CD Pumas\nHome Score: 7
 \nAway Score: 2
END:VEVENT
BEGIN:VEVENT
UID:9956146@ezleagues.ezfacility.com
DTSTAMP:20260424T044157Z
CREATED:20260424T044157Z
DTSTART:20170115T041000Z
DTEND:20170115T050000Z
LOCATION:Harmans Premier Field #4
CONTACT:
SUMMARY:Seattle W. VS. Deportivo Jalapa
DESCRIPTION:League Name: Sat Mens Open 1st div \nGame Type: Regular\nGame S
 tatus: Complete\nHome Team: Seattle W.\nAway Team: Deportivo Jalapa\nHome 
 Score: 3\nAway Score: 0
END:VEVENT
BEGIN:VEVENT
UID:9956159@ezleagues.ezfacility.com
DTSTAMP:20260424T044157Z
CREATED:20260424T044157Z
DTSTART:20170122T000000Z
DTEND:20170122T005000Z
LOCATION:Harmans Premier Field #5
CONTACT:
SUMMARY:Seattle W. VS. Los Motos
DESCRIPTION:League Name: Sat Mens Open 1st div \nGame Type: Regular\nGame S
 tatus: Complete\nHome Team: Seattle W.\nAway Team: Los Motos\nHome Score: 
 5\nAway Score: 5
END:VEVENT
BEGIN:VEVENT
UID:9956172@ezleagues.ezfacility.com
DTSTAMP:20260424T044157Z
CREATED:20260424T044157Z
DTSTART:20170129T032000Z
DTEND:20170129T041000Z
LOCATION:Harmans Premier Field #5
CONTACT:
SUMMARY:Seattle W. VS. Las Chivas
DESCRIPTION:League Name: Sat Mens Open 1st div \nGame Type: Regular\nGame S
 tatus: Complete\nHome Team: Seattle W.\nAway Team: Las Chivas\nHome Score:
  12\nAway Score: 0
END:VEVENT
BEGIN:VEVENT
UID:9956111@ezleagues.ezfacility.com
DTSTAMP:20260424T044157Z
CREATED:20260424T044157Z
DTSTART:20170205T032000Z
DTEND:20170205T041000Z
LOCATION:Harmans Premier Field #4
CONTACT:
SUMMARY:Chiapas FC VS. Seattle W.
DESCRIPTION:League Name: Sat Mens Open 1st div \nGame Type: Regular\nGame S
 tatus: Complete\nHome Team: Chiapas FC\nAway Team: Seattle W.\nHome Score:
  5\nAway Score: 2
END:VEVENT
BEGIN:VEVENT
UID:9956122@ezleagues.ezfacility.com
DTSTAMP:20260424T044157Z
CREATED:20260424T044157Z
DTSTART:20170212T005000Z
DTEND:20170212T014000Z
LOCATION:Harmans Premier Field #5
CONTACT:
SUMMARY:Maryland FC VS. Seattle W.
DESCRIPTION:League Name: Sat Mens Open 1st div \nGame Type: Regular\nGame S
 tatus: Complete\nHome Team: Maryland FC\nAway Team: Seattle W.\nHome Score
 : 5\nAway Score: 3
END:VEVENT
BEGIN:VEVENT
UID:10201352@ezleagues.ezfacility.com
DTSTAMP:20260424T044157Z
CREATED:20260424T044157Z
DTSTART:20170219T000000Z
DTEND:20170219T005000Z
LOCATION:Harmans Premier Field #4
CONTACT:
SUMMARY:Los Motos VS. Seattle W.
DESCRIPTION:League Name: Sat Mens Open 1st div \nGame Type: Regular\nGame S
 tatus: Complete\nHome Team: Los Motos\nAway Team: Seattle W.\nHome Score: 
 5\nAway Score: 7
END:VEVENT
BEGIN:VEVENT
UID:10224404@ezleagues.ezfacility.com
DTSTAMP:20260424T044157Z
CREATED:20260424T044157Z
DTSTART:20170226T030000Z
DTEND:20170226T040000Z
LOCATION:Harmans Premier Field #4
CONTACT:
SUMMARY:CD Pumas VS. Seattle W.
DESCRIPTION:League Name: Sat Mens Open 1st div \nGame Type: Regular\nGame S
 tatus: Complete\nHome Team: CD Pumas\nAway Team: Seattle W.\nHome Score: 2
 \nAway Score: 3
END:VEVENT
END:VCALENDAR
