BEGIN:VCALENDAR
VERSION:2.0
PRODID:-//EZFacility.com, Inc.//EZL 2.5.5.28621
BEGIN:VEVENT
UID:10136758@ezleagues.ezfacility.com
DTSTAMP:20260419T164304Z
CREATED:20260419T164304Z
DTSTART:20170207T220000Z
DTEND:20170207T230000Z
LOCATION:Jessup Premier Field #2
CONTACT:
SUMMARY:2002 SAC Boys United White VS. ASA S-Force
DESCRIPTION:League Name: Youth (WINTER 2) SD1 M, T, W, F HS Boys 2nd Div\nG
 ame Type: Regular\nGame Status: Complete\nHome Team: 2002 SAC Boys United 
 White\nAway Team: ASA S-Force\nHome Score: 1\nAway Score: 7
END:VEVENT
BEGIN:VEVENT
UID:10136772@ezleagues.ezfacility.com
DTSTAMP:20260419T164304Z
CREATED:20260419T164304Z
DTSTART:20170214T220000Z
DTEND:20170214T230000Z
LOCATION:Jessup Premier Field #1
CONTACT:
SUMMARY:2002 SAC Boys United White VS. Cougars
DESCRIPTION:League Name: Youth (WINTER 2) SD1 M, T, W, F HS Boys 2nd Div\nG
 ame Type: Regular\nGame Status: Complete\nHome Team: 2002 SAC Boys United 
 White\nAway Team: Cougars\nHome Score: 6\nAway Score: 2
END:VEVENT
BEGIN:VEVENT
UID:10136786@ezleagues.ezfacility.com
DTSTAMP:20260419T164304Z
CREATED:20260419T164304Z
DTSTART:20170224T230000Z
DTEND:20170225T000000Z
LOCATION:Jessup Premier Field #1
CONTACT:
SUMMARY:2002 SAC Boys United White VS. Eagles
DESCRIPTION:League Name: Youth (WINTER 2) SD1 M, T, W, F HS Boys 2nd Div\nG
 ame Type: Regular\nGame Status: Complete\nHome Team: 2002 SAC Boys United 
 White\nAway Team: Eagles\nHome Score: 3\nAway Score: 1
END:VEVENT
BEGIN:VEVENT
UID:10136800@ezleagues.ezfacility.com
DTSTAMP:20260419T164304Z
CREATED:20260419T164304Z
DTSTART:20170227T230000Z
DTEND:20170228T000000Z
LOCATION:Jessup Premier Field #1
CONTACT:
SUMMARY:Maryland Rush Nero Blue VS. 2002 SAC Boys United White
DESCRIPTION:League Name: Youth (WINTER 2) SD1 M, T, W, F HS Boys 2nd Div\nG
 ame Type: Regular\nGame Status: Complete\nHome Team: Maryland Rush Nero Bl
 ue\nAway Team: 2002 SAC Boys United White\nHome Score: 8\nAway Score: 2
END:VEVENT
BEGIN:VEVENT
UID:10136814@ezleagues.ezfacility.com
DTSTAMP:20260419T164304Z
CREATED:20260419T164304Z
DTSTART:20170307T220000Z
DTEND:20170307T230000Z
LOCATION:Jessup Premier Field #2
CONTACT:
SUMMARY:SP Arsenal VS. 2002 SAC Boys United White
DESCRIPTION:League Name: Youth (WINTER 2) SD1 M, T, W, F HS Boys 2nd Div\nG
 ame Type: Regular\nGame Status: Complete\nHome Team: SP Arsenal\nAway Team
 : 2002 SAC Boys United White\nHome Score: 8\nAway Score: 2
END:VEVENT
BEGIN:VEVENT
UID:10136828@ezleagues.ezfacility.com
DTSTAMP:20260419T164304Z
CREATED:20260419T164304Z
DTSTART:20170313T210000Z
DTEND:20170313T220000Z
LOCATION:Jessup Premier Field #2
CONTACT:
SUMMARY:T4T VS. 2002 SAC Boys United White
DESCRIPTION:League Name: Youth (WINTER 2) SD1 M, T, W, F HS Boys 2nd Div\nG
 ame Type: Regular\nGame Status: Complete\nHome Team: T4T\nAway Team: 2002 
 SAC Boys United White\nHome Score: 7\nAway Score: 1
END:VEVENT
BEGIN:VEVENT
UID:10136842@ezleagues.ezfacility.com
DTSTAMP:20260419T164304Z
CREATED:20260419T164304Z
DTSTART:20170320T220000Z
DTEND:20170320T230000Z
LOCATION:Jessup Premier Field #2
CONTACT:
SUMMARY:CHEN Silver VS. 2002 SAC Boys United White
DESCRIPTION:League Name: Youth (WINTER 2) SD1 M, T, W, F HS Boys 2nd Div\nG
 ame Type: Regular\nGame Status: Complete\nHome Team: CHEN Silver\nAway Tea
 m: 2002 SAC Boys United White\nHome Score: 8\nAway Score: 7
END:VEVENT
BEGIN:VEVENT
UID:10141187@ezleagues.ezfacility.com
DTSTAMP:20260419T164304Z
CREATED:20260419T164304Z
DTSTART:20170331T220000Z
DTEND:20170331T224800Z
LOCATION:Jessup Premier Field #2
CONTACT:
SUMMARY:ASA S-Force VS. 2002 SAC Boys United White
DESCRIPTION:League Name: Youth (WINTER 2) SD1 M, T, W, F HS Boys 2nd Div\nG
 ame Type: Regular\nGame Status: Complete\nHome Team: ASA S-Force\nAway Tea
 m: 2002 SAC Boys United White\nHome Score: 8\nAway Score: 3
END:VEVENT
END:VCALENDAR
