BEGIN:VCALENDAR
VERSION:2.0
PRODID:-//EZFacility.com, Inc.//EZL 2.5.5.28621
BEGIN:VEVENT
UID:10040210@ezleagues.ezfacility.com
DTSTAMP:20260424T044009Z
CREATED:20260424T044009Z
DTSTART:20170121T003000Z
DTEND:20170121T011000Z
LOCATION:zHuron Park Gym A
CONTACT:
SUMMARY:Cooksville Raptors VS. Cooksville Spurs
DESCRIPTION:League Name:  Basketball League For Youth- Huron Eastern\nGame 
 Type: Regular\nGame Status: Complete\nHome Team: Cooksville Raptors\nAway 
 Team: Cooksville Spurs\nHome Score: 29\nAway Score: 20
END:VEVENT
BEGIN:VEVENT
UID:10040212@ezleagues.ezfacility.com
DTSTAMP:20260424T044009Z
CREATED:20260424T044009Z
DTSTART:20170128T003000Z
DTEND:20170128T011000Z
LOCATION:zHuron Park Gym A
CONTACT:
SUMMARY:Cooksville Raptors VS. Cooksville Cavs
DESCRIPTION:League Name:  Basketball League For Youth- Huron Eastern\nGame 
 Type: Regular\nGame Status: Complete\nHome Team: Cooksville Raptors\nAway 
 Team: Cooksville Cavs\nHome Score: 28\nAway Score: 26
END:VEVENT
BEGIN:VEVENT
UID:10040214@ezleagues.ezfacility.com
DTSTAMP:20260424T044009Z
CREATED:20260424T044009Z
DTSTART:20170204T003000Z
DTEND:20170204T011000Z
LOCATION:zHuron Park Gym A
CONTACT:
SUMMARY:Cooksville Raptors VS. Cooksville Warriors
DESCRIPTION:League Name:  Basketball League For Youth- Huron Eastern\nGame 
 Type: Regular\nGame Status: Complete\nHome Team: Cooksville Raptors\nAway 
 Team: Cooksville Warriors\nHome Score: 27\nAway Score: 26
END:VEVENT
BEGIN:VEVENT
UID:10040219@ezleagues.ezfacility.com
DTSTAMP:20260424T044009Z
CREATED:20260424T044009Z
DTSTART:20170211T003000Z
DTEND:20170211T011000Z
LOCATION:zHuron Park Gym A
CONTACT:
SUMMARY:Cooksville Spurs VS. Cooksville Raptors
DESCRIPTION:League Name:  Basketball League For Youth- Huron Eastern\nGame 
 Type: Regular\nGame Status: Complete\nHome Team: Cooksville Spurs\nAway Te
 am: Cooksville Raptors\nHome Score: 37\nAway Score: 46
END:VEVENT
BEGIN:VEVENT
UID:10040223@ezleagues.ezfacility.com
DTSTAMP:20260424T044009Z
CREATED:20260424T044009Z
DTSTART:20170218T003000Z
DTEND:20170218T011000Z
LOCATION:zHuron Park Gym A
CONTACT:
SUMMARY:Cooksville Cavs VS. Cooksville Raptors
DESCRIPTION:League Name:  Basketball League For Youth- Huron Eastern\nGame 
 Type: Regular\nGame Status: Complete\nHome Team: Cooksville Cavs\nAway Tea
 m: Cooksville Raptors\nHome Score: 25\nAway Score: 22
END:VEVENT
BEGIN:VEVENT
UID:10040226@ezleagues.ezfacility.com
DTSTAMP:20260424T044009Z
CREATED:20260424T044009Z
DTSTART:20170225T003000Z
DTEND:20170225T011000Z
LOCATION:zHuron Park Gym A
CONTACT:
SUMMARY:Cooksville Warriors VS. Cooksville Raptors
DESCRIPTION:League Name:  Basketball League For Youth- Huron Eastern\nGame 
 Type: Regular\nGame Status: Complete\nHome Team: Cooksville Warriors\nAway
  Team: Cooksville Raptors\nHome Score: 0\nAway Score: 0
END:VEVENT
END:VCALENDAR
