BEGIN:VCALENDAR
VERSION:2.0
PRODID:-//EZFacility.com, Inc.//EZL 2.5.5.28621
BEGIN:VEVENT
UID:10045970@ezleagues.ezfacility.com
DTSTAMP:20260422T210641Z
CREATED:20260422T210641Z
DTSTART:20170116T002400Z
DTEND:20170116T011600Z
LOCATION:Field   ID 3
CONTACT:
SUMMARY:Crimson Crew VS. Eagles
DESCRIPTION:League Name: Winter Indoor 2017  Coed 0pen CORAL\nGame Type: Re
 gular\nGame Status: Complete\nHome Team: Crimson Crew\nAway Team: Eagles\n
 Home Score: 7\nAway Score: 4
END:VEVENT
BEGIN:VEVENT
UID:10081928@ezleagues.ezfacility.com
DTSTAMP:20260422T210641Z
CREATED:20260422T210641Z
DTSTART:20170122T233300Z
DTEND:20170123T002500Z
LOCATION:Field   ID 2
CONTACT:
SUMMARY:Fubar VS. Crimson Crew
DESCRIPTION:League Name: Winter Indoor 2017  Coed 0pen CORAL\nGame Type: Re
 gular\nGame Status: Complete\nHome Team: Fubar\nAway Team: Crimson Crew\nH
 ome Score: 3\nAway Score: 5
END:VEVENT
BEGIN:VEVENT
UID:10084568@ezleagues.ezfacility.com
DTSTAMP:20260422T210641Z
CREATED:20260422T210641Z
DTSTART:20170129T215100Z
DTEND:20170129T224300Z
LOCATION:Field   ID 3
CONTACT:
SUMMARY:Crimson Crew VS. Pedigree
DESCRIPTION:League Name: Winter Indoor 2017  Coed 0pen CORAL\nGame Type: Re
 gular\nGame Status: Complete\nHome Team: Crimson Crew\nAway Team: Pedigree
 \nHome Score: 2\nAway Score: 8
END:VEVENT
BEGIN:VEVENT
UID:10086008@ezleagues.ezfacility.com
DTSTAMP:20260422T210641Z
CREATED:20260422T210641Z
DTSTART:20170205T210000Z
DTEND:20170205T215200Z
LOCATION:Field   ID 2
CONTACT:
SUMMARY:Relegated VS. Crimson Crew
DESCRIPTION:League Name: Winter Indoor 2017  Coed 0pen CORAL\nGame Type: Re
 gular\nGame Status: Complete\nHome Team: Relegated\nAway Team: Crimson Cre
 w\nHome Score: 6\nAway Score: 3
END:VEVENT
BEGIN:VEVENT
UID:10086948@ezleagues.ezfacility.com
DTSTAMP:20260422T210641Z
CREATED:20260422T210641Z
DTSTART:20170213T025700Z
DTEND:20170213T034900Z
LOCATION:Field   ID 2
CONTACT:
SUMMARY:Crimson Crew VS. Scrubs
DESCRIPTION:League Name: Winter Indoor 2017  Coed 0pen CORAL\nGame Type: Re
 gular\nGame Status: Complete\nHome Team: Crimson Crew\nAway Team: Scrubs\n
 Home Score: 9\nAway Score: 3
END:VEVENT
BEGIN:VEVENT
UID:10109371@ezleagues.ezfacility.com
DTSTAMP:20260422T210641Z
CREATED:20260422T210641Z
DTSTART:20170219T185400Z
DTEND:20170219T194600Z
LOCATION:Field  FS 2
CONTACT:
SUMMARY:BBBB VS. Crimson Crew
DESCRIPTION:League Name: Winter Indoor 2017  Coed 0pen CORAL\nGame Type: Re
 gular\nGame Status: Complete\nHome Team: BBBB\nAway Team: Crimson Crew\nHo
 me Score: 4\nAway Score: 10
END:VEVENT
BEGIN:VEVENT
UID:10119715@ezleagues.ezfacility.com
DTSTAMP:20260422T210641Z
CREATED:20260422T210641Z
DTSTART:20170227T002400Z
DTEND:20170227T011600Z
LOCATION:Field   ID 3
CONTACT:
SUMMARY:Crimson Crew VS. Berkshire United
DESCRIPTION:League Name: Winter Indoor 2017  Coed 0pen CORAL\nGame Type: Re
 gular\nGame Status: Complete\nHome Team: Crimson Crew\nAway Team: Berkshir
 e United\nHome Score: 3\nAway Score: 4
END:VEVENT
BEGIN:VEVENT
UID:10121026@ezleagues.ezfacility.com
DTSTAMP:20260422T210641Z
CREATED:20260422T210641Z
DTSTART:20170305T210000Z
DTEND:20170305T215200Z
LOCATION:Field   ID 1
CONTACT:
SUMMARY:Blue Baracudas VS. Crimson Crew
DESCRIPTION:League Name: Winter Indoor 2017  Coed 0pen CORAL\nGame Type: Re
 gular\nGame Status: Complete\nHome Team: Blue Baracudas\nAway Team: Crimso
 n Crew\nHome Score: 4\nAway Score: 6
END:VEVENT
BEGIN:VEVENT
UID:10120578@ezleagues.ezfacility.com
DTSTAMP:20260422T210641Z
CREATED:20260422T210641Z
DTSTART:20170312T181800Z
DTEND:20170312T191000Z
LOCATION:Field   ID 3
CONTACT:
SUMMARY:Barcelona VS. Crimson Crew
DESCRIPTION:League Name: Winter Indoor 2017  Coed 0pen CORAL\nGame Type: Re
 gular\nGame Status: Complete\nHome Team: Barcelona\nAway Team: Crimson Cre
 w\nHome Score: 6\nAway Score: 5
END:VEVENT
END:VCALENDAR
