BEGIN:VCALENDAR
VERSION:2.0
PRODID:-//EZFacility.com, Inc.//EZL 2.5.5.28621
BEGIN:VEVENT
UID:10046031@ezleagues.ezfacility.com
DTSTAMP:20260424T044144Z
CREATED:20260424T044144Z
DTSTART:20170115T132100Z
DTEND:20170115T141300Z
LOCATION:Field   ID 2
CONTACT:
SUMMARY:Chaos VS. Green Dragons
DESCRIPTION:League Name: Winter Indoor 2017  Men's 40+\nGame Type: Regular\
 nGame Status: Complete\nHome Team: Chaos\nAway Team: Green Dragons\nHome S
 core: 6\nAway Score: 3
END:VEVENT
BEGIN:VEVENT
UID:10081820@ezleagues.ezfacility.com
DTSTAMP:20260424T044144Z
CREATED:20260424T044144Z
DTSTART:20170122T132100Z
DTEND:20170122T141300Z
LOCATION:Field   ID 2
CONTACT:
SUMMARY:Shamrock Rovers VS. Chaos
DESCRIPTION:League Name: Winter Indoor 2017  Men's 40+\nGame Type: Regular\
 nGame Status: Complete\nHome Team: Shamrock Rovers\nAway Team: Chaos\nHome
  Score: 3\nAway Score: 3
END:VEVENT
BEGIN:VEVENT
UID:10085894@ezleagues.ezfacility.com
DTSTAMP:20260424T044144Z
CREATED:20260424T044144Z
DTSTART:20170205T123000Z
DTEND:20170205T132200Z
LOCATION:Field   ID 3
CONTACT:
SUMMARY:Pounders VS. Chaos
DESCRIPTION:League Name: Winter Indoor 2017  Men's 40+\nGame Type: Regular\
 nGame Status: Complete\nHome Team: Pounders\nAway Team: Chaos\nHome Score:
  6\nAway Score: 5
END:VEVENT
BEGIN:VEVENT
UID:10085905@ezleagues.ezfacility.com
DTSTAMP:20260424T044144Z
CREATED:20260424T044144Z
DTSTART:20170212T132100Z
DTEND:20170212T141300Z
LOCATION:Field   ID 2
CONTACT:
SUMMARY:Chaos VS. Gigondas
DESCRIPTION:League Name: Winter Indoor 2017  Men's 40+\nGame Type: Regular\
 nGame Status: Complete\nHome Team: Chaos\nAway Team: Gigondas\nHome Score:
  6\nAway Score: 4
END:VEVENT
BEGIN:VEVENT
UID:10085912@ezleagues.ezfacility.com
DTSTAMP:20260424T044144Z
CREATED:20260424T044144Z
DTSTART:20170219T132100Z
DTEND:20170219T141300Z
LOCATION:Field   ID 3
CONTACT:
SUMMARY:Chaos VS. Golden Monkeys
DESCRIPTION:League Name: Winter Indoor 2017  Men's 40+\nGame Type: Regular\
 nGame Status: Complete\nHome Team: Chaos\nAway Team: Golden Monkeys\nHome 
 Score: 3\nAway Score: 5
END:VEVENT
BEGIN:VEVENT
UID:10085915@ezleagues.ezfacility.com
DTSTAMP:20260424T044144Z
CREATED:20260424T044144Z
DTSTART:20170226T123000Z
DTEND:20170226T132200Z
LOCATION:Field   ID 3
CONTACT:
SUMMARY:Chaos VS. United
DESCRIPTION:League Name: Winter Indoor 2017  Men's 40+\nGame Type: Regular\
 nGame Status: Complete\nHome Team: Chaos\nAway Team: United\nHome Score: 5
 \nAway Score: 4
END:VEVENT
BEGIN:VEVENT
UID:10085924@ezleagues.ezfacility.com
DTSTAMP:20260424T044144Z
CREATED:20260424T044144Z
DTSTART:20170305T123000Z
DTEND:20170305T132200Z
LOCATION:Field   ID 2
CONTACT:
SUMMARY:Chaos VS. Atrophy
DESCRIPTION:League Name: Winter Indoor 2017  Men's 40+\nGame Type: Regular\
 nGame Status: Complete\nHome Team: Chaos\nAway Team: Atrophy\nHome Score: 
 2\nAway Score: 11
END:VEVENT
BEGIN:VEVENT
UID:10085931@ezleagues.ezfacility.com
DTSTAMP:20260424T044144Z
CREATED:20260424T044144Z
DTSTART:20170312T113000Z
DTEND:20170312T122200Z
LOCATION:Field   ID 2
CONTACT:
SUMMARY:Lost Shepherd VS. Chaos
DESCRIPTION:League Name: Winter Indoor 2017  Men's 40+\nGame Type: Regular\
 nGame Status: Complete\nHome Team: Lost Shepherd\nAway Team: Chaos\nHome S
 core: 13\nAway Score: 4
END:VEVENT
BEGIN:VEVENT
UID:10120665@ezleagues.ezfacility.com
DTSTAMP:20260424T044144Z
CREATED:20260424T044144Z
DTSTART:20170319T122100Z
DTEND:20170319T131300Z
LOCATION:Field   ID 2
CONTACT:
SUMMARY:FUFC VS. Chaos
DESCRIPTION:League Name: Winter Indoor 2017  Men's 40+\nGame Type: Regular\
 nGame Status: Complete\nHome Team: FUFC\nAway Team: Chaos\nHome Score: 9\n
 Away Score: 4
END:VEVENT
END:VCALENDAR
