BEGIN:VCALENDAR
VERSION:2.0
PRODID:-//EZFacility.com, Inc.//EZL 2.5.5.28621
BEGIN:VEVENT
UID:10046032@ezleagues.ezfacility.com
DTSTAMP:20260424T043214Z
CREATED:20260424T043214Z
DTSTART:20170115T191800Z
DTEND:20170115T201000Z
LOCATION:Field   ID 3
CONTACT:
SUMMARY:Dirty Dishes VS. Me and the Revolution
DESCRIPTION:League Name: Winter Indoor 2017  Coed 0pen FERN\nGame Type: Reg
 ular\nGame Status: Complete\nHome Team: Dirty Dishes\nAway Team: Me and th
 e Revolution\nHome Score: 2\nAway Score: 4
END:VEVENT
BEGIN:VEVENT
UID:10081933@ezleagues.ezfacility.com
DTSTAMP:20260424T043214Z
CREATED:20260424T043214Z
DTSTART:20170122T200900Z
DTEND:20170122T210100Z
LOCATION:Field   ID 2
CONTACT:
SUMMARY:Me and the Revolution VS. Entrotech
DESCRIPTION:League Name: Winter Indoor 2017  Coed 0pen FERN\nGame Type: Reg
 ular\nGame Status: Complete\nHome Team: Me and the Revolution\nAway Team: 
 Entrotech\nHome Score: 4\nAway Score: 4
END:VEVENT
BEGIN:VEVENT
UID:10086023@ezleagues.ezfacility.com
DTSTAMP:20260424T043214Z
CREATED:20260424T043214Z
DTSTART:20170206T025700Z
DTEND:20170206T034900Z
LOCATION:Field   ID 1
CONTACT:
SUMMARY:Me and the Revolution VS. 1/2 Medcat
DESCRIPTION:League Name: Winter Indoor 2017  Coed 0pen FERN\nGame Type: Reg
 ular\nGame Status: Complete\nHome Team: Me and the Revolution\nAway Team: 
 1/2 Medcat\nHome Score: 2\nAway Score: 6
END:VEVENT
BEGIN:VEVENT
UID:10087029@ezleagues.ezfacility.com
DTSTAMP:20260424T043214Z
CREATED:20260424T043214Z
DTSTART:20170213T002400Z
DTEND:20170213T011600Z
LOCATION:Field   ID 2
CONTACT:
SUMMARY:Me and the Revolution VS. Nailed It
DESCRIPTION:League Name: Winter Indoor 2017  Coed 0pen FERN\nGame Type: Reg
 ular\nGame Status: Complete\nHome Team: Me and the Revolution\nAway Team: 
 Nailed It\nHome Score: 1\nAway Score: 4
END:VEVENT
BEGIN:VEVENT
UID:10109396@ezleagues.ezfacility.com
DTSTAMP:20260424T043214Z
CREATED:20260424T043214Z
DTSTART:20170219T233300Z
DTEND:20170220T002500Z
LOCATION:Field   ID 3
CONTACT:
SUMMARY:Savage FC VS. Me and the Revolution
DESCRIPTION:League Name: Winter Indoor 2017  Coed 0pen FERN\nGame Type: Reg
 ular\nGame Status: Complete\nHome Team: Savage FC\nAway Team: Me and the R
 evolution\nHome Score: 1\nAway Score: 6
END:VEVENT
BEGIN:VEVENT
UID:10119737@ezleagues.ezfacility.com
DTSTAMP:20260424T043214Z
CREATED:20260424T043214Z
DTSTART:20170226T200900Z
DTEND:20170226T210100Z
LOCATION:Field   ID 2
CONTACT:
SUMMARY:Me and the Revolution VS. Tropic Thunder
DESCRIPTION:League Name: Winter Indoor 2017  Coed 0pen FERN\nGame Type: Reg
 ular\nGame Status: Complete\nHome Team: Me and the Revolution\nAway Team: 
 Tropic Thunder\nHome Score: 1\nAway Score: 3
END:VEVENT
BEGIN:VEVENT
UID:10121036@ezleagues.ezfacility.com
DTSTAMP:20260424T043214Z
CREATED:20260424T043214Z
DTSTART:20170305T215100Z
DTEND:20170305T224300Z
LOCATION:Field   ID 1
CONTACT:
SUMMARY:Cosby's Quaaludes VS. Me and the Revolution
DESCRIPTION:League Name: Winter Indoor 2017  Coed 0pen FERN\nGame Type: Reg
 ular\nGame Status: Complete\nHome Team: Cosby's Quaaludes\nAway Team: Me a
 nd the Revolution\nHome Score: 8\nAway Score: 7
END:VEVENT
BEGIN:VEVENT
UID:10131760@ezleagues.ezfacility.com
DTSTAMP:20260424T043214Z
CREATED:20260424T043214Z
DTSTART:20170312T175100Z
DTEND:20170312T184300Z
LOCATION:Field  FS 2
CONTACT:
SUMMARY:Me and the Revolution VS. Court Street Elite
DESCRIPTION:League Name: Winter Indoor 2017  Coed 0pen FERN\nGame Type: Reg
 ular\nGame Status: Complete\nHome Team: Me and the Revolution\nAway Team: 
 Court Street Elite\nHome Score: 1\nAway Score: 8
END:VEVENT
BEGIN:VEVENT
UID:10120922@ezleagues.ezfacility.com
DTSTAMP:20260424T043214Z
CREATED:20260424T043214Z
DTSTART:20170319T163600Z
DTEND:20170319T172800Z
LOCATION:Field   ID 1
CONTACT:
SUMMARY:Funfetti VS. Me and the Revolution
DESCRIPTION:League Name: Winter Indoor 2017  Coed 0pen FERN\nGame Type: Reg
 ular\nGame Status: Complete\nHome Team: Funfetti\nAway Team: Me and the Re
 volution\nHome Score: 2\nAway Score: 5
END:VEVENT
END:VCALENDAR
