BEGIN:VCALENDAR
VERSION:2.0
PRODID:-//EZFacility.com, Inc.//EZL 2.5.5.28621
BEGIN:VEVENT
UID:10046033@ezleagues.ezfacility.com
DTSTAMP:20260424T044017Z
CREATED:20260424T044017Z
DTSTART:20170115T224200Z
DTEND:20170115T233400Z
LOCATION:Field   ID 3
CONTACT:
SUMMARY:Cosby's Quaaludes VS. Savage FC
DESCRIPTION:League Name: Winter Indoor 2017  Coed 0pen FERN\nGame Type: Reg
 ular\nGame Status: Complete\nHome Team: Cosby's Quaaludes\nAway Team: Sava
 ge FC\nHome Score: 16\nAway Score: 4
END:VEVENT
BEGIN:VEVENT
UID:10084444@ezleagues.ezfacility.com
DTSTAMP:20260424T044017Z
CREATED:20260424T044017Z
DTSTART:20170129T233300Z
DTEND:20170130T002500Z
LOCATION:Field   ID 1
CONTACT:
SUMMARY:1/2 Medcat VS. Cosby's Quaaludes
DESCRIPTION:League Name: Winter Indoor 2017  Coed 0pen FERN\nGame Type: Reg
 ular\nGame Status: Complete\nHome Team: 1/2 Medcat\nAway Team: Cosby's Qua
 aludes\nHome Score: 0\nAway Score: 3
END:VEVENT
BEGIN:VEVENT
UID:10086021@ezleagues.ezfacility.com
DTSTAMP:20260424T044017Z
CREATED:20260424T044017Z
DTSTART:20170205T215100Z
DTEND:20170205T224300Z
LOCATION:Field   ID 2
CONTACT:
SUMMARY:Cosby's Quaaludes VS. Court Street Elite
DESCRIPTION:League Name: Winter Indoor 2017  Coed 0pen FERN\nGame Type: Reg
 ular\nGame Status: Complete\nHome Team: Cosby's Quaaludes\nAway Team: Cour
 t Street Elite\nHome Score: 5\nAway Score: 9
END:VEVENT
BEGIN:VEVENT
UID:10087030@ezleagues.ezfacility.com
DTSTAMP:20260424T044017Z
CREATED:20260424T044017Z
DTSTART:20170213T020600Z
DTEND:20170213T025800Z
LOCATION:Field   ID 3
CONTACT:
SUMMARY:Dirty Dishes VS. Cosby's Quaaludes
DESCRIPTION:League Name: Winter Indoor 2017  Coed 0pen FERN\nGame Type: Reg
 ular\nGame Status: Complete\nHome Team: Dirty Dishes\nAway Team: Cosby's Q
 uaaludes\nHome Score: 5\nAway Score: 11
END:VEVENT
BEGIN:VEVENT
UID:10109389@ezleagues.ezfacility.com
DTSTAMP:20260424T044017Z
CREATED:20260424T044017Z
DTSTART:20170219T200900Z
DTEND:20170219T210100Z
LOCATION:Field   ID 2
CONTACT:
SUMMARY:Cosby's Quaaludes VS. Entrotech
DESCRIPTION:League Name: Winter Indoor 2017  Coed 0pen FERN\nGame Type: Reg
 ular\nGame Status: Complete\nHome Team: Cosby's Quaaludes\nAway Team: Entr
 otech\nHome Score: 5\nAway Score: 4
END:VEVENT
BEGIN:VEVENT
UID:10119739@ezleagues.ezfacility.com
DTSTAMP:20260424T044017Z
CREATED:20260424T044017Z
DTSTART:20170226T224200Z
DTEND:20170226T233400Z
LOCATION:Field   ID 3
CONTACT:
SUMMARY:Funfetti VS. Cosby's Quaaludes
DESCRIPTION:League Name: Winter Indoor 2017  Coed 0pen FERN\nGame Type: Reg
 ular\nGame Status: Complete\nHome Team: Funfetti\nAway Team: Cosby's Quaal
 udes\nHome Score: 4\nAway Score: 7
END:VEVENT
BEGIN:VEVENT
UID:10121036@ezleagues.ezfacility.com
DTSTAMP:20260424T044017Z
CREATED:20260424T044017Z
DTSTART:20170305T215100Z
DTEND:20170305T224300Z
LOCATION:Field   ID 1
CONTACT:
SUMMARY:Cosby's Quaaludes VS. Me and the Revolution
DESCRIPTION:League Name: Winter Indoor 2017  Coed 0pen FERN\nGame Type: Reg
 ular\nGame Status: Complete\nHome Team: Cosby's Quaaludes\nAway Team: Me a
 nd the Revolution\nHome Score: 8\nAway Score: 7
END:VEVENT
BEGIN:VEVENT
UID:10120628@ezleagues.ezfacility.com
DTSTAMP:20260424T044017Z
CREATED:20260424T044017Z
DTSTART:20170312T214200Z
DTEND:20170312T223400Z
LOCATION:Field   ID 2
CONTACT:
SUMMARY:Nailed It VS. Cosby's Quaaludes
DESCRIPTION:League Name: Winter Indoor 2017  Coed 0pen FERN\nGame Type: Reg
 ular\nGame Status: Complete\nHome Team: Nailed It\nAway Team: Cosby's Quaa
 ludes\nHome Score: 5\nAway Score: 6
END:VEVENT
BEGIN:VEVENT
UID:10131752@ezleagues.ezfacility.com
DTSTAMP:20260424T044017Z
CREATED:20260424T044017Z
DTSTART:20170319T214200Z
DTEND:20170319T223400Z
LOCATION:Field   ID 2
CONTACT:
SUMMARY:Tropic Thunder VS. Cosby's Quaaludes
DESCRIPTION:League Name: Winter Indoor 2017  Coed 0pen FERN\nGame Type: Reg
 ular\nGame Status: Complete\nHome Team: Tropic Thunder\nAway Team: Cosby's
  Quaaludes\nHome Score: 3\nAway Score: 4
END:VEVENT
END:VCALENDAR
