BEGIN:VCALENDAR
VERSION:2.0
PRODID:-//EZFacility.com, Inc.//EZL 2.5.5.28621
BEGIN:VEVENT
UID:10046129@ezleagues.ezfacility.com
DTSTAMP:20260421T120242Z
CREATED:20260421T120242Z
DTSTART:20170115T150300Z
DTEND:20170115T155500Z
LOCATION:Field   ID 2
CONTACT:
SUMMARY:Grandview Bobcats VS. Look Ma\, No Hands!
DESCRIPTION:League Name: Winter Indoor 2017 Boy's U-11 - South\nGame Type: 
 Regular\nGame Status: Complete\nHome Team: Grandview Bobcats\nAway Team: L
 ook Ma, No Hands!\nHome Score: 7\nAway Score: 3
END:VEVENT
BEGIN:VEVENT
UID:10081865@ezleagues.ezfacility.com
DTSTAMP:20260421T120242Z
CREATED:20260421T120242Z
DTSTART:20170122T155400Z
DTEND:20170122T164600Z
LOCATION:Field   ID 2
CONTACT:
SUMMARY:Look Ma\, No Hands! VS. Strikers
DESCRIPTION:League Name: Winter Indoor 2017 Boy's U-11 - South\nGame Type: 
 Regular\nGame Status: Complete\nHome Team: Look Ma, No Hands!\nAway Team: 
 Strikers\nHome Score: 4\nAway Score: 10
END:VEVENT
BEGIN:VEVENT
UID:10085978@ezleagues.ezfacility.com
DTSTAMP:20260421T120242Z
CREATED:20260421T120242Z
DTSTART:20170205T173600Z
DTEND:20170205T182800Z
LOCATION:Field   ID 2
CONTACT:
SUMMARY:Look Ma\, No Hands! VS. SF Academy 11 Boys
DESCRIPTION:League Name: Winter Indoor 2017 Boy's U-11 - South\nGame Type: 
 Regular\nGame Status: Complete\nHome Team: Look Ma, No Hands!\nAway Team: 
 SF Academy 11 Boys\nHome Score: 3\nAway Score: 12
END:VEVENT
BEGIN:VEVENT
UID:10097674@ezleagues.ezfacility.com
DTSTAMP:20260421T120242Z
CREATED:20260421T120242Z
DTSTART:20170207T231200Z
DTEND:20170208T000400Z
LOCATION:Field   ID 2
CONTACT:
SUMMARY:Look Ma\, No Hands! VS. Club Brazil
DESCRIPTION:League Name: Winter Indoor 2017 Boy's U-11 - South\nGame Type: 
 Regular\nGame Status: Complete\nHome Team: Look Ma, No Hands!\nAway Team: 
 Club Brazil\nHome Score: 4\nAway Score: 7
END:VEVENT
BEGIN:VEVENT
UID:10086905@ezleagues.ezfacility.com
DTSTAMP:20260421T120242Z
CREATED:20260421T120242Z
DTSTART:20170212T164500Z
DTEND:20170212T173700Z
LOCATION:Field   ID 3
CONTACT:
SUMMARY:Olimpia USA VS. Look Ma\, No Hands!
DESCRIPTION:League Name: Winter Indoor 2017 Boy's U-11 - South\nGame Type: 
 Regular\nGame Status: Complete\nHome Team: Olimpia USA\nAway Team: Look Ma
 , No Hands!\nHome Score: 14\nAway Score: 1
END:VEVENT
BEGIN:VEVENT
UID:10097454@ezleagues.ezfacility.com
DTSTAMP:20260421T120242Z
CREATED:20260421T120242Z
DTSTART:20170219T173600Z
DTEND:20170219T182800Z
LOCATION:Field   ID 2
CONTACT:
SUMMARY:Look Ma\, No Hands! VS. Grandview Bobcats
DESCRIPTION:League Name: Winter Indoor 2017 Boy's U-11 - South\nGame Type: 
 Regular\nGame Status: Complete\nHome Team: Look Ma, No Hands!\nAway Team: 
 Grandview Bobcats\nHome Score: 3\nAway Score: 0
END:VEVENT
BEGIN:VEVENT
UID:10119637@ezleagues.ezfacility.com
DTSTAMP:20260421T120242Z
CREATED:20260421T120242Z
DTSTART:20170226T161800Z
DTEND:20170226T171000Z
LOCATION:Field  FS 2
CONTACT:
SUMMARY:Strikers VS. Look Ma\, No Hands!
DESCRIPTION:League Name: Winter Indoor 2017 Boy's U-11 - South\nGame Type: 
 Regular\nGame Status: Complete\nHome Team: Strikers\nAway Team: Look Ma, N
 o Hands!\nHome Score: 9\nAway Score: 7
END:VEVENT
BEGIN:VEVENT
UID:10097460@ezleagues.ezfacility.com
DTSTAMP:20260421T120242Z
CREATED:20260421T120242Z
DTSTART:20170314T212100Z
DTEND:20170314T221300Z
LOCATION:Field   ID 2
CONTACT:
SUMMARY:Dublin United River Livey VS. Look Ma\, No Hands!
DESCRIPTION:League Name: Winter Indoor 2017 Boy's U-11 - South\nGame Type: 
 Regular\nGame Status: Complete\nHome Team: Dublin United River Livey\nAway
  Team: Look Ma, No Hands!\nHome Score: 8\nAway Score: 7
END:VEVENT
BEGIN:VEVENT
UID:10120856@ezleagues.ezfacility.com
DTSTAMP:20260421T120242Z
CREATED:20260421T120242Z
DTSTART:20170319T140300Z
DTEND:20170319T145500Z
LOCATION:Field   ID 2
CONTACT:
SUMMARY:Look Ma\, No Hands! VS. Club Brazil
DESCRIPTION:League Name: Winter Indoor 2017 Boy's U-11 - South\nGame Type: 
 Regular\nGame Status: Complete\nHome Team: Look Ma, No Hands!\nAway Team: 
 Club Brazil\nHome Score: 3\nAway Score: 9
END:VEVENT
END:VCALENDAR
