BEGIN:VCALENDAR
VERSION:2.0
PRODID:-//EZFacility.com, Inc.//EZL 2.5.5.28621
BEGIN:VEVENT
UID:10046168@ezleagues.ezfacility.com
DTSTAMP:20260424T044042Z
CREATED:20260424T044042Z
DTSTART:20170115T200900Z
DTEND:20170115T210100Z
LOCATION:Field   ID 3
CONTACT:
SUMMARY:Ourselves VS. Sparkling Pixies
DESCRIPTION:League Name: Winter Indoor 2017  Coed 0pen JADE\nGame Type: Reg
 ular\nGame Status: Complete\nHome Team: Ourselves\nAway Team: Sparkling Pi
 xies\nHome Score: 2\nAway Score: 3
END:VEVENT
BEGIN:VEVENT
UID:10081943@ezleagues.ezfacility.com
DTSTAMP:20260424T044042Z
CREATED:20260424T044042Z
DTSTART:20170122T200900Z
DTEND:20170122T210100Z
LOCATION:Field   ID 1
CONTACT:
SUMMARY:San Diego Fuego VS. Ourselves
DESCRIPTION:League Name: Winter Indoor 2017  Coed 0pen JADE\nGame Type: Reg
 ular\nGame Status: Complete\nHome Team: San Diego Fuego\nAway Team: Oursel
 ves\nHome Score: 5\nAway Score: 4
END:VEVENT
BEGIN:VEVENT
UID:10084390@ezleagues.ezfacility.com
DTSTAMP:20260424T044042Z
CREATED:20260424T044042Z
DTSTART:20170129T191800Z
DTEND:20170129T201000Z
LOCATION:Field   ID 1
CONTACT:
SUMMARY:Ourselves VS. THFC Lady Wildcats
DESCRIPTION:League Name: Winter Indoor 2017  Coed 0pen JADE\nGame Type: Reg
 ular\nGame Status: Complete\nHome Team: Ourselves\nAway Team: THFC Lady Wi
 ldcats\nHome Score: 2\nAway Score: 7
END:VEVENT
BEGIN:VEVENT
UID:10086059@ezleagues.ezfacility.com
DTSTAMP:20260424T044042Z
CREATED:20260424T044042Z
DTSTART:20170206T002400Z
DTEND:20170206T011600Z
LOCATION:Field   ID 2
CONTACT:
SUMMARY:Tide VS. Ourselves
DESCRIPTION:League Name: Winter Indoor 2017  Coed 0pen JADE\nGame Type: Reg
 ular\nGame Status: Complete\nHome Team: Tide\nAway Team: Ourselves\nHome S
 core: 8\nAway Score: 2
END:VEVENT
BEGIN:VEVENT
UID:10087075@ezleagues.ezfacility.com
DTSTAMP:20260424T044042Z
CREATED:20260424T044042Z
DTSTART:20170212T233300Z
DTEND:20170213T002500Z
LOCATION:Field   ID 3
CONTACT:
SUMMARY:Ourselves VS. Tony Hogan FC
DESCRIPTION:League Name: Winter Indoor 2017  Coed 0pen JADE\nGame Type: Reg
 ular\nGame Status: Complete\nHome Team: Ourselves\nAway Team: Tony Hogan F
 C\nHome Score: 7\nAway Score: 8
END:VEVENT
BEGIN:VEVENT
UID:10109448@ezleagues.ezfacility.com
DTSTAMP:20260424T044042Z
CREATED:20260424T044042Z
DTSTART:20170219T170900Z
DTEND:20170219T180100Z
LOCATION:Field  FS 2
CONTACT:
SUMMARY:Chafing The Dream VS. Ourselves
DESCRIPTION:League Name: Winter Indoor 2017  Coed 0pen JADE\nGame Type: Reg
 ular\nGame Status: Complete\nHome Team: Chafing The Dream\nAway Team: Ours
 elves\nHome Score: 10\nAway Score: 3
END:VEVENT
BEGIN:VEVENT
UID:10119802@ezleagues.ezfacility.com
DTSTAMP:20260424T044042Z
CREATED:20260424T044042Z
DTSTART:20170227T020600Z
DTEND:20170227T025800Z
LOCATION:Field   ID 3
CONTACT:
SUMMARY:Ourselves VS. Figliolands
DESCRIPTION:League Name: Winter Indoor 2017  Coed 0pen JADE\nGame Type: Reg
 ular\nGame Status: Complete\nHome Team: Ourselves\nAway Team: Figliolands\
 nHome Score: 4\nAway Score: 5
END:VEVENT
BEGIN:VEVENT
UID:10121017@ezleagues.ezfacility.com
DTSTAMP:20260424T044042Z
CREATED:20260424T044042Z
DTSTART:20170306T025700Z
DTEND:20170306T034900Z
LOCATION:Field   ID 2
CONTACT:
SUMMARY:Gunners VS. Ourselves
DESCRIPTION:League Name: Winter Indoor 2017  Coed 0pen JADE\nGame Type: Reg
 ular\nGame Status: Complete\nHome Team: Gunners\nAway Team: Ourselves\nHom
 e Score: 7\nAway Score: 8
END:VEVENT
BEGIN:VEVENT
UID:10120620@ezleagues.ezfacility.com
DTSTAMP:20260424T044042Z
CREATED:20260424T044042Z
DTSTART:20170312T232400Z
DTEND:20170313T001600Z
LOCATION:Field   ID 2
CONTACT:
SUMMARY:Beer Barrel VS. Ourselves
DESCRIPTION:League Name: Winter Indoor 2017  Coed 0pen JADE\nGame Type: Reg
 ular\nGame Status: Complete\nHome Team: Beer Barrel\nAway Team: Ourselves\
 nHome Score: 9\nAway Score: 2
END:VEVENT
END:VCALENDAR
