BEGIN:VCALENDAR
VERSION:2.0
PRODID:-//EZFacility.com, Inc.//EZL 2.5.5.28621
BEGIN:VEVENT
UID:10046177@ezleagues.ezfacility.com
DTSTAMP:20260426T033708Z
CREATED:20260426T033708Z
DTSTART:20170115T215100Z
DTEND:20170115T224300Z
LOCATION:Field   ID 1
CONTACT:
SUMMARY:Positional Awareness VS. Wii Not Fit
DESCRIPTION:League Name: Winter Indoor 2017  Coed 0pen KELLY\nGame Type: Re
 gular\nGame Status: Complete\nHome Team: Positional Awareness\nAway Team: 
 Wii Not Fit\nHome Score: 5\nAway Score: 1
END:VEVENT
BEGIN:VEVENT
UID:10081947@ezleagues.ezfacility.com
DTSTAMP:20260426T033708Z
CREATED:20260426T033708Z
DTSTART:20170122T210000Z
DTEND:20170122T215200Z
LOCATION:Field   ID 1
CONTACT:
SUMMARY:Wii Not Fit VS. Backstretch
DESCRIPTION:League Name: Winter Indoor 2017  Coed 0pen KELLY\nGame Type: Re
 gular\nGame Status: Complete\nHome Team: Wii Not Fit\nAway Team: Backstret
 ch\nHome Score: 5\nAway Score: 8
END:VEVENT
BEGIN:VEVENT
UID:10084450@ezleagues.ezfacility.com
DTSTAMP:20260426T033708Z
CREATED:20260426T033708Z
DTSTART:20170129T233300Z
DTEND:20170130T002500Z
LOCATION:Field   ID 3
CONTACT:
SUMMARY:JV Heros VS. Wii Not Fit
DESCRIPTION:League Name: Winter Indoor 2017  Coed 0pen KELLY\nGame Type: Re
 gular\nGame Status: Complete\nHome Team: JV Heros\nAway Team: Wii Not Fit\
 nHome Score: 10\nAway Score: 7
END:VEVENT
BEGIN:VEVENT
UID:10085991@ezleagues.ezfacility.com
DTSTAMP:20260426T033708Z
CREATED:20260426T033708Z
DTSTART:20170205T224200Z
DTEND:20170205T233400Z
LOCATION:Field   ID 1
CONTACT:
SUMMARY:Wii Not Fit VS. Off In The Woods
DESCRIPTION:League Name: Winter Indoor 2017  Coed 0pen KELLY\nGame Type: Re
 gular\nGame Status: Complete\nHome Team: Wii Not Fit\nAway Team: Off In Th
 e Woods\nHome Score: 2\nAway Score: 2
END:VEVENT
BEGIN:VEVENT
UID:10087080@ezleagues.ezfacility.com
DTSTAMP:20260426T033708Z
CREATED:20260426T033708Z
DTSTART:20170212T182700Z
DTEND:20170212T191900Z
LOCATION:Field   ID 1
CONTACT:
SUMMARY:Packed RBC's VS. Wii Not Fit
DESCRIPTION:League Name: Winter Indoor 2017  Coed 0pen KELLY\nGame Type: Re
 gular\nGame Status: Complete\nHome Team: Packed RBC's\nAway Team: Wii Not 
 Fit\nHome Score: 8\nAway Score: 3
END:VEVENT
BEGIN:VEVENT
UID:10109455@ezleagues.ezfacility.com
DTSTAMP:20260426T033708Z
CREATED:20260426T033708Z
DTSTART:20170219T233300Z
DTEND:20170220T002500Z
LOCATION:Field   ID 1
CONTACT:
SUMMARY:Wii Not Fit VS. Paris St. Germain
DESCRIPTION:League Name: Winter Indoor 2017  Coed 0pen KELLY\nGame Type: Re
 gular\nGame Status: Complete\nHome Team: Wii Not Fit\nAway Team: Paris St.
  Germain\nHome Score: 2\nAway Score: 8
END:VEVENT
BEGIN:VEVENT
UID:10121034@ezleagues.ezfacility.com
DTSTAMP:20260426T033708Z
CREATED:20260426T033708Z
DTSTART:20170306T011500Z
DTEND:20170306T020700Z
LOCATION:Field   ID 2
CONTACT:
SUMMARY:Wii Not Fit VS. Rounders KGB
DESCRIPTION:League Name: Winter Indoor 2017  Coed 0pen KELLY\nGame Type: Re
 gular\nGame Status: Complete\nHome Team: Wii Not Fit\nAway Team: Rounders 
 KGB\nHome Score: 4\nAway Score: 8
END:VEVENT
BEGIN:VEVENT
UID:10120549@ezleagues.ezfacility.com
DTSTAMP:20260426T033708Z
CREATED:20260426T033708Z
DTSTART:20170312T172700Z
DTEND:20170312T181900Z
LOCATION:Field   ID 1
CONTACT:
SUMMARY:Tide PS VS. Wii Not Fit
DESCRIPTION:League Name: Winter Indoor 2017  Coed 0pen KELLY\nGame Type: Re
 gular\nGame Status: Complete\nHome Team: Tide PS\nAway Team: Wii Not Fit\n
 Home Score: 7\nAway Score: 6
END:VEVENT
BEGIN:VEVENT
UID:10120929@ezleagues.ezfacility.com
DTSTAMP:20260426T033708Z
CREATED:20260426T033708Z
DTSTART:20170319T181800Z
DTEND:20170319T191000Z
LOCATION:Field   ID 2
CONTACT:
SUMMARY:Rounders Knish VS. Wii Not Fit
DESCRIPTION:League Name: Winter Indoor 2017  Coed 0pen KELLY\nGame Type: Re
 gular\nGame Status: Complete\nHome Team: Rounders Knish\nAway Team: Wii No
 t Fit\nHome Score: 5\nAway Score: 3
END:VEVENT
END:VCALENDAR
