BEGIN:VCALENDAR
VERSION:2.0
PRODID:-//EZFacility.com, Inc.//EZL 2.5.5.28621
BEGIN:VEVENT
UID:10047588@ezleagues.ezfacility.com
DTSTAMP:20260425T025649Z
CREATED:20260425T025649Z
DTSTART:20170116T231200Z
DTEND:20170117T000400Z
LOCATION:Field   ID 1
CONTACT:
SUMMARY:Big Walnut Heros VS. Club Ohio
DESCRIPTION:League Name: Winter Indoor 2017 Girl's U-11 - North\nGame Type:
  Regular\nGame Status: Complete\nHome Team: Big Walnut Heros\nAway Team: C
 lub Ohio\nHome Score: 6\nAway Score: 7
END:VEVENT
BEGIN:VEVENT
UID:10091315@ezleagues.ezfacility.com
DTSTAMP:20260425T025649Z
CREATED:20260425T025649Z
DTSTART:20170124T000300Z
DTEND:20170124T005500Z
LOCATION:Field   ID 1
CONTACT:
SUMMARY:Club Ohio VS. NWFC U11G
DESCRIPTION:League Name: Winter Indoor 2017 Girl's U-11 - North\nGame Type:
  Regular\nGame Status: Complete\nHome Team: Club Ohio\nAway Team: NWFC U11
 G\nHome Score: 11\nAway Score: 0
END:VEVENT
BEGIN:VEVENT
UID:10091508@ezleagues.ezfacility.com
DTSTAMP:20260425T025649Z
CREATED:20260425T025649Z
DTSTART:20170130T222100Z
DTEND:20170130T231300Z
LOCATION:Field   ID 3
CONTACT:
SUMMARY:Lady Knights VS. Club Ohio
DESCRIPTION:League Name: Winter Indoor 2017 Girl's U-11 - North\nGame Type:
  Regular\nGame Status: Complete\nHome Team: Lady Knights\nAway Team: Club 
 Ohio\nHome Score: 4\nAway Score: 11
END:VEVENT
BEGIN:VEVENT
UID:10092640@ezleagues.ezfacility.com
DTSTAMP:20260425T025649Z
CREATED:20260425T025649Z
DTSTART:20170213T231200Z
DTEND:20170214T000400Z
LOCATION:Field   ID 3
CONTACT:
SUMMARY:Club Ohio VS. Alex Morgan's Children
DESCRIPTION:League Name: Winter Indoor 2017 Girl's U-11 - North\nGame Type:
  Regular\nGame Status: Complete\nHome Team: Club Ohio\nAway Team: Alex Mor
 gan's Children\nHome Score: 8\nAway Score: 2
END:VEVENT
BEGIN:VEVENT
UID:10092799@ezleagues.ezfacility.com
DTSTAMP:20260425T025649Z
CREATED:20260425T025649Z
DTSTART:20170220T222100Z
DTEND:20170220T231300Z
LOCATION:Field   ID 1
CONTACT:
SUMMARY:Mighty Minions VS. Club Ohio
DESCRIPTION:League Name: Winter Indoor 2017 Girl's U-11 - North\nGame Type:
  Regular\nGame Status: Complete\nHome Team: Mighty Minions\nAway Team: Clu
 b Ohio\nHome Score: 4\nAway Score: 7
END:VEVENT
BEGIN:VEVENT
UID:10092956@ezleagues.ezfacility.com
DTSTAMP:20260425T025649Z
CREATED:20260425T025649Z
DTSTART:20170227T222100Z
DTEND:20170227T231300Z
LOCATION:Field   ID 1
CONTACT:
SUMMARY:Club Ohio VS. Elite FC 2006 Girls
DESCRIPTION:League Name: Winter Indoor 2017 Girl's U-11 - North\nGame Type:
  Regular\nGame Status: Complete\nHome Team: Club Ohio\nAway Team: Elite FC
  2006 Girls\nHome Score: 10\nAway Score: 4
END:VEVENT
BEGIN:VEVENT
UID:10093795@ezleagues.ezfacility.com
DTSTAMP:20260425T025649Z
CREATED:20260425T025649Z
DTSTART:20170306T231200Z
DTEND:20170307T000400Z
LOCATION:Field   ID 3
CONTACT:
SUMMARY:Club Ohio VS. Big Walnut Heros
DESCRIPTION:League Name: Winter Indoor 2017 Girl's U-11 - North\nGame Type:
  Regular\nGame Status: Complete\nHome Team: Club Ohio\nAway Team: Big Waln
 ut Heros\nHome Score: 11\nAway Score: 2
END:VEVENT
BEGIN:VEVENT
UID:10093812@ezleagues.ezfacility.com
DTSTAMP:20260425T025649Z
CREATED:20260425T025649Z
DTSTART:20170313T212100Z
DTEND:20170313T221300Z
LOCATION:Field   ID 3
CONTACT:
SUMMARY:Worthington Utd Navy VS. Club Ohio
DESCRIPTION:League Name: Winter Indoor 2017 Girl's U-11 - North\nGame Type:
  Regular\nGame Status: Complete\nHome Team: Worthington Utd Navy\nAway Tea
 m: Club Ohio\nHome Score: 4\nAway Score: 9
END:VEVENT
BEGIN:VEVENT
UID:10093831@ezleagues.ezfacility.com
DTSTAMP:20260425T025649Z
CREATED:20260425T025649Z
DTSTART:20170320T230300Z
DTEND:20170320T235500Z
LOCATION:Field   ID 3
CONTACT:
SUMMARY:Club Ohio VS. Lady Knights
DESCRIPTION:League Name: Winter Indoor 2017 Girl's U-11 - North\nGame Type:
  Regular\nGame Status: Complete\nHome Team: Club Ohio\nAway Team: Lady Kni
 ghts\nHome Score: 5\nAway Score: 4
END:VEVENT
END:VCALENDAR
