BEGIN:VCALENDAR
VERSION:2.0
PRODID:-//EZFacility.com, Inc.//EZL 2.5.5.28621
BEGIN:VEVENT
UID:10066861@ezleagues.ezfacility.com
DTSTAMP:20260426T033544Z
CREATED:20260426T033544Z
DTSTART:20170119T231500Z
DTEND:20170120T000700Z
LOCATION:Field   ID 3
CONTACT:
SUMMARY:CE GIRLS 2006 BLACK VS. DOPB
DESCRIPTION:League Name: Winter Indoor 2017 Girl's U-12 - North\nGame Type:
  Regular\nGame Status: Complete\nHome Team: CE GIRLS 2006 BLACK\nAway Team
 : DOPB\nHome Score: 3\nAway Score: 17
END:VEVENT
BEGIN:VEVENT
UID:10105763@ezleagues.ezfacility.com
DTSTAMP:20260426T033544Z
CREATED:20260426T033544Z
DTSTART:20170126T222100Z
DTEND:20170126T231300Z
LOCATION:Field   ID 1
CONTACT:
SUMMARY:DOPB VS. Club Ohio U12 Girls
DESCRIPTION:League Name: Winter Indoor 2017 Girl's U-12 - North\nGame Type:
  Regular\nGame Status: Complete\nHome Team: DOPB\nAway Team: Club Ohio U12
  Girls\nHome Score: 4\nAway Score: 7
END:VEVENT
BEGIN:VEVENT
UID:10105793@ezleagues.ezfacility.com
DTSTAMP:20260426T033544Z
CREATED:20260426T033544Z
DTSTART:20170202T222100Z
DTEND:20170202T231300Z
LOCATION:Field   ID 1
CONTACT:
SUMMARY:NWFC-U12G Orange VS. DOPB
DESCRIPTION:League Name: Winter Indoor 2017 Girl's U-12 - North\nGame Type:
  Regular\nGame Status: Complete\nHome Team: NWFC-U12G Orange\nAway Team: D
 OPB\nHome Score: 6\nAway Score: 9
END:VEVENT
BEGIN:VEVENT
UID:10105832@ezleagues.ezfacility.com
DTSTAMP:20260426T033544Z
CREATED:20260426T033544Z
DTSTART:20170209T231200Z
DTEND:20170210T000400Z
LOCATION:Field   ID 2
CONTACT:
SUMMARY:DOPB VS. #squadgoals
DESCRIPTION:League Name: Winter Indoor 2017 Girl's U-12 - North\nGame Type:
  Regular\nGame Status: Complete\nHome Team: DOPB\nAway Team: #squadgoals\n
 Home Score: 1\nAway Score: 9
END:VEVENT
BEGIN:VEVENT
UID:10105821@ezleagues.ezfacility.com
DTSTAMP:20260426T033544Z
CREATED:20260426T033544Z
DTSTART:20170216T222100Z
DTEND:20170216T231300Z
LOCATION:Field   ID 2
CONTACT:
SUMMARY:DOPB VS. The Eagles
DESCRIPTION:League Name: Winter Indoor 2017 Girl's U-12 - North\nGame Type:
  Regular\nGame Status: Complete\nHome Team: DOPB\nAway Team: The Eagles\nH
 ome Score: 11\nAway Score: 3
END:VEVENT
BEGIN:VEVENT
UID:10105837@ezleagues.ezfacility.com
DTSTAMP:20260426T033544Z
CREATED:20260426T033544Z
DTSTART:20170223T231200Z
DTEND:20170224T000400Z
LOCATION:Field   ID 3
CONTACT:
SUMMARY:DOPB VS. CE GIRLS 2006 BLACK
DESCRIPTION:League Name: Winter Indoor 2017 Girl's U-12 - North\nGame Type:
  Regular\nGame Status: Complete\nHome Team: DOPB\nAway Team: CE GIRLS 2006
  BLACK\nHome Score: 18\nAway Score: 0
END:VEVENT
BEGIN:VEVENT
UID:10105822@ezleagues.ezfacility.com
DTSTAMP:20260426T033544Z
CREATED:20260426T033544Z
DTSTART:20170302T222100Z
DTEND:20170302T231300Z
LOCATION:Field   ID 1
CONTACT:
SUMMARY:DOPB VS. NWFC-U12G Orange
DESCRIPTION:League Name: Winter Indoor 2017 Girl's U-12 - North\nGame Type:
  Regular\nGame Status: Complete\nHome Team: DOPB\nAway Team: NWFC-U12G Ora
 nge\nHome Score: 6\nAway Score: 1
END:VEVENT
BEGIN:VEVENT
UID:10105823@ezleagues.ezfacility.com
DTSTAMP:20260426T033544Z
CREATED:20260426T033544Z
DTSTART:20170309T222100Z
DTEND:20170309T231300Z
LOCATION:Field   ID 2
CONTACT:
SUMMARY:#squadgoals VS. DOPB
DESCRIPTION:League Name: Winter Indoor 2017 Girl's U-12 - North\nGame Type:
  Regular\nGame Status: Complete\nHome Team: #squadgoals\nAway Team: DOPB\n
 Home Score: 3\nAway Score: 0
END:VEVENT
BEGIN:VEVENT
UID:10105825@ezleagues.ezfacility.com
DTSTAMP:20260426T033544Z
CREATED:20260426T033544Z
DTSTART:20170316T212100Z
DTEND:20170316T221300Z
LOCATION:Field   ID 3
CONTACT:
SUMMARY:DOPB VS. The Eagles
DESCRIPTION:League Name: Winter Indoor 2017 Girl's U-12 - North\nGame Type:
  Regular\nGame Status: Complete\nHome Team: DOPB\nAway Team: The Eagles\nH
 ome Score: 0\nAway Score: 3
END:VEVENT
END:VCALENDAR
