BEGIN:VCALENDAR
VERSION:2.0
PRODID:-//EZFacility.com, Inc.//EZL 2.5.5.28621
BEGIN:VEVENT
UID:10066843@ezleagues.ezfacility.com
DTSTAMP:20260419T204454Z
CREATED:20260419T204454Z
DTSTART:20170120T005800Z
DTEND:20170120T015000Z
LOCATION:Field   ID 2
CONTACT:
SUMMARY:Team 2 VS. Pale Ales 2 Coed 50+
DESCRIPTION:League Name: Winter Indoor 2017  Coed 50+\nGame Type: Regular\n
 Game Status: Complete\nHome Team: Team 2\nAway Team: Pale Ales 2 Coed 50+\
 nHome Score: 6\nAway Score: 4
END:VEVENT
BEGIN:VEVENT
UID:10105928@ezleagues.ezfacility.com
DTSTAMP:20260419T204454Z
CREATED:20260419T204454Z
DTSTART:20170127T023600Z
DTEND:20170127T032800Z
LOCATION:Field   ID 2
CONTACT:
SUMMARY:Pale Ales 2 Coed 50+ VS. Team 3
DESCRIPTION:League Name: Winter Indoor 2017  Coed 50+\nGame Type: Regular\n
 Game Status: Complete\nHome Team: Pale Ales 2 Coed 50+\nAway Team: Team 3\
 nHome Score: 8\nAway Score: 4
END:VEVENT
BEGIN:VEVENT
UID:10105904@ezleagues.ezfacility.com
DTSTAMP:20260419T204454Z
CREATED:20260419T204454Z
DTSTART:20170203T005400Z
DTEND:20170203T014600Z
LOCATION:Field   ID 2
CONTACT:
SUMMARY:Team 4 VS. Pale Ales 2 Coed 50+
DESCRIPTION:League Name: Winter Indoor 2017  Coed 50+\nGame Type: Regular\n
 Game Status: Complete\nHome Team: Team 4\nAway Team: Pale Ales 2 Coed 50+\
 nHome Score: 7\nAway Score: 2
END:VEVENT
BEGIN:VEVENT
UID:10105871@ezleagues.ezfacility.com
DTSTAMP:20260419T204454Z
CREATED:20260419T204454Z
DTSTART:20170210T000300Z
DTEND:20170210T005500Z
LOCATION:Field   ID 1
CONTACT:
SUMMARY:Pale Ales 2 Coed 50+ VS. Team 5
DESCRIPTION:League Name: Winter Indoor 2017  Coed 50+\nGame Type: Regular\n
 Game Status: Complete\nHome Team: Pale Ales 2 Coed 50+\nAway Team: Team 5\
 nHome Score: 4\nAway Score: 3
END:VEVENT
BEGIN:VEVENT
UID:10105931@ezleagues.ezfacility.com
DTSTAMP:20260419T204454Z
CREATED:20260419T204454Z
DTSTART:20170217T023600Z
DTEND:20170217T032800Z
LOCATION:Field   ID 1
CONTACT:
SUMMARY:Pale Ales 1 Coed 50+ VS. Pale Ales 2 Coed 50+
DESCRIPTION:League Name: Winter Indoor 2017  Coed 50+\nGame Type: Regular\n
 Game Status: Complete\nHome Team: Pale Ales 1 Coed 50+\nAway Team: Pale Al
 es 2 Coed 50+\nHome Score: 3\nAway Score: 4
END:VEVENT
BEGIN:VEVENT
UID:10105932@ezleagues.ezfacility.com
DTSTAMP:20260419T204454Z
CREATED:20260419T204454Z
DTSTART:20170224T023600Z
DTEND:20170224T032800Z
LOCATION:Field   ID 2
CONTACT:
SUMMARY:Pale Ales 2 Coed 50+ VS. Team 1
DESCRIPTION:League Name: Winter Indoor 2017  Coed 50+\nGame Type: Regular\n
 Game Status: Complete\nHome Team: Pale Ales 2 Coed 50+\nAway Team: Team 1\
 nHome Score: 1\nAway Score: 5
END:VEVENT
BEGIN:VEVENT
UID:10105909@ezleagues.ezfacility.com
DTSTAMP:20260419T204454Z
CREATED:20260419T204454Z
DTSTART:20170303T005400Z
DTEND:20170303T014600Z
LOCATION:Field   ID 1
CONTACT:
SUMMARY:Pale Ales 2 Coed 50+ VS. Tide 50+
DESCRIPTION:League Name: Winter Indoor 2017  Coed 50+\nGame Type: Regular\n
 Game Status: Complete\nHome Team: Pale Ales 2 Coed 50+\nAway Team: Tide 50
 +\nHome Score: 9\nAway Score: 3
END:VEVENT
BEGIN:VEVENT
UID:10105910@ezleagues.ezfacility.com
DTSTAMP:20260419T204454Z
CREATED:20260419T204454Z
DTSTART:20170310T005400Z
DTEND:20170310T014600Z
LOCATION:Field   ID 1
CONTACT:
SUMMARY:Pale Ales 2 Coed 50+ VS. Team 2
DESCRIPTION:League Name: Winter Indoor 2017  Coed 50+\nGame Type: Regular\n
 Game Status: Complete\nHome Team: Pale Ales 2 Coed 50+\nAway Team: Team 2\
 nHome Score: 1\nAway Score: 7
END:VEVENT
BEGIN:VEVENT
UID:10105936@ezleagues.ezfacility.com
DTSTAMP:20260419T204454Z
CREATED:20260419T204454Z
DTSTART:20170324T013600Z
DTEND:20170324T022800Z
LOCATION:Field   ID 1
CONTACT:
SUMMARY:Team 3 VS. Pale Ales 2 Coed 50+
DESCRIPTION:League Name: Winter Indoor 2017  Coed 50+\nGame Type: Regular\n
 Game Status: Complete\nHome Team: Team 3\nAway Team: Pale Ales 2 Coed 50+\
 nHome Score: 5\nAway Score: 8
END:VEVENT
END:VCALENDAR
