BEGIN:VCALENDAR
VERSION:2.0
PRODID:-//EZFacility.com, Inc.//EZL 2.5.5.28621
BEGIN:VEVENT
UID:10068782@ezleagues.ezfacility.com
DTSTAMP:20260426T033541Z
CREATED:20260426T033541Z
DTSTART:20170117T010000Z
DTEND:20170117T015000Z
LOCATION:Field 2
CONTACT:
SUMMARY:F.C. Gear Heads VS. Axe United
DESCRIPTION:League Name: 2017 Winter 2 Coed Indoor Soccer League\nGame Type
 : Regular\nGame Status: Complete\nHome Team: F.C. Gear Heads\nAway Team: A
 xe United\nHome Score: 0\nAway Score: 13
END:VEVENT
BEGIN:VEVENT
UID:10068787@ezleagues.ezfacility.com
DTSTAMP:20260426T033541Z
CREATED:20260426T033541Z
DTSTART:20170124T015000Z
DTEND:20170124T024000Z
LOCATION:Field 2
CONTACT:
SUMMARY:Red Rockets VS. F.C. Gear Heads
DESCRIPTION:League Name: 2017 Winter 2 Coed Indoor Soccer League\nGame Type
 : Regular\nGame Status: Complete\nHome Team: Red Rockets\nAway Team: F.C. 
 Gear Heads\nHome Score: 13\nAway Score: 3
END:VEVENT
BEGIN:VEVENT
UID:10068792@ezleagues.ezfacility.com
DTSTAMP:20260426T033541Z
CREATED:20260426T033541Z
DTSTART:20170131T010000Z
DTEND:20170131T015000Z
LOCATION:Field 2
CONTACT:
SUMMARY:F.C. Gear Heads VS. Balls to the Walls
DESCRIPTION:League Name: 2017 Winter 2 Coed Indoor Soccer League\nGame Type
 : Regular\nGame Status: Complete\nHome Team: F.C. Gear Heads\nAway Team: B
 alls to the Walls\nHome Score: 5\nAway Score: 16
END:VEVENT
BEGIN:VEVENT
UID:10068797@ezleagues.ezfacility.com
DTSTAMP:20260426T033541Z
CREATED:20260426T033541Z
DTSTART:20170207T024000Z
DTEND:20170207T033000Z
LOCATION:Field 2
CONTACT:
SUMMARY:F.C. Gear Heads VS. Eggseter
DESCRIPTION:League Name: 2017 Winter 2 Coed Indoor Soccer League\nGame Type
 : Regular\nGame Status: Complete\nHome Team: F.C. Gear Heads\nAway Team: E
 ggseter\nHome Score: 8\nAway Score: 8
END:VEVENT
BEGIN:VEVENT
UID:10068801@ezleagues.ezfacility.com
DTSTAMP:20260426T033541Z
CREATED:20260426T033541Z
DTSTART:20170214T015000Z
DTEND:20170214T024000Z
LOCATION:Field 2
CONTACT:
SUMMARY:Landsharks VS. F.C. Gear Heads
DESCRIPTION:League Name: 2017 Winter 2 Coed Indoor Soccer League\nGame Type
 : Regular\nGame Status: Complete\nHome Team: Landsharks\nAway Team: F.C. G
 ear Heads\nHome Score: 10\nAway Score: 3
END:VEVENT
BEGIN:VEVENT
UID:10068807@ezleagues.ezfacility.com
DTSTAMP:20260426T033541Z
CREATED:20260426T033541Z
DTSTART:20170228T010000Z
DTEND:20170228T015000Z
LOCATION:Field 2
CONTACT:
SUMMARY:Hop Devils VS. F.C. Gear Heads
DESCRIPTION:League Name: 2017 Winter 2 Coed Indoor Soccer League\nGame Type
 : Regular\nGame Status: Complete\nHome Team: Hop Devils\nAway Team: F.C. G
 ear Heads\nHome Score: 7\nAway Score: 6
END:VEVENT
BEGIN:VEVENT
UID:10068810@ezleagues.ezfacility.com
DTSTAMP:20260426T033541Z
CREATED:20260426T033541Z
DTSTART:20170307T015000Z
DTEND:20170307T024000Z
LOCATION:Field 2
CONTACT:
SUMMARY:Axe United VS. F.C. Gear Heads
DESCRIPTION:League Name: 2017 Winter 2 Coed Indoor Soccer League\nGame Type
 : Regular\nGame Status: Complete\nHome Team: Axe United\nAway Team: F.C. G
 ear Heads\nHome Score: 5\nAway Score: 1
END:VEVENT
BEGIN:VEVENT
UID:10068821@ezleagues.ezfacility.com
DTSTAMP:20260426T033541Z
CREATED:20260426T033541Z
DTSTART:20170314T005000Z
DTEND:20170314T014000Z
LOCATION:Field 2
CONTACT:
SUMMARY:F.C. Gear Heads VS. Balls to the Walls
DESCRIPTION:League Name: 2017 Winter 2 Coed Indoor Soccer League\nGame Type
 : Regular\nGame Status: Complete\nHome Team: F.C. Gear Heads\nAway Team: B
 alls to the Walls\nHome Score: 5\nAway Score: 6
END:VEVENT
BEGIN:VEVENT
UID:10252153@ezleagues.ezfacility.com
DTSTAMP:20260426T033541Z
CREATED:20260426T033541Z
DTSTART:20170321T000000Z
DTEND:20170321T003000Z
LOCATION:Field 2
CONTACT:
SUMMARY:Landsharks VS. F.C. Gear Heads
DESCRIPTION:League Name: 2017 Winter 2 Coed Indoor Soccer League\nGame Type
 : Postseason\nGame Status: Complete\nHome Team: Landsharks\nAway Team: F.C
 . Gear Heads\nHome Score: 1\nAway Score: 0
END:VEVENT
END:VCALENDAR
