BEGIN:VCALENDAR
VERSION:2.0
PRODID:-//EZFacility.com, Inc.//EZL 2.5.5.28621
BEGIN:VEVENT
UID:10073847@ezleagues.ezfacility.com
DTSTAMP:20260426T034943Z
CREATED:20260426T034943Z
DTSTART:20170120T231500Z
DTEND:20170121T000700Z
LOCATION:Field   ID 2
CONTACT:
SUMMARY:USA FC (GU10) VS. NWFC Orange
DESCRIPTION:League Name: Winter Indoor 2017 Girl's U-10 \nGame Type: Regula
 r\nGame Status: Complete\nHome Team: USA FC (GU10)\nAway Team: NWFC Orange
 \nHome Score: 7\nAway Score: 0
END:VEVENT
BEGIN:VEVENT
UID:10110113@ezleagues.ezfacility.com
DTSTAMP:20260426T034943Z
CREATED:20260426T034943Z
DTSTART:20170127T231200Z
DTEND:20170128T000400Z
LOCATION:Field   ID 1
CONTACT:
SUMMARY:USA FC (GU10) VS. Elite FC 2007 Girls
DESCRIPTION:League Name: Winter Indoor 2017 Girl's U-10 \nGame Type: Regula
 r\nGame Status: Complete\nHome Team: USA FC (GU10)\nAway Team: Elite FC 20
 07 Girls\nHome Score: 8\nAway Score: 2
END:VEVENT
BEGIN:VEVENT
UID:10110124@ezleagues.ezfacility.com
DTSTAMP:20260426T034943Z
CREATED:20260426T034943Z
DTSTART:20170203T222100Z
DTEND:20170203T231300Z
LOCATION:Field   ID 3
CONTACT:
SUMMARY:Shamrocks VS. USA FC (GU10)
DESCRIPTION:League Name: Winter Indoor 2017 Girl's U-10 \nGame Type: Regula
 r\nGame Status: Complete\nHome Team: Shamrocks\nAway Team: USA FC (GU10)\n
 Home Score: 3\nAway Score: 7
END:VEVENT
BEGIN:VEVENT
UID:10110127@ezleagues.ezfacility.com
DTSTAMP:20260426T034943Z
CREATED:20260426T034943Z
DTSTART:20170210T231200Z
DTEND:20170211T000400Z
LOCATION:Field   ID 3
CONTACT:
SUMMARY:Starfires VS. USA FC (GU10)
DESCRIPTION:League Name: Winter Indoor 2017 Girl's U-10 \nGame Type: Regula
 r\nGame Status: Complete\nHome Team: Starfires\nAway Team: USA FC (GU10)\n
 Home Score: 0\nAway Score: 18
END:VEVENT
BEGIN:VEVENT
UID:10110133@ezleagues.ezfacility.com
DTSTAMP:20260426T034943Z
CREATED:20260426T034943Z
DTSTART:20170217T222100Z
DTEND:20170217T231300Z
LOCATION:Field   ID 1
CONTACT:
SUMMARY:USA FC (GU10) VS. Shamrocks
DESCRIPTION:League Name: Winter Indoor 2017 Girl's U-10 \nGame Type: Regula
 r\nGame Status: Complete\nHome Team: USA FC (GU10)\nAway Team: Shamrocks\n
 Home Score: 2\nAway Score: 4
END:VEVENT
BEGIN:VEVENT
UID:10110210@ezleagues.ezfacility.com
DTSTAMP:20260426T034943Z
CREATED:20260426T034943Z
DTSTART:20170224T222100Z
DTEND:20170224T231300Z
LOCATION:Field   ID 2
CONTACT:
SUMMARY:USA FC (GU10) VS. NWFC Orange
DESCRIPTION:League Name: Winter Indoor 2017 Girl's U-10 \nGame Type: Regula
 r\nGame Status: Complete\nHome Team: USA FC (GU10)\nAway Team: NWFC Orange
 \nHome Score: 7\nAway Score: 1
END:VEVENT
BEGIN:VEVENT
UID:10110217@ezleagues.ezfacility.com
DTSTAMP:20260426T034943Z
CREATED:20260426T034943Z
DTSTART:20170303T222100Z
DTEND:20170303T231300Z
LOCATION:Field   ID 3
CONTACT:
SUMMARY:FC Dream Crushers VS. USA FC (GU10)
DESCRIPTION:League Name: Winter Indoor 2017 Girl's U-10 \nGame Type: Regula
 r\nGame Status: Complete\nHome Team: FC Dream Crushers\nAway Team: USA FC 
 (GU10)\nHome Score: 0\nAway Score: 12
END:VEVENT
BEGIN:VEVENT
UID:10110349@ezleagues.ezfacility.com
DTSTAMP:20260426T034943Z
CREATED:20260426T034943Z
DTSTART:20170310T222100Z
DTEND:20170310T231300Z
LOCATION:Field   ID 3
CONTACT:
SUMMARY:USA FC (GU10) VS. Archangel Warriors
DESCRIPTION:League Name: Winter Indoor 2017 Girl's U-10 \nGame Type: Regula
 r\nGame Status: Complete\nHome Team: USA FC (GU10)\nAway Team: Archangel W
 arriors\nHome Score: 21\nAway Score: 0
END:VEVENT
BEGIN:VEVENT
UID:10110355@ezleagues.ezfacility.com
DTSTAMP:20260426T034943Z
CREATED:20260426T034943Z
DTSTART:20170317T212100Z
DTEND:20170317T221300Z
LOCATION:Field   ID 3
CONTACT:
SUMMARY:Elite FC 2007 Girls VS. USA FC (GU10)
DESCRIPTION:League Name: Winter Indoor 2017 Girl's U-10 \nGame Type: Regula
 r\nGame Status: Complete\nHome Team: Elite FC 2007 Girls\nAway Team: USA F
 C (GU10)\nHome Score: 3\nAway Score: 10
END:VEVENT
END:VCALENDAR
