BEGIN:VCALENDAR
VERSION:2.0
PRODID:-//EZFacility.com, Inc.//EZL 2.5.5.28621
BEGIN:VEVENT
UID:10183804@ezleagues.ezfacility.com
DTSTAMP:20260424T043203Z
CREATED:20260424T043203Z
DTSTART:20170201T000000Z
DTEND:20170201T005000Z
LOCATION:zMississauga Valleys Gymnasium
CONTACT:
SUMMARY:GoEasy VS. Intuit
DESCRIPTION:League Name: MSL Basketball Rec League - Tuesdays - BIRD\nGame 
 Type: Regular\nGame Status: Complete\nHome Team: GoEasy\nAway Team: Intuit
 \nHome Score: 39\nAway Score: 26
END:VEVENT
BEGIN:VEVENT
UID:10175723@ezleagues.ezfacility.com
DTSTAMP:20260424T043203Z
CREATED:20260424T043203Z
DTSTART:20170208T023000Z
DTEND:20170208T032000Z
LOCATION:zMississauga Valley Gymnasium 
CONTACT:
SUMMARY:Inside Traders VS. Intuit
DESCRIPTION:League Name: MSL Basketball Rec League - Tuesdays - BIRD\nGame 
 Type: Regular\nGame Status: Complete\nHome Team: Inside Traders\nAway Team
 : Intuit\nHome Score: 42\nAway Score: 35
END:VEVENT
BEGIN:VEVENT
UID:10175736@ezleagues.ezfacility.com
DTSTAMP:20260424T043203Z
CREATED:20260424T043203Z
DTSTART:20170215T032000Z
DTEND:20170215T041000Z
LOCATION:zMississauga Valley Gymnasium 
CONTACT:
SUMMARY:Flying Hellfish VS. Intuit
DESCRIPTION:League Name: MSL Basketball Rec League - Tuesdays - BIRD\nGame 
 Type: Regular\nGame Status: Complete\nHome Team: Flying Hellfish\nAway Tea
 m: Intuit\nHome Score: 34\nAway Score: 39
END:VEVENT
BEGIN:VEVENT
UID:10175749@ezleagues.ezfacility.com
DTSTAMP:20260424T043203Z
CREATED:20260424T043203Z
DTSTART:20170222T005000Z
DTEND:20170222T014000Z
LOCATION:zMississauga Valley Gymnasium 
CONTACT:
SUMMARY:Intuit VS. Chino Hills
DESCRIPTION:League Name: MSL Basketball Rec League - Tuesdays - BIRD\nGame 
 Type: Regular\nGame Status: Complete\nHome Team: Intuit\nAway Team: Chino 
 Hills\nHome Score: 49\nAway Score: 57
END:VEVENT
BEGIN:VEVENT
UID:10175762@ezleagues.ezfacility.com
DTSTAMP:20260424T043203Z
CREATED:20260424T043203Z
DTSTART:20170301T000000Z
DTEND:20170301T005000Z
LOCATION:zMississauga Valley Gymnasium 
CONTACT:
SUMMARY:Shotline Bling VS. Intuit
DESCRIPTION:League Name: MSL Basketball Rec League - Tuesdays - BIRD\nGame 
 Type: Regular\nGame Status: Complete\nHome Team: Shotline Bling\nAway Team
 : Intuit\nHome Score: 36\nAway Score: 64
END:VEVENT
BEGIN:VEVENT
UID:10175775@ezleagues.ezfacility.com
DTSTAMP:20260424T043203Z
CREATED:20260424T043203Z
DTSTART:20170308T041000Z
DTEND:20170308T050000Z
LOCATION:zMississauga Valley Gymnasium 
CONTACT:
SUMMARY:I -Uptown Saints VS. Intuit
DESCRIPTION:League Name: MSL Basketball Rec League - Tuesdays - BIRD\nGame 
 Type: Regular\nGame Status: Complete\nHome Team: I -Uptown Saints\nAway Te
 am: Intuit\nHome Score: 40\nAway Score: 42
END:VEVENT
BEGIN:VEVENT
UID:10175787@ezleagues.ezfacility.com
DTSTAMP:20260424T043203Z
CREATED:20260424T043203Z
DTSTART:20170314T235000Z
DTEND:20170315T004000Z
LOCATION:zMississauga Valley Gymnasium 
CONTACT:
SUMMARY:The Fighting Mongooses VS. Intuit
DESCRIPTION:League Name: MSL Basketball Rec League - Tuesdays - BIRD\nGame 
 Type: Regular\nGame Status: Complete\nHome Team: The Fighting Mongooses\nA
 way Team: Intuit\nHome Score: 38\nAway Score: 44
END:VEVENT
BEGIN:VEVENT
UID:10175798@ezleagues.ezfacility.com
DTSTAMP:20260424T043203Z
CREATED:20260424T043203Z
DTSTART:20170322T013000Z
DTEND:20170322T022000Z
LOCATION:zMississauga Valley Gymnasium 
CONTACT:
SUMMARY:Intuit VS. GoEasy
DESCRIPTION:League Name: MSL Basketball Rec League - Tuesdays - BIRD\nGame 
 Type: Regular\nGame Status: Complete\nHome Team: Intuit\nAway Team: GoEasy
 \nHome Score: 43\nAway Score: 48
END:VEVENT
BEGIN:VEVENT
UID:10175809@ezleagues.ezfacility.com
DTSTAMP:20260424T043203Z
CREATED:20260424T043203Z
DTSTART:20170329T022000Z
DTEND:20170329T031000Z
LOCATION:zMississauga Valley Gymnasium 
CONTACT:
SUMMARY:MSL Hoops VS. Intuit
DESCRIPTION:League Name: MSL Basketball Rec League - Tuesdays - BIRD\nGame 
 Type: Regular\nGame Status: Complete\nHome Team: MSL Hoops\nAway Team: Int
 uit\nHome Score: 54\nAway Score: 64
END:VEVENT
BEGIN:VEVENT
UID:10175820@ezleagues.ezfacility.com
DTSTAMP:20260424T043203Z
CREATED:20260424T043203Z
DTSTART:20170404T230000Z
DTEND:20170404T235000Z
LOCATION:zMississauga Valley Gymnasium 
CONTACT:
SUMMARY:M1W Heroes VS. Intuit
DESCRIPTION:League Name: MSL Basketball Rec League - Tuesdays - BIRD\nGame 
 Type: Regular\nGame Status: Complete\nHome Team: M1W Heroes\nAway Team: In
 tuit\nHome Score: 45\nAway Score: 40
END:VEVENT
BEGIN:VEVENT
UID:10175831@ezleagues.ezfacility.com
DTSTAMP:20260424T043203Z
CREATED:20260424T043203Z
DTSTART:20170412T004000Z
DTEND:20170412T013000Z
LOCATION:zMississauga Valley Gymnasium 
CONTACT:
SUMMARY:Intuit VS. Inside Traders
DESCRIPTION:League Name: MSL Basketball Rec League - Tuesdays - BIRD\nGame 
 Type: Regular\nGame Status: Complete\nHome Team: Intuit\nAway Team: Inside
  Traders\nHome Score: 19\nAway Score: 42
END:VEVENT
BEGIN:VEVENT
UID:10175844@ezleagues.ezfacility.com
DTSTAMP:20260424T043203Z
CREATED:20260424T043203Z
DTSTART:20170419T004000Z
DTEND:20170419T013000Z
LOCATION:zMississauga Valley Gymnasium 
CONTACT:
SUMMARY:Intuit VS. Flying Hellfish
DESCRIPTION:League Name: MSL Basketball Rec League - Tuesdays - BIRD\nGame 
 Type: Regular\nGame Status: Complete\nHome Team: Intuit\nAway Team: Flying
  Hellfish\nHome Score: 49\nAway Score: 67
END:VEVENT
BEGIN:VEVENT
UID:10175857@ezleagues.ezfacility.com
DTSTAMP:20260424T043203Z
CREATED:20260424T043203Z
DTSTART:20170425T235000Z
DTEND:20170426T004000Z
LOCATION:zMississauga Valley Gymnasium 
CONTACT:
SUMMARY:Intuit VS. Chino Hills
DESCRIPTION:League Name: MSL Basketball Rec League - Tuesdays - BIRD\nGame 
 Type: Regular\nGame Status: Complete\nHome Team: Intuit\nAway Team: Chino 
 Hills\nHome Score: 51\nAway Score: 77
END:VEVENT
BEGIN:VEVENT
UID:10175871@ezleagues.ezfacility.com
DTSTAMP:20260424T043203Z
CREATED:20260424T043203Z
DTSTART:20170503T031000Z
DTEND:20170503T040000Z
LOCATION:zMississauga Valley Gymnasium 
CONTACT:
SUMMARY:The Fighting Mongooses VS. Intuit
DESCRIPTION:League Name: MSL Basketball Rec League - Tuesdays - BIRD\nGame 
 Type: Postseason\nGame Status: Complete\nHome Team: The Fighting Mongooses
 \nAway Team: Intuit\nHome Score: 63\nAway Score: 60
END:VEVENT
BEGIN:VEVENT
UID:10175881@ezleagues.ezfacility.com
DTSTAMP:20260424T043203Z
CREATED:20260424T043203Z
DTSTART:20170510T031000Z
DTEND:20170510T040000Z
LOCATION:zMississauga Valley Gymnasium 
CONTACT:
SUMMARY:MSL Hoops VS. Intuit
DESCRIPTION:League Name: MSL Basketball Rec League - Tuesdays - BIRD\nGame 
 Type: Exhibition\nGame Status: Pending\nHome Team: MSL Hoops\nAway Team: I
 ntuit\n
END:VEVENT
END:VCALENDAR
