BEGIN:VCALENDAR
VERSION:2.0
PRODID:-//EZFacility.com, Inc.//EZL 2.5.5.28621
BEGIN:VEVENT
UID:10080385@ezleagues.ezfacility.com
DTSTAMP:20260426T033700Z
CREATED:20260426T033700Z
DTSTART:20170121T191800Z
DTEND:20170121T201000Z
LOCATION:Field   ID 1
CONTACT:
SUMMARY:About to get Messi VS. Pioneer Pride
DESCRIPTION:League Name: Winter Indoor 2017 Boy's U-13 - East\nGame Type: R
 egular\nGame Status: Complete\nHome Team: About to get Messi\nAway Team: P
 ioneer Pride\nHome Score: 12\nAway Score: 2
END:VEVENT
BEGIN:VEVENT
UID:10114986@ezleagues.ezfacility.com
DTSTAMP:20260426T033700Z
CREATED:20260426T033700Z
DTSTART:20170128T210000Z
DTEND:20170128T215200Z
LOCATION:Field   ID 2
CONTACT:
SUMMARY:About to get Messi VS. DU Thunderbolts
DESCRIPTION:League Name: Winter Indoor 2017 Boy's U-13 - East\nGame Type: R
 egular\nGame Status: Complete\nHome Team: About to get Messi\nAway Team: D
 U Thunderbolts\nHome Score: 11\nAway Score: 3
END:VEVENT
BEGIN:VEVENT
UID:10114988@ezleagues.ezfacility.com
DTSTAMP:20260426T033700Z
CREATED:20260426T033700Z
DTSTART:20170204T210000Z
DTEND:20170204T215200Z
LOCATION:Field   ID 3
CONTACT:
SUMMARY:SFA U13 Boys VS. About to get Messi
DESCRIPTION:League Name: Winter Indoor 2017 Boy's U-13 - East\nGame Type: R
 egular\nGame Status: Complete\nHome Team: SFA U13 Boys\nAway Team: About t
 o get Messi\nHome Score: 2\nAway Score: 8
END:VEVENT
BEGIN:VEVENT
UID:10118353@ezleagues.ezfacility.com
DTSTAMP:20260426T033700Z
CREATED:20260426T033700Z
DTSTART:20170218T182700Z
DTEND:20170218T191900Z
LOCATION:Field   ID 1
CONTACT:
SUMMARY:About to get Messi VS. Terminators
DESCRIPTION:League Name: Winter Indoor 2017 Boy's U-13 - East\nGame Type: R
 egular\nGame Status: Complete\nHome Team: About to get Messi\nAway Team: T
 erminators\nHome Score: 16\nAway Score: 2
END:VEVENT
BEGIN:VEVENT
UID:10118666@ezleagues.ezfacility.com
DTSTAMP:20260426T033700Z
CREATED:20260426T033700Z
DTSTART:20170225T224200Z
DTEND:20170225T233400Z
LOCATION:Field   ID 2
CONTACT:
SUMMARY:Pioneer Pride VS. About to get Messi
DESCRIPTION:League Name: Winter Indoor 2017 Boy's U-13 - East\nGame Type: R
 egular\nGame Status: Complete\nHome Team: Pioneer Pride\nAway Team: About 
 to get Messi\nHome Score: 2\nAway Score: 11
END:VEVENT
BEGIN:VEVENT
UID:10118736@ezleagues.ezfacility.com
DTSTAMP:20260426T033700Z
CREATED:20260426T033700Z
DTSTART:20170304T210000Z
DTEND:20170304T215200Z
LOCATION:Field   ID 1
CONTACT:
SUMMARY:DU Thunderbolts VS. About to get Messi
DESCRIPTION:League Name: Winter Indoor 2017 Boy's U-13 - East\nGame Type: R
 egular\nGame Status: Complete\nHome Team: DU Thunderbolts\nAway Team: Abou
 t to get Messi\nHome Score: 4\nAway Score: 9
END:VEVENT
BEGIN:VEVENT
UID:10118850@ezleagues.ezfacility.com
DTSTAMP:20260426T033700Z
CREATED:20260426T033700Z
DTSTART:20170311T200900Z
DTEND:20170311T210100Z
LOCATION:Field   ID 3
CONTACT:
SUMMARY:About to get Messi VS. SFA U13 Boys
DESCRIPTION:League Name: Winter Indoor 2017 Boy's U-13 - East\nGame Type: R
 egular\nGame Status: Complete\nHome Team: About to get Messi\nAway Team: S
 FA U13 Boys\nHome Score: 10\nAway Score: 3
END:VEVENT
BEGIN:VEVENT
UID:10099143@ezleagues.ezfacility.com
DTSTAMP:20260426T033700Z
CREATED:20260426T033700Z
DTSTART:20170321T212100Z
DTEND:20170321T221300Z
LOCATION:Field   ID 3
CONTACT:
SUMMARY:About to get Messi VS. Pioneer Pride
DESCRIPTION:League Name: Winter Indoor 2017 Boy's U-13 - East\nGame Type: R
 egular\nGame Status: Complete\nHome Team: About to get Messi\nAway Team: P
 ioneer Pride\nHome Score: 12\nAway Score: 0
END:VEVENT
BEGIN:VEVENT
UID:10118909@ezleagues.ezfacility.com
DTSTAMP:20260426T033700Z
CREATED:20260426T033700Z
DTSTART:20170325T144400Z
DTEND:20170325T153600Z
LOCATION:Field   ID 1
CONTACT:
SUMMARY:Terminators VS. About to get Messi
DESCRIPTION:League Name: Winter Indoor 2017 Boy's U-13 - East\nGame Type: R
 egular\nGame Status: Complete\nHome Team: Terminators\nAway Team: About to
  get Messi\nHome Score: 2\nAway Score: 17
END:VEVENT
END:VCALENDAR
