BEGIN:VCALENDAR
VERSION:2.0
PRODID:-//EZFacility.com, Inc.//EZL 2.5.5.28621
BEGIN:VEVENT
UID:10080394@ezleagues.ezfacility.com
DTSTAMP:20260425T180712Z
CREATED:20260425T180712Z
DTSTART:20170121T215100Z
DTEND:20170121T224300Z
LOCATION:Field   ID 1
CONTACT:
SUMMARY:CD Busters VS. The Star Belly Sneetches
DESCRIPTION:League Name: Winter Indoor 2017 Boy's U-14 -  North\nGame Type:
  Regular\nGame Status: Complete\nHome Team: CD Busters\nAway Team: The Sta
 r Belly Sneetches\nHome Score: 10\nAway Score: 4
END:VEVENT
BEGIN:VEVENT
UID:10114993@ezleagues.ezfacility.com
DTSTAMP:20260425T180712Z
CREATED:20260425T180712Z
DTSTART:20170129T002400Z
DTEND:20170129T011600Z
LOCATION:Field   ID 1
CONTACT:
SUMMARY:The Star Belly Sneetches VS. CO G2 14B
DESCRIPTION:League Name: Winter Indoor 2017 Boy's U-14 -  North\nGame Type:
  Regular\nGame Status: Complete\nHome Team: The Star Belly Sneetches\nAway
  Team: CO G2 14B\nHome Score: 5\nAway Score: 11
END:VEVENT
BEGIN:VEVENT
UID:10114994@ezleagues.ezfacility.com
DTSTAMP:20260425T180712Z
CREATED:20260425T180712Z
DTSTART:20170204T182700Z
DTEND:20170204T191900Z
LOCATION:Field   ID 2
CONTACT:
SUMMARY:The Star Belly Sneetches VS. OP 14 BOYS
DESCRIPTION:League Name: Winter Indoor 2017 Boy's U-14 -  North\nGame Type:
  Regular\nGame Status: Complete\nHome Team: The Star Belly Sneetches\nAway
  Team: OP 14 BOYS\nHome Score: 9\nAway Score: 3
END:VEVENT
BEGIN:VEVENT
UID:10116213@ezleagues.ezfacility.com
DTSTAMP:20260425T180712Z
CREATED:20260425T180712Z
DTSTART:20170211T233300Z
DTEND:20170212T002500Z
LOCATION:Field   ID 1
CONTACT:
SUMMARY:The Star Belly Sneetches VS. Legends of Zelda
DESCRIPTION:League Name: Winter Indoor 2017 Boy's U-14 -  North\nGame Type:
  Regular\nGame Status: Complete\nHome Team: The Star Belly Sneetches\nAway
  Team: Legends of Zelda\nHome Score: 4\nAway Score: 5
END:VEVENT
BEGIN:VEVENT
UID:10118365@ezleagues.ezfacility.com
DTSTAMP:20260425T180712Z
CREATED:20260425T180712Z
DTSTART:20170218T233300Z
DTEND:20170219T002500Z
LOCATION:Field   ID 1
CONTACT:
SUMMARY:Messi's Children VS. The Star Belly Sneetches
DESCRIPTION:League Name: Winter Indoor 2017 Boy's U-14 -  North\nGame Type:
  Regular\nGame Status: Complete\nHome Team: Messi's Children\nAway Team: T
 he Star Belly Sneetches\nHome Score: 4\nAway Score: 4
END:VEVENT
BEGIN:VEVENT
UID:10118669@ezleagues.ezfacility.com
DTSTAMP:20260425T180712Z
CREATED:20260425T180712Z
DTSTART:20170225T200900Z
DTEND:20170225T210100Z
LOCATION:Field   ID 3
CONTACT:
SUMMARY:The Star Belly Sneetches VS. CD Busters
DESCRIPTION:League Name: Winter Indoor 2017 Boy's U-14 -  North\nGame Type:
  Regular\nGame Status: Complete\nHome Team: The Star Belly Sneetches\nAway
  Team: CD Busters\nHome Score: 5\nAway Score: 8
END:VEVENT
BEGIN:VEVENT
UID:10118779@ezleagues.ezfacility.com
DTSTAMP:20260425T180712Z
CREATED:20260425T180712Z
DTSTART:20170304T224200Z
DTEND:20170304T233400Z
LOCATION:Field   ID 1
CONTACT:
SUMMARY:Petr Cech Yourself VS. The Star Belly Sneetches
DESCRIPTION:League Name: Winter Indoor 2017 Boy's U-14 -  North\nGame Type:
  Regular\nGame Status: Complete\nHome Team: Petr Cech Yourself\nAway Team:
  The Star Belly Sneetches\nHome Score: 2\nAway Score: 3
END:VEVENT
BEGIN:VEVENT
UID:10119021@ezleagues.ezfacility.com
DTSTAMP:20260425T180712Z
CREATED:20260425T180712Z
DTSTART:20170318T214200Z
DTEND:20170318T223400Z
LOCATION:Field   ID 1
CONTACT:
SUMMARY:CO G2 14B VS. The Star Belly Sneetches
DESCRIPTION:League Name: Winter Indoor 2017 Boy's U-14 -  North\nGame Type:
  Regular\nGame Status: Complete\nHome Team: CO G2 14B\nAway Team: The Star
  Belly Sneetches\nHome Score: 2\nAway Score: 8
END:VEVENT
BEGIN:VEVENT
UID:10118286@ezleagues.ezfacility.com
DTSTAMP:20260425T180712Z
CREATED:20260425T180712Z
DTSTART:20170323T221200Z
DTEND:20170323T230400Z
LOCATION:Field   ID 1
CONTACT:
SUMMARY:Galacticos U14 Boys VS. The Star Belly Sneetches
DESCRIPTION:League Name: Winter Indoor 2017 Boy's U-14 -  North\nGame Type:
  Regular\nGame Status: Complete\nHome Team: Galacticos U14 Boys\nAway Team
 : The Star Belly Sneetches\nHome Score: 3\nAway Score: 10
END:VEVENT
END:VCALENDAR
