BEGIN:VCALENDAR
VERSION:2.0
PRODID:-//EZFacility.com, Inc.//EZL 2.5.5.28621
BEGIN:VEVENT
UID:10084453@ezleagues.ezfacility.com
DTSTAMP:20260425T191507Z
CREATED:20260425T191507Z
DTSTART:20170118T002000Z
DTEND:20170118T011000Z
LOCATION:Field 1
CONTACT:
SUMMARY:Blazers VS. Exeter 
DESCRIPTION:League Name: 2017 Winter 2 Middle School Field Hockey\nGame Typ
 e: Regular\nGame Status: Complete\nHome Team: Blazers\nAway Team: Exeter \
 nHome Score: 4\nAway Score: 1
END:VEVENT
BEGIN:VEVENT
UID:10084455@ezleagues.ezfacility.com
DTSTAMP:20260425T191507Z
CREATED:20260425T191507Z
DTSTART:20170124T233000Z
DTEND:20170125T002000Z
LOCATION:Field 1
CONTACT:
SUMMARY:Berks Catholic VS. Exeter 
DESCRIPTION:League Name: 2017 Winter 2 Middle School Field Hockey\nGame Typ
 e: Regular\nGame Status: Complete\nHome Team: Berks Catholic\nAway Team: E
 xeter \nHome Score: 7\nAway Score: 0
END:VEVENT
BEGIN:VEVENT
UID:10084459@ezleagues.ezfacility.com
DTSTAMP:20260425T191507Z
CREATED:20260425T191507Z
DTSTART:20170131T233000Z
DTEND:20170201T002000Z
LOCATION:Field 1
CONTACT:
SUMMARY:Exeter  VS. Conrad Weiser
DESCRIPTION:League Name: 2017 Winter 2 Middle School Field Hockey\nGame Typ
 e: Regular\nGame Status: Complete\nHome Team: Exeter \nAway Team: Conrad W
 eiser\nHome Score: 9\nAway Score: 5
END:VEVENT
BEGIN:VEVENT
UID:10084468@ezleagues.ezfacility.com
DTSTAMP:20260425T191507Z
CREATED:20260425T191507Z
DTSTART:20170221T233000Z
DTEND:20170222T002000Z
LOCATION:Field 1
CONTACT:
SUMMARY:Exeter  VS. Blazers
DESCRIPTION:League Name: 2017 Winter 2 Middle School Field Hockey\nGame Typ
 e: Regular\nGame Status: Complete\nHome Team: Exeter \nAway Team: Blazers\
 nHome Score: 3\nAway Score: 6
END:VEVENT
BEGIN:VEVENT
UID:10084470@ezleagues.ezfacility.com
DTSTAMP:20260425T191507Z
CREATED:20260425T191507Z
DTSTART:20170301T002000Z
DTEND:20170301T011000Z
LOCATION:Field 1
CONTACT:
SUMMARY:Exeter  VS. Berks Catholic
DESCRIPTION:League Name: 2017 Winter 2 Middle School Field Hockey\nGame Typ
 e: Regular\nGame Status: Complete\nHome Team: Exeter \nAway Team: Berks Ca
 tholic\nHome Score: 2\nAway Score: 4
END:VEVENT
BEGIN:VEVENT
UID:10102749@ezleagues.ezfacility.com
DTSTAMP:20260425T191507Z
CREATED:20260425T191507Z
DTSTART:20170307T233000Z
DTEND:20170308T002000Z
LOCATION:Field 1
CONTACT:
SUMMARY:Daniel Boone VS. Exeter 
DESCRIPTION:League Name: 2017 Winter 2 Middle School Field Hockey\nGame Typ
 e: Regular\nGame Status: Complete\nHome Team: Daniel Boone\nAway Team: Exe
 ter \nHome Score: 5\nAway Score: 4
END:VEVENT
BEGIN:VEVENT
UID:10102750@ezleagues.ezfacility.com
DTSTAMP:20260425T191507Z
CREATED:20260425T191507Z
DTSTART:20170308T002000Z
DTEND:20170308T011000Z
LOCATION:Field 1
CONTACT:
SUMMARY:Berks Catholic VS. Exeter 
DESCRIPTION:League Name: 2017 Winter 2 Middle School Field Hockey\nGame Typ
 e: Regular\nGame Status: Complete\nHome Team: Berks Catholic\nAway Team: E
 xeter \nHome Score: 5\nAway Score: 0
END:VEVENT
BEGIN:VEVENT
UID:10084474@ezleagues.ezfacility.com
DTSTAMP:20260425T191507Z
CREATED:20260425T191507Z
DTSTART:20170321T232000Z
DTEND:20170322T001000Z
LOCATION:Field 1
CONTACT:
SUMMARY:Conrad Weiser VS. Exeter 
DESCRIPTION:League Name: 2017 Winter 2 Middle School Field Hockey\nGame Typ
 e: Regular\nGame Status: Complete\nHome Team: Conrad Weiser\nAway Team: Ex
 eter \nHome Score: 2\nAway Score: 6
END:VEVENT
BEGIN:VEVENT
UID:10184775@ezleagues.ezfacility.com
DTSTAMP:20260425T191507Z
CREATED:20260425T191507Z
DTSTART:20170328T223000Z
DTEND:20170328T230000Z
LOCATION:Field 1
CONTACT:
SUMMARY:Exeter  VS. Conrad Weiser
DESCRIPTION:League Name: 2017 Winter 2 Middle School Field Hockey\nGame Typ
 e: Postseason\nGame Status: Pending\nHome Team: Exeter \nAway Team: Conrad
  Weiser\n
END:VEVENT
END:VCALENDAR
