BEGIN:VCALENDAR
VERSION:2.0
PRODID:-//EZFacility.com, Inc.//EZL 2.5.5.28621
BEGIN:VEVENT
UID:10114891@ezleagues.ezfacility.com
DTSTAMP:20260421T104444Z
CREATED:20260421T104444Z
DTSTART:20170128T155400Z
DTEND:20170128T164600Z
LOCATION:Field   ID 3
CONTACT:
SUMMARY:Hotshots FC VS. JA Pioneers
DESCRIPTION:League Name: Winter Indoor 2017 Boy's U-09 - South\nGame Type: 
 Regular\nGame Status: Complete\nHome Team: Hotshots FC\nAway Team: JA Pion
 eers\nHome Score: 15\nAway Score: 3
END:VEVENT
BEGIN:VEVENT
UID:10114897@ezleagues.ezfacility.com
DTSTAMP:20260421T104444Z
CREATED:20260421T104444Z
DTSTART:20170204T173600Z
DTEND:20170204T182800Z
LOCATION:Field   ID 3
CONTACT:
SUMMARY:JA Pioneers VS. Club Ohio Black
DESCRIPTION:League Name: Winter Indoor 2017 Boy's U-09 - South\nGame Type: 
 Regular\nGame Status: Complete\nHome Team: JA Pioneers\nAway Team: Club Oh
 io Black\nHome Score: 1\nAway Score: 13
END:VEVENT
BEGIN:VEVENT
UID:10115324@ezleagues.ezfacility.com
DTSTAMP:20260421T104444Z
CREATED:20260421T104444Z
DTSTART:20170211T164500Z
DTEND:20170211T173700Z
LOCATION:Field   ID 2
CONTACT:
SUMMARY:SFA U9 Boys VS. JA Pioneers
DESCRIPTION:League Name: Winter Indoor 2017 Boy's U-09 - South\nGame Type: 
 Regular\nGame Status: Complete\nHome Team: SFA U9 Boys\nAway Team: JA Pion
 eers\nHome Score: 5\nAway Score: 4
END:VEVENT
BEGIN:VEVENT
UID:10118294@ezleagues.ezfacility.com
DTSTAMP:20260421T104444Z
CREATED:20260421T104444Z
DTSTART:20170218T150300Z
DTEND:20170218T155500Z
LOCATION:Field  FS 2
CONTACT:
SUMMARY:NWFC U9 Boys VS. JA Pioneers
DESCRIPTION:League Name: Winter Indoor 2017 Boy's U-09 - South\nGame Type: 
 Regular\nGame Status: Complete\nHome Team: NWFC U9 Boys\nAway Team: JA Pio
 neers\nHome Score: 7\nAway Score: 3
END:VEVENT
BEGIN:VEVENT
UID:10118344@ezleagues.ezfacility.com
DTSTAMP:20260421T104444Z
CREATED:20260421T104444Z
DTSTART:20170225T155400Z
DTEND:20170225T164600Z
LOCATION:Field   ID 2
CONTACT:
SUMMARY:JA Pioneers VS. Hilliard Soccer
DESCRIPTION:League Name: Winter Indoor 2017 Boy's U-09 - South\nGame Type: 
 Regular\nGame Status: Complete\nHome Team: JA Pioneers\nAway Team: Hilliar
 d Soccer\nHome Score: 1\nAway Score: 16
END:VEVENT
BEGIN:VEVENT
UID:10118717@ezleagues.ezfacility.com
DTSTAMP:20260421T104444Z
CREATED:20260421T104444Z
DTSTART:20170304T155400Z
DTEND:20170304T164600Z
LOCATION:Field   ID 3
CONTACT:
SUMMARY:Billings Bulldogs VS. JA Pioneers
DESCRIPTION:League Name: Winter Indoor 2017 Boy's U-09 - South\nGame Type: 
 Regular\nGame Status: Complete\nHome Team: Billings Bulldogs\nAway Team: J
 A Pioneers\nHome Score: 13\nAway Score: 0
END:VEVENT
BEGIN:VEVENT
UID:10118983@ezleagues.ezfacility.com
DTSTAMP:20260421T104444Z
CREATED:20260421T104444Z
DTSTART:20170318T154500Z
DTEND:20170318T163700Z
LOCATION:Field   ID 1
CONTACT:
SUMMARY:JA Pioneers VS. Hotshots FC
DESCRIPTION:League Name: Winter Indoor 2017 Boy's U-09 - South\nGame Type: 
 Regular\nGame Status: Complete\nHome Team: JA Pioneers\nAway Team: Hotshot
 s FC\nHome Score: 0\nAway Score: 20
END:VEVENT
BEGIN:VEVENT
UID:10132531@ezleagues.ezfacility.com
DTSTAMP:20260421T104444Z
CREATED:20260421T104444Z
DTSTART:20170322T212100Z
DTEND:20170322T221300Z
LOCATION:Field   ID 2
CONTACT:
SUMMARY:JA Pioneers VS. NWFC U9 Boys
DESCRIPTION:League Name: Winter Indoor 2017 Boy's U-09 - South\nGame Type: 
 Regular\nGame Status: Complete\nHome Team: JA Pioneers\nAway Team: NWFC U9
  Boys\nHome Score: 2\nAway Score: 7
END:VEVENT
BEGIN:VEVENT
UID:10118896@ezleagues.ezfacility.com
DTSTAMP:20260421T104444Z
CREATED:20260421T104444Z
DTSTART:20170325T135200Z
DTEND:20170325T144400Z
LOCATION:Field   ID 3
CONTACT:
SUMMARY:Club Ohio Black VS. JA Pioneers
DESCRIPTION:League Name: Winter Indoor 2017 Boy's U-09 - South\nGame Type: 
 Regular\nGame Status: Complete\nHome Team: Club Ohio Black\nAway Team: JA 
 Pioneers\nHome Score: 14\nAway Score: 0
END:VEVENT
END:VCALENDAR
