BEGIN:VCALENDAR
VERSION:2.0
PRODID:-//EZFacility.com, Inc.//EZL 2.5.5.28621
BEGIN:VEVENT
UID:10116224@ezleagues.ezfacility.com
DTSTAMP:20260424T043138Z
CREATED:20260424T043138Z
DTSTART:20170119T043500Z
DTEND:20170119T053000Z
LOCATION:PFFC Field House - A
CONTACT:
SUMMARY:  SG United VS.   Steeze FC 
DESCRIPTION:League Name: MSL Soccer - W/T Men's Division #5 South\nGame Typ
 e: Regular\nGame Status: Complete\nHome Team:   SG United\nAway Team:   St
 eeze FC \nHome Score: 3\nAway Score: 2
END:VEVENT
BEGIN:VEVENT
UID:10116267@ezleagues.ezfacility.com
DTSTAMP:20260424T043138Z
CREATED:20260424T043138Z
DTSTART:20170125T230500Z
DTEND:20170126T000000Z
LOCATION:PFFC Field House - B
CONTACT:
SUMMARY:  ABCDE FC VS.   Steeze FC 
DESCRIPTION:League Name: MSL Soccer - W/T Men's Division #5 South\nGame Typ
 e: Regular\nGame Status: Complete\nHome Team:   ABCDE FC\nAway Team:   Ste
 eze FC \nHome Score: 2\nAway Score: 3
END:VEVENT
BEGIN:VEVENT
UID:10116310@ezleagues.ezfacility.com
DTSTAMP:20260424T043138Z
CREATED:20260424T043138Z
DTSTART:20170203T035500Z
DTEND:20170203T045000Z
LOCATION:PFFC Dome - 2
CONTACT:
SUMMARY:  Steeze FC  VS.   Storm FC
DESCRIPTION:League Name: MSL Soccer - W/T Men's Division #5 South\nGame Typ
 e: Regular\nGame Status: Complete\nHome Team:   Steeze FC \nAway Team:   S
 torm FC\nHome Score: 1\nAway Score: 2
END:VEVENT
BEGIN:VEVENT
UID:10116353@ezleagues.ezfacility.com
DTSTAMP:20260424T043138Z
CREATED:20260424T043138Z
DTSTART:20170210T005500Z
DTEND:20170210T015000Z
LOCATION:PFFC Field House - D
CONTACT:
SUMMARY:Atletico VS.   Steeze FC 
DESCRIPTION:League Name: MSL Soccer - W/T Men's Division #5 South\nGame Typ
 e: Regular\nGame Status: Complete\nHome Team: Atletico\nAway Team:   Steez
 e FC \nHome Score: 0\nAway Score: 2
END:VEVENT
BEGIN:VEVENT
UID:10116395@ezleagues.ezfacility.com
DTSTAMP:20260424T043138Z
CREATED:20260424T043138Z
DTSTART:20170217T034000Z
DTEND:20170217T043500Z
LOCATION:PFFC Field House - D
CONTACT:
SUMMARY:  Steeze FC  VS.   MDV Gunners FC
DESCRIPTION:League Name: MSL Soccer - W/T Men's Division #5 South\nGame Typ
 e: Regular\nGame Status: Complete\nHome Team:   Steeze FC \nAway Team:   M
 DV Gunners FC\nHome Score: 0\nAway Score: 2
END:VEVENT
BEGIN:VEVENT
UID:10116436@ezleagues.ezfacility.com
DTSTAMP:20260424T043138Z
CREATED:20260424T043138Z
DTSTART:20170223T015000Z
DTEND:20170223T024500Z
LOCATION:PFFC Field House - B
CONTACT:
SUMMARY:  BUD FC VS.   Steeze FC 
DESCRIPTION:League Name: MSL Soccer - W/T Men's Division #5 South\nGame Typ
 e: Regular\nGame Status: Complete\nHome Team:   BUD FC\nAway Team:   Steez
 e FC \nHome Score: 3\nAway Score: 4
END:VEVENT
BEGIN:VEVENT
UID:10116477@ezleagues.ezfacility.com
DTSTAMP:20260424T043138Z
CREATED:20260424T043138Z
DTSTART:20170301T034000Z
DTEND:20170301T043500Z
LOCATION:PFFC Field House - B
CONTACT:
SUMMARY:RRFC VS.   Steeze FC 
DESCRIPTION:League Name: MSL Soccer - W/T Men's Division #5 South\nGame Typ
 e: Regular\nGame Status: Complete\nHome Team: RRFC\nAway Team:   Steeze FC
  \nHome Score: 4\nAway Score: 4
END:VEVENT
BEGIN:VEVENT
UID:10116518@ezleagues.ezfacility.com
DTSTAMP:20260424T043138Z
CREATED:20260424T043138Z
DTSTART:20170310T035500Z
DTEND:20170310T045000Z
LOCATION:PFFC Dome - 3
CONTACT:
SUMMARY:  Strikers United VS.   Steeze FC 
DESCRIPTION:League Name: MSL Soccer - W/T Men's Division #5 South\nGame Typ
 e: Regular\nGame Status: Complete\nHome Team:   Strikers United\nAway Team
 :   Steeze FC \nHome Score: 2\nAway Score: 4
END:VEVENT
BEGIN:VEVENT
UID:10116559@ezleagues.ezfacility.com
DTSTAMP:20260424T043138Z
CREATED:20260424T043138Z
DTSTART:20170315T230000Z
DTEND:20170315T235500Z
LOCATION:PFFC Field House - D
CONTACT:
SUMMARY:  Steeze FC  VS.   Those Guys FC 
DESCRIPTION:League Name: MSL Soccer - W/T Men's Division #5 South\nGame Typ
 e: Regular\nGame Status: Complete\nHome Team:   Steeze FC \nAway Team:   T
 hose Guys FC \nHome Score: 1\nAway Score: 3
END:VEVENT
BEGIN:VEVENT
UID:10116602@ezleagues.ezfacility.com
DTSTAMP:20260424T043138Z
CREATED:20260424T043138Z
DTSTART:20170323T230000Z
DTEND:20170323T235500Z
LOCATION:PFFC Field House - A
CONTACT:
SUMMARY:  Steeze FC  VS.   SG United
DESCRIPTION:League Name: MSL Soccer - W/T Men's Division #5 South\nGame Typ
 e: Regular\nGame Status: Complete\nHome Team:   Steeze FC \nAway Team:   S
 G United\nHome Score: 1\nAway Score: 0
END:VEVENT
BEGIN:VEVENT
UID:10116645@ezleagues.ezfacility.com
DTSTAMP:20260424T043138Z
CREATED:20260424T043138Z
DTSTART:20170330T005000Z
DTEND:20170330T014500Z
LOCATION:PFFC Field House - C
CONTACT:
SUMMARY:  Steeze FC  VS.   ABCDE FC
DESCRIPTION:League Name: MSL Soccer - W/T Men's Division #5 South\nGame Typ
 e: Regular\nGame Status: Complete\nHome Team:   Steeze FC \nAway Team:   A
 BCDE FC\nHome Score: 0\nAway Score: 3
END:VEVENT
BEGIN:VEVENT
UID:10116688@ezleagues.ezfacility.com
DTSTAMP:20260424T043138Z
CREATED:20260424T043138Z
DTSTART:20170407T020000Z
DTEND:20170407T025500Z
LOCATION:PFFC Dome - 2
CONTACT:
SUMMARY:  Steeze FC  VS.   Storm FC
DESCRIPTION:League Name: MSL Soccer - W/T Men's Division #5 South\nGame Typ
 e: Regular\nGame Status: Complete\nHome Team:   Steeze FC \nAway Team:   S
 torm FC\nHome Score: 1\nAway Score: 4
END:VEVENT
BEGIN:VEVENT
UID:10116731@ezleagues.ezfacility.com
DTSTAMP:20260424T043138Z
CREATED:20260424T043138Z
DTSTART:20170414T014500Z
DTEND:20170414T024000Z
LOCATION:PFFC Field House - C
CONTACT:
SUMMARY:  Steeze FC  VS. Atletico
DESCRIPTION:League Name: MSL Soccer - W/T Men's Division #5 South\nGame Typ
 e: Regular\nGame Status: Complete\nHome Team:   Steeze FC \nAway Team: Atl
 etico\nHome Score: 2\nAway Score: 4
END:VEVENT
BEGIN:VEVENT
UID:10116773@ezleagues.ezfacility.com
DTSTAMP:20260424T043138Z
CREATED:20260424T043138Z
DTSTART:20170420T005000Z
DTEND:20170420T014500Z
LOCATION:PFFC Field House - A
CONTACT:
SUMMARY:  MDV Gunners FC VS.   Steeze FC 
DESCRIPTION:League Name: MSL Soccer - W/T Men's Division #5 South\nGame Typ
 e: Regular\nGame Status: Complete\nHome Team:   MDV Gunners FC\nAway Team:
    Steeze FC \nHome Score: 3\nAway Score: 2
END:VEVENT
BEGIN:VEVENT
UID:10304393@ezleagues.ezfacility.com
DTSTAMP:20260424T043138Z
CREATED:20260424T043138Z
DTSTART:20170428T013500Z
DTEND:20170428T022500Z
LOCATION:PFFC Field House - C
CONTACT:
SUMMARY:  Those Guys FC  VS.   Steeze FC 
DESCRIPTION:League Name: MSL Soccer - W/T Men's Division #5 South\nGame Typ
 e: Postseason\nGame Status: Complete\nHome Team:   Those Guys FC \nAway Te
 am:   Steeze FC \nHome Score: 2\nAway Score: 3
END:VEVENT
BEGIN:VEVENT
UID:10304398@ezleagues.ezfacility.com
DTSTAMP:20260424T043138Z
CREATED:20260424T043138Z
DTSTART:20170504T013500Z
DTEND:20170504T022500Z
LOCATION:PFFC Field House - B
CONTACT:
SUMMARY:  Steeze FC  VS.   ABCDE FC
DESCRIPTION:League Name: MSL Soccer - W/T Men's Division #5 South\nGame Typ
 e: Postseason\nGame Status: Complete\nHome Team:   Steeze FC \nAway Team: 
   ABCDE FC\nHome Score: 0\nAway Score: 4
END:VEVENT
END:VCALENDAR
