BEGIN:VCALENDAR
VERSION:2.0
PRODID:-//EZFacility.com, Inc.//EZL 2.5.5.28621
BEGIN:VEVENT
UID:10116225@ezleagues.ezfacility.com
DTSTAMP:20260426T033612Z
CREATED:20260426T033612Z
DTSTART:20170119T000000Z
DTEND:20170119T005500Z
LOCATION:PFFC Field House - B
CONTACT:
SUMMARY:  BUD FC VS. Atletico
DESCRIPTION:League Name: MSL Soccer - W/T Men's Division #5 South\nGame Typ
 e: Regular\nGame Status: Complete\nHome Team:   BUD FC\nAway Team: Atletic
 o\nHome Score: 5\nAway Score: 4
END:VEVENT
BEGIN:VEVENT
UID:10116268@ezleagues.ezfacility.com
DTSTAMP:20260426T033612Z
CREATED:20260426T033612Z
DTSTART:20170127T005500Z
DTEND:20170127T015000Z
LOCATION:PFFC Field House - C
CONTACT:
SUMMARY:Malicki Sanchez VS. Atletico
DESCRIPTION:League Name: MSL Soccer - W/T Men's Division #5 South\nGame Typ
 e: Regular\nGame Status: Complete\nHome Team: Malicki Sanchez\nAway Team: 
 Atletico\nHome Score: 1\nAway Score: 2
END:VEVENT
BEGIN:VEVENT
UID:10116311@ezleagues.ezfacility.com
DTSTAMP:20260426T033612Z
CREATED:20260426T033612Z
DTSTART:20170203T024500Z
DTEND:20170203T034000Z
LOCATION:PFFC Field House - D
CONTACT:
SUMMARY:  Strikers United VS. Atletico
DESCRIPTION:League Name: MSL Soccer - W/T Men's Division #5 South\nGame Typ
 e: Regular\nGame Status: Complete\nHome Team:   Strikers United\nAway Team
 : Atletico\nHome Score: 2\nAway Score: 3
END:VEVENT
BEGIN:VEVENT
UID:10116353@ezleagues.ezfacility.com
DTSTAMP:20260426T033612Z
CREATED:20260426T033612Z
DTSTART:20170210T005500Z
DTEND:20170210T015000Z
LOCATION:PFFC Field House - D
CONTACT:
SUMMARY:Atletico VS.   Steeze FC 
DESCRIPTION:League Name: MSL Soccer - W/T Men's Division #5 South\nGame Typ
 e: Regular\nGame Status: Complete\nHome Team: Atletico\nAway Team:   Steez
 e FC \nHome Score: 0\nAway Score: 2
END:VEVENT
BEGIN:VEVENT
UID:10116394@ezleagues.ezfacility.com
DTSTAMP:20260426T033612Z
CREATED:20260426T033612Z
DTSTART:20170217T034000Z
DTEND:20170217T043500Z
LOCATION:PFFC Field House - C
CONTACT:
SUMMARY:Atletico VS.   SG United
DESCRIPTION:League Name: MSL Soccer - W/T Men's Division #5 South\nGame Typ
 e: Regular\nGame Status: Rescheduled\nHome Team: Atletico\nAway Team:   SG
  United\n
END:VEVENT
BEGIN:VEVENT
UID:10116435@ezleagues.ezfacility.com
DTSTAMP:20260426T033612Z
CREATED:20260426T033612Z
DTSTART:20170223T024500Z
DTEND:20170223T034000Z
LOCATION:PFFC Field House - A
CONTACT:
SUMMARY:  ABCDE FC VS. Atletico
DESCRIPTION:League Name: MSL Soccer - W/T Men's Division #5 South\nGame Typ
 e: Regular\nGame Status: Complete\nHome Team:   ABCDE FC\nAway Team: Atlet
 ico\nHome Score: 3\nAway Score: 2
END:VEVENT
BEGIN:VEVENT
UID:10116476@ezleagues.ezfacility.com
DTSTAMP:20260426T033612Z
CREATED:20260426T033612Z
DTSTART:20170302T005500Z
DTEND:20170302T015000Z
LOCATION:PFFC Field House - A
CONTACT:
SUMMARY:  Storm FC VS. Atletico
DESCRIPTION:League Name: MSL Soccer - W/T Men's Division #5 South\nGame Typ
 e: Regular\nGame Status: Complete\nHome Team:   Storm FC\nAway Team: Atlet
 ico\nHome Score: 0\nAway Score: 1
END:VEVENT
BEGIN:VEVENT
UID:10116517@ezleagues.ezfacility.com
DTSTAMP:20260426T033612Z
CREATED:20260426T033612Z
DTSTART:20170309T015000Z
DTEND:20170309T024500Z
LOCATION:PFFC Field House - D
CONTACT:
SUMMARY:Atletico VS.   Those Guys FC 
DESCRIPTION:League Name: MSL Soccer - W/T Men's Division #5 South\nGame Typ
 e: Regular\nGame Status: Complete\nHome Team: Atletico\nAway Team:   Those
  Guys FC \nHome Score: 2\nAway Score: 4
END:VEVENT
BEGIN:VEVENT
UID:10116560@ezleagues.ezfacility.com
DTSTAMP:20260426T033612Z
CREATED:20260426T033612Z
DTSTART:20170317T024000Z
DTEND:20170317T033500Z
LOCATION:PFFC Field House - D
CONTACT:
SUMMARY:Atletico VS.   MDV Gunners FC
DESCRIPTION:League Name: MSL Soccer - W/T Men's Division #5 South\nGame Typ
 e: Regular\nGame Status: Complete\nHome Team: Atletico\nAway Team:   MDV G
 unners FC\nHome Score: 2\nAway Score: 2
END:VEVENT
BEGIN:VEVENT
UID:10116603@ezleagues.ezfacility.com
DTSTAMP:20260426T033612Z
CREATED:20260426T033612Z
DTSTART:20170324T033500Z
DTEND:20170324T043000Z
LOCATION:PFFC Field House - D
CONTACT:
SUMMARY:Atletico VS.   BUD FC
DESCRIPTION:League Name: MSL Soccer - W/T Men's Division #5 South\nGame Typ
 e: Regular\nGame Status: Complete\nHome Team: Atletico\nAway Team:   BUD F
 C\nHome Score: 0\nAway Score: 3
END:VEVENT
BEGIN:VEVENT
UID:10116646@ezleagues.ezfacility.com
DTSTAMP:20260426T033612Z
CREATED:20260426T033612Z
DTSTART:20170331T005000Z
DTEND:20170331T014500Z
LOCATION:PFFC Field House - B
CONTACT:
SUMMARY:Atletico VS. RRFC
DESCRIPTION:League Name: MSL Soccer - W/T Men's Division #5 South\nGame Typ
 e: Regular\nGame Status: Complete\nHome Team: Atletico\nAway Team: RRFC\nH
 ome Score: 1\nAway Score: 2
END:VEVENT
BEGIN:VEVENT
UID:10116689@ezleagues.ezfacility.com
DTSTAMP:20260426T033612Z
CREATED:20260426T033612Z
DTSTART:20170407T024000Z
DTEND:20170407T033500Z
LOCATION:PFFC Field House - A
CONTACT:
SUMMARY:Atletico VS.   Strikers United
DESCRIPTION:League Name: MSL Soccer - W/T Men's Division #5 South\nGame Typ
 e: Regular\nGame Status: Complete\nHome Team: Atletico\nAway Team:   Strik
 ers United\nHome Score: 5\nAway Score: 1
END:VEVENT
BEGIN:VEVENT
UID:10116731@ezleagues.ezfacility.com
DTSTAMP:20260426T033612Z
CREATED:20260426T033612Z
DTSTART:20170414T014500Z
DTEND:20170414T024000Z
LOCATION:PFFC Field House - C
CONTACT:
SUMMARY:  Steeze FC  VS. Atletico
DESCRIPTION:League Name: MSL Soccer - W/T Men's Division #5 South\nGame Typ
 e: Regular\nGame Status: Complete\nHome Team:   Steeze FC \nAway Team: Atl
 etico\nHome Score: 2\nAway Score: 4
END:VEVENT
BEGIN:VEVENT
UID:10116772@ezleagues.ezfacility.com
DTSTAMP:20260426T033612Z
CREATED:20260426T033612Z
DTSTART:20170420T024000Z
DTEND:20170420T033500Z
LOCATION:PFFC Field House - B
CONTACT:
SUMMARY:  SG United VS. Atletico
DESCRIPTION:League Name: MSL Soccer - W/T Men's Division #5 South\nGame Typ
 e: Regular\nGame Status: Complete\nHome Team:   SG United\nAway Team: Atle
 tico\nHome Score: 4\nAway Score: 2
END:VEVENT
BEGIN:VEVENT
UID:10368107@ezleagues.ezfacility.com
DTSTAMP:20260426T033612Z
CREATED:20260426T033612Z
DTSTART:20170426T014500Z
DTEND:20170426T024000Z
LOCATION:PFFC Dome - 1
CONTACT:
SUMMARY:Atletico VS.   SG United
DESCRIPTION:League Name: MSL Soccer - W/T Men's Division #5 South\nGame Typ
 e: Regular\nGame Status: Complete\nHome Team: Atletico\nAway Team:   SG Un
 ited\nHome Score: 3\nAway Score: 1
END:VEVENT
BEGIN:VEVENT
UID:10304396@ezleagues.ezfacility.com
DTSTAMP:20260426T033612Z
CREATED:20260426T033612Z
DTSTART:20170428T031500Z
DTEND:20170428T040500Z
LOCATION:PFFC Field House - C
CONTACT:
SUMMARY:  BUD FC VS. Atletico
DESCRIPTION:League Name: MSL Soccer - W/T Men's Division #5 South\nGame Typ
 e: Postseason\nGame Status: Complete\nHome Team:   BUD FC\nAway Team: Atle
 tico\nHome Score: 0\nAway Score: 3
END:VEVENT
BEGIN:VEVENT
UID:10304399@ezleagues.ezfacility.com
DTSTAMP:20260426T033612Z
CREATED:20260426T033612Z
DTSTART:20170504T013500Z
DTEND:20170504T022500Z
LOCATION:PFFC Field House - C
CONTACT:
SUMMARY:RRFC VS. Atletico
DESCRIPTION:League Name: MSL Soccer - W/T Men's Division #5 South\nGame Typ
 e: Postseason\nGame Status: Complete\nHome Team: RRFC\nAway Team: Atletico
 \nHome Score: 1\nAway Score: 0
END:VEVENT
END:VCALENDAR
