BEGIN:VCALENDAR
VERSION:2.0
PRODID:-//EZFacility.com, Inc.//EZL 2.5.5.28621
BEGIN:VEVENT
UID:10116434@ezleagues.ezfacility.com
DTSTAMP:20260421T090716Z
CREATED:20260421T090716Z
DTSTART:20170223T043500Z
DTEND:20170223T053000Z
LOCATION:PFFC Field House - A
CONTACT:
SUMMARY:RRFC VS.   Strikers United
DESCRIPTION:League Name: MSL Soccer - W/T Men's Division #5 South\nGame Typ
 e: Regular\nGame Status: Complete\nHome Team: RRFC\nAway Team:   Strikers 
 United\nHome Score: 3\nAway Score: 4
END:VEVENT
BEGIN:VEVENT
UID:10116477@ezleagues.ezfacility.com
DTSTAMP:20260421T090716Z
CREATED:20260421T090716Z
DTSTART:20170301T034000Z
DTEND:20170301T043500Z
LOCATION:PFFC Field House - B
CONTACT:
SUMMARY:RRFC VS.   Steeze FC 
DESCRIPTION:League Name: MSL Soccer - W/T Men's Division #5 South\nGame Typ
 e: Regular\nGame Status: Complete\nHome Team: RRFC\nAway Team:   Steeze FC
  \nHome Score: 4\nAway Score: 4
END:VEVENT
BEGIN:VEVENT
UID:10116520@ezleagues.ezfacility.com
DTSTAMP:20260421T090716Z
CREATED:20260421T090716Z
DTSTART:20170310T015000Z
DTEND:20170310T024500Z
LOCATION:PFFC Field House - B
CONTACT:
SUMMARY:  SG United VS. RRFC
DESCRIPTION:League Name: MSL Soccer - W/T Men's Division #5 South\nGame Typ
 e: Regular\nGame Status: Complete\nHome Team:   SG United\nAway Team: RRFC
 \nHome Score: 3\nAway Score: 5
END:VEVENT
BEGIN:VEVENT
UID:10116563@ezleagues.ezfacility.com
DTSTAMP:20260421T090716Z
CREATED:20260421T090716Z
DTSTART:20170315T024000Z
DTEND:20170315T033500Z
LOCATION:PFFC Field House - D
CONTACT:
SUMMARY:RRFC VS.   ABCDE FC
DESCRIPTION:League Name: MSL Soccer - W/T Men's Division #5 South\nGame Typ
 e: Regular\nGame Status: Complete\nHome Team: RRFC\nAway Team:   ABCDE FC\
 nHome Score: 4\nAway Score: 6
END:VEVENT
BEGIN:VEVENT
UID:10116605@ezleagues.ezfacility.com
DTSTAMP:20260421T090716Z
CREATED:20260421T090716Z
DTSTART:20170323T235500Z
DTEND:20170324T005000Z
LOCATION:PFFC Field House - B
CONTACT:
SUMMARY:  Storm FC VS. RRFC
DESCRIPTION:League Name: MSL Soccer - W/T Men's Division #5 South\nGame Typ
 e: Regular\nGame Status: Complete\nHome Team:   Storm FC\nAway Team: RRFC\
 nHome Score: 4\nAway Score: 4
END:VEVENT
BEGIN:VEVENT
UID:10116646@ezleagues.ezfacility.com
DTSTAMP:20260421T090716Z
CREATED:20260421T090716Z
DTSTART:20170331T005000Z
DTEND:20170331T014500Z
LOCATION:PFFC Field House - B
CONTACT:
SUMMARY:Atletico VS. RRFC
DESCRIPTION:League Name: MSL Soccer - W/T Men's Division #5 South\nGame Typ
 e: Regular\nGame Status: Complete\nHome Team: Atletico\nAway Team: RRFC\nH
 ome Score: 1\nAway Score: 2
END:VEVENT
BEGIN:VEVENT
UID:10116687@ezleagues.ezfacility.com
DTSTAMP:20260421T090716Z
CREATED:20260421T090716Z
DTSTART:20170406T033500Z
DTEND:20170406T043000Z
LOCATION:PFFC Field House - D
CONTACT:
SUMMARY:  MDV Gunners FC VS. RRFC
DESCRIPTION:League Name: MSL Soccer - W/T Men's Division #5 South\nGame Typ
 e: Regular\nGame Status: Complete\nHome Team:   MDV Gunners FC\nAway Team:
  RRFC\nHome Score: 3\nAway Score: 5
END:VEVENT
BEGIN:VEVENT
UID:10116728@ezleagues.ezfacility.com
DTSTAMP:20260421T090716Z
CREATED:20260421T090716Z
DTSTART:20170412T235500Z
DTEND:20170413T005000Z
LOCATION:PFFC Field House - D
CONTACT:
SUMMARY:  BUD FC VS. RRFC
DESCRIPTION:League Name: MSL Soccer - W/T Men's Division #5 South\nGame Typ
 e: Regular\nGame Status: Complete\nHome Team:   BUD FC\nAway Team: RRFC\nH
 ome Score: 3\nAway Score: 5
END:VEVENT
BEGIN:VEVENT
UID:10116769@ezleagues.ezfacility.com
DTSTAMP:20260421T090716Z
CREATED:20260421T090716Z
DTSTART:20170420T024000Z
DTEND:20170420T033500Z
LOCATION:PFFC Field House - C
CONTACT:
SUMMARY:RRFC VS.   Those Guys FC 
DESCRIPTION:League Name: MSL Soccer - W/T Men's Division #5 South\nGame Typ
 e: Regular\nGame Status: Complete\nHome Team: RRFC\nAway Team:   Those Guy
 s FC \nHome Score: 3\nAway Score: 0
END:VEVENT
BEGIN:VEVENT
UID:10304395@ezleagues.ezfacility.com
DTSTAMP:20260421T090716Z
CREATED:20260421T090716Z
DTSTART:20170428T031500Z
DTEND:20170428T040500Z
LOCATION:PFFC Field House - B
CONTACT:
SUMMARY:RRFC VS. Winner of Game 1
DESCRIPTION:League Name: MSL Soccer - W/T Men's Division #5 South\nGame Typ
 e: Postseason\nGame Status: Complete\nHome Team: RRFC\nAway Team: Winner o
 f Game 1\nHome Score: 4\nAway Score: 1
END:VEVENT
BEGIN:VEVENT
UID:10304399@ezleagues.ezfacility.com
DTSTAMP:20260421T090716Z
CREATED:20260421T090716Z
DTSTART:20170504T013500Z
DTEND:20170504T022500Z
LOCATION:PFFC Field House - C
CONTACT:
SUMMARY:RRFC VS. Atletico
DESCRIPTION:League Name: MSL Soccer - W/T Men's Division #5 South\nGame Typ
 e: Postseason\nGame Status: Complete\nHome Team: RRFC\nAway Team: Atletico
 \nHome Score: 1\nAway Score: 0
END:VEVENT
END:VCALENDAR
