BEGIN:VCALENDAR
VERSION:2.0
PRODID:-//EZFacility.com, Inc.//EZL 2.5.5.28621
BEGIN:VEVENT
UID:10116222@ezleagues.ezfacility.com
DTSTAMP:20260426T035038Z
CREATED:20260426T035038Z
DTSTART:20170120T034000Z
DTEND:20170120T043500Z
LOCATION:PFFC Field House - A
CONTACT:
SUMMARY:  West Bloor united VS.   Puush Truu
DESCRIPTION:League Name: MSL Soccer - W/T Men's Division #6 North\nGame Typ
 e: Regular\nGame Status: Complete\nHome Team:   West Bloor united\nAway Te
 am:   Puush Truu\nHome Score: 1\nAway Score: 7
END:VEVENT
BEGIN:VEVENT
UID:10116264@ezleagues.ezfacility.com
DTSTAMP:20260426T035038Z
CREATED:20260426T035038Z
DTSTART:20170127T034000Z
DTEND:20170127T043500Z
LOCATION:PFFC Field House - C
CONTACT:
SUMMARY:  Puush Truu VS.   BBC FC
DESCRIPTION:League Name: MSL Soccer - W/T Men's Division #6 North\nGame Typ
 e: Regular\nGame Status: Complete\nHome Team:   Puush Truu\nAway Team:   B
 BC FC\nHome Score: 0\nAway Score: 2
END:VEVENT
BEGIN:VEVENT
UID:10116305@ezleagues.ezfacility.com
DTSTAMP:20260426T035038Z
CREATED:20260426T035038Z
DTSTART:20170203T034000Z
DTEND:20170203T043500Z
LOCATION:PFFC Field House - D
CONTACT:
SUMMARY:  Puush Truu VS.   RPFC
DESCRIPTION:League Name: MSL Soccer - W/T Men's Division #6 North\nGame Typ
 e: Regular\nGame Status: Complete\nHome Team:   Puush Truu\nAway Team:   R
 PFC\nHome Score: 2\nAway Score: 1
END:VEVENT
BEGIN:VEVENT
UID:10116346@ezleagues.ezfacility.com
DTSTAMP:20260426T035038Z
CREATED:20260426T035038Z
DTSTART:20170208T024500Z
DTEND:20170208T034000Z
LOCATION:PFFC Field House - B
CONTACT:
SUMMARY:  Puush Truu VS.   TDFC
DESCRIPTION:League Name: MSL Soccer - W/T Men's Division #6 North\nGame Typ
 e: Regular\nGame Status: Complete\nHome Team:   Puush Truu\nAway Team:   T
 DFC\nHome Score: 3\nAway Score: 4
END:VEVENT
BEGIN:VEVENT
UID:10116387@ezleagues.ezfacility.com
DTSTAMP:20260426T035038Z
CREATED:20260426T035038Z
DTSTART:20170216T005500Z
DTEND:20170216T015000Z
LOCATION:PFFC Field House - A
CONTACT:
SUMMARY:  Regulators VS.   Puush Truu
DESCRIPTION:League Name: MSL Soccer - W/T Men's Division #6 North\nGame Typ
 e: Regular\nGame Status: Complete\nHome Team:   Regulators\nAway Team:   P
 uush Truu\nHome Score: 5\nAway Score: 0
END:VEVENT
BEGIN:VEVENT
UID:10116430@ezleagues.ezfacility.com
DTSTAMP:20260426T035038Z
CREATED:20260426T035038Z
DTSTART:20170224T005500Z
DTEND:20170224T015000Z
LOCATION:PFFC Field House - B
CONTACT:
SUMMARY:  XJBT FC   VS.   Puush Truu
DESCRIPTION:League Name: MSL Soccer - W/T Men's Division #6 North\nGame Typ
 e: Regular\nGame Status: Complete\nHome Team:   XJBT FC  \nAway Team:   Pu
 ush Truu\nHome Score: 3\nAway Score: 1
END:VEVENT
BEGIN:VEVENT
UID:10116473@ezleagues.ezfacility.com
DTSTAMP:20260426T035038Z
CREATED:20260426T035038Z
DTSTART:20170303T000000Z
DTEND:20170303T005500Z
LOCATION:PFFC Field House - A
CONTACT:
SUMMARY:UNFC VS.   Puush Truu
DESCRIPTION:League Name: MSL Soccer - W/T Men's Division #6 North\nGame Typ
 e: Regular\nGame Status: Complete\nHome Team: UNFC\nAway Team:   Puush Tru
 u\nHome Score: 3\nAway Score: 0
END:VEVENT
BEGIN:VEVENT
UID:10116516@ezleagues.ezfacility.com
DTSTAMP:20260426T035038Z
CREATED:20260426T035038Z
DTSTART:20170309T000000Z
DTEND:20170309T005500Z
LOCATION:PFFC Field House - A
CONTACT:
SUMMARY:  Puush Truu VS.   West Bloor united
DESCRIPTION:League Name: MSL Soccer - W/T Men's Division #6 North\nGame Typ
 e: Regular\nGame Status: Complete\nHome Team:   Puush Truu\nAway Team:   W
 est Bloor united\nHome Score: 1\nAway Score: 4
END:VEVENT
BEGIN:VEVENT
UID:10116558@ezleagues.ezfacility.com
DTSTAMP:20260426T035038Z
CREATED:20260426T035038Z
DTSTART:20170317T033500Z
DTEND:20170317T043000Z
LOCATION:PFFC Field House - D
CONTACT:
SUMMARY:  BBC FC VS.   Puush Truu
DESCRIPTION:League Name: MSL Soccer - W/T Men's Division #6 North\nGame Typ
 e: Regular\nGame Status: Complete\nHome Team:   BBC FC\nAway Team:   Puush
  Truu\nHome Score: 3\nAway Score: 6
END:VEVENT
BEGIN:VEVENT
UID:10116599@ezleagues.ezfacility.com
DTSTAMP:20260426T035038Z
CREATED:20260426T035038Z
DTSTART:20170323T024000Z
DTEND:20170323T033500Z
LOCATION:PFFC Field House - D
CONTACT:
SUMMARY:  RPFC VS.   Puush Truu
DESCRIPTION:League Name: MSL Soccer - W/T Men's Division #6 North\nGame Typ
 e: Regular\nGame Status: Complete\nHome Team:   RPFC\nAway Team:   Puush T
 ruu\nHome Score: 1\nAway Score: 1
END:VEVENT
BEGIN:VEVENT
UID:10116640@ezleagues.ezfacility.com
DTSTAMP:20260426T035038Z
CREATED:20260426T035038Z
DTSTART:20170330T235500Z
DTEND:20170331T005000Z
LOCATION:PFFC Field House - C
CONTACT:
SUMMARY:  TDFC VS.   Puush Truu
DESCRIPTION:League Name: MSL Soccer - W/T Men's Division #6 North\nGame Typ
 e: Regular\nGame Status: Complete\nHome Team:   TDFC\nAway Team:   Puush T
 ruu\nHome Score: 3\nAway Score: 2
END:VEVENT
BEGIN:VEVENT
UID:10116681@ezleagues.ezfacility.com
DTSTAMP:20260426T035038Z
CREATED:20260426T035038Z
DTSTART:20170406T005000Z
DTEND:20170406T014500Z
LOCATION:PFFC Field House - C
CONTACT:
SUMMARY:  Puush Truu VS.   Regulators
DESCRIPTION:League Name: MSL Soccer - W/T Men's Division #6 North\nGame Typ
 e: Regular\nGame Status: Complete\nHome Team:   Puush Truu\nAway Team:   R
 egulators\nHome Score: 0\nAway Score: 0
END:VEVENT
BEGIN:VEVENT
UID:10116724@ezleagues.ezfacility.com
DTSTAMP:20260426T035038Z
CREATED:20260426T035038Z
DTSTART:20170412T220500Z
DTEND:20170412T230000Z
LOCATION:PFFC Field House - C
CONTACT:
SUMMARY:  Puush Truu VS.   XJBT FC  
DESCRIPTION:League Name: MSL Soccer - W/T Men's Division #6 North\nGame Typ
 e: Regular\nGame Status: Complete\nHome Team:   Puush Truu\nAway Team:   X
 JBT FC  \nHome Score: 1\nAway Score: 4
END:VEVENT
BEGIN:VEVENT
UID:10116767@ezleagues.ezfacility.com
DTSTAMP:20260426T035038Z
CREATED:20260426T035038Z
DTSTART:20170420T235500Z
DTEND:20170421T005000Z
LOCATION:PFFC Field House - D
CONTACT:
SUMMARY:  Puush Truu VS. UNFC
DESCRIPTION:League Name: MSL Soccer - W/T Men's Division #6 North\nGame Typ
 e: Regular\nGame Status: Complete\nHome Team:   Puush Truu\nAway Team: UNF
 C\nHome Score: 1\nAway Score: 9
END:VEVENT
BEGIN:VEVENT
UID:10304401@ezleagues.ezfacility.com
DTSTAMP:20260426T035038Z
CREATED:20260426T035038Z
DTSTART:20170427T230500Z
DTEND:20170427T235500Z
LOCATION:PFFC Field House - A
CONTACT:
SUMMARY:UNFC VS.   Puush Truu
DESCRIPTION:League Name: MSL Soccer - W/T Men's Division #6 North\nGame Typ
 e: Postseason\nGame Status: Complete\nHome Team: UNFC\nAway Team:   Puush 
 Truu\nHome Score: 2\nAway Score: 0
END:VEVENT
END:VCALENDAR
