BEGIN:VCALENDAR
VERSION:2.0
PRODID:-//EZFacility.com, Inc.//EZL 2.5.5.28621
BEGIN:VEVENT
UID:10116221@ezleagues.ezfacility.com
DTSTAMP:20260421T184245Z
CREATED:20260421T184245Z
DTSTART:20170120T035500Z
DTEND:20170120T045000Z
LOCATION:PFFC Dome - 3
CONTACT:
SUMMARY:  TDFC VS.   BBC FC
DESCRIPTION:League Name: MSL Soccer - W/T Men's Division #6 North\nGame Typ
 e: Regular\nGame Status: Complete\nHome Team:   TDFC\nAway Team:   BBC FC\
 nHome Score: 4\nAway Score: 3
END:VEVENT
BEGIN:VEVENT
UID:10116262@ezleagues.ezfacility.com
DTSTAMP:20260421T184245Z
CREATED:20260421T184245Z
DTSTART:20170126T043500Z
DTEND:20170126T053000Z
LOCATION:PFFC Field House - D
CONTACT:
SUMMARY:  TDFC VS.   RPFC
DESCRIPTION:League Name: MSL Soccer - W/T Men's Division #6 North\nGame Typ
 e: Regular\nGame Status: Complete\nHome Team:   TDFC\nAway Team:   RPFC\nH
 ome Score: 0\nAway Score: 1
END:VEVENT
BEGIN:VEVENT
UID:10116303@ezleagues.ezfacility.com
DTSTAMP:20260421T184245Z
CREATED:20260421T184245Z
DTSTART:20170202T034000Z
DTEND:20170202T043500Z
LOCATION:PFFC Field House - C
CONTACT:
SUMMARY:  Regulators VS.   TDFC
DESCRIPTION:League Name: MSL Soccer - W/T Men's Division #6 North\nGame Typ
 e: Regular\nGame Status: Complete\nHome Team:   Regulators\nAway Team:   T
 DFC\nHome Score: 4\nAway Score: 0
END:VEVENT
BEGIN:VEVENT
UID:10116346@ezleagues.ezfacility.com
DTSTAMP:20260421T184245Z
CREATED:20260421T184245Z
DTSTART:20170208T024500Z
DTEND:20170208T034000Z
LOCATION:PFFC Field House - B
CONTACT:
SUMMARY:  Puush Truu VS.   TDFC
DESCRIPTION:League Name: MSL Soccer - W/T Men's Division #6 North\nGame Typ
 e: Regular\nGame Status: Complete\nHome Team:   Puush Truu\nAway Team:   T
 DFC\nHome Score: 3\nAway Score: 4
END:VEVENT
BEGIN:VEVENT
UID:10116389@ezleagues.ezfacility.com
DTSTAMP:20260421T184245Z
CREATED:20260421T184245Z
DTSTART:20170217T015000Z
DTEND:20170217T024500Z
LOCATION:PFFC Field House - B
CONTACT:
SUMMARY:  XJBT FC   VS.   TDFC
DESCRIPTION:League Name: MSL Soccer - W/T Men's Division #6 North\nGame Typ
 e: Regular\nGame Status: Complete\nHome Team:   XJBT FC  \nAway Team:   TD
 FC\nHome Score: 2\nAway Score: 5
END:VEVENT
BEGIN:VEVENT
UID:10116432@ezleagues.ezfacility.com
DTSTAMP:20260421T184245Z
CREATED:20260421T184245Z
DTSTART:20170224T024500Z
DTEND:20170224T034000Z
LOCATION:PFFC Field House - D
CONTACT:
SUMMARY:UNFC VS.   TDFC
DESCRIPTION:League Name: MSL Soccer - W/T Men's Division #6 North\nGame Typ
 e: Regular\nGame Status: Complete\nHome Team: UNFC\nAway Team:   TDFC\nHom
 e Score: 2\nAway Score: 1
END:VEVENT
BEGIN:VEVENT
UID:10116474@ezleagues.ezfacility.com
DTSTAMP:20260421T184245Z
CREATED:20260421T184245Z
DTSTART:20170303T000000Z
DTEND:20170303T005500Z
LOCATION:PFFC Field House - D
CONTACT:
SUMMARY:  TDFC VS.   West Bloor united
DESCRIPTION:League Name: MSL Soccer - W/T Men's Division #6 North\nGame Typ
 e: Regular\nGame Status: Complete\nHome Team:   TDFC\nAway Team:   West Bl
 oor united\nHome Score: 5\nAway Score: 3
END:VEVENT
BEGIN:VEVENT
UID:10116515@ezleagues.ezfacility.com
DTSTAMP:20260421T184245Z
CREATED:20260421T184245Z
DTSTART:20170310T005500Z
DTEND:20170310T015000Z
LOCATION:PFFC Field House - B
CONTACT:
SUMMARY:  BBC FC VS.   TDFC
DESCRIPTION:League Name: MSL Soccer - W/T Men's Division #6 North\nGame Typ
 e: Regular\nGame Status: Complete\nHome Team:   BBC FC\nAway Team:   TDFC\
 nHome Score: 3\nAway Score: 6
END:VEVENT
BEGIN:VEVENT
UID:10116556@ezleagues.ezfacility.com
DTSTAMP:20260421T184245Z
CREATED:20260421T184245Z
DTSTART:20170316T230000Z
DTEND:20170316T235500Z
LOCATION:PFFC Field House - A
CONTACT:
SUMMARY:  RPFC VS.   TDFC
DESCRIPTION:League Name: MSL Soccer - W/T Men's Division #6 North\nGame Typ
 e: Regular\nGame Status: Complete\nHome Team:   RPFC\nAway Team:   TDFC\nH
 ome Score: 1\nAway Score: 4
END:VEVENT
BEGIN:VEVENT
UID:10116597@ezleagues.ezfacility.com
DTSTAMP:20260421T184245Z
CREATED:20260421T184245Z
DTSTART:20170323T024000Z
DTEND:20170323T033500Z
LOCATION:PFFC Field House - C
CONTACT:
SUMMARY:  TDFC VS.   Regulators
DESCRIPTION:League Name: MSL Soccer - W/T Men's Division #6 North\nGame Typ
 e: Regular\nGame Status: Complete\nHome Team:   TDFC\nAway Team:   Regulat
 ors\nHome Score: 6\nAway Score: 2
END:VEVENT
BEGIN:VEVENT
UID:10116640@ezleagues.ezfacility.com
DTSTAMP:20260421T184245Z
CREATED:20260421T184245Z
DTSTART:20170330T235500Z
DTEND:20170331T005000Z
LOCATION:PFFC Field House - C
CONTACT:
SUMMARY:  TDFC VS.   Puush Truu
DESCRIPTION:League Name: MSL Soccer - W/T Men's Division #6 North\nGame Typ
 e: Regular\nGame Status: Complete\nHome Team:   TDFC\nAway Team:   Puush T
 ruu\nHome Score: 3\nAway Score: 2
END:VEVENT
BEGIN:VEVENT
UID:10116683@ezleagues.ezfacility.com
DTSTAMP:20260421T184245Z
CREATED:20260421T184245Z
DTSTART:20170407T024000Z
DTEND:20170407T033500Z
LOCATION:PFFC Field House - D
CONTACT:
SUMMARY:  TDFC VS.   XJBT FC  
DESCRIPTION:League Name: MSL Soccer - W/T Men's Division #6 North\nGame Typ
 e: Regular\nGame Status: Complete\nHome Team:   TDFC\nAway Team:   XJBT FC
   \nHome Score: 6\nAway Score: 3
END:VEVENT
BEGIN:VEVENT
UID:10116726@ezleagues.ezfacility.com
DTSTAMP:20260421T184245Z
CREATED:20260421T184245Z
DTSTART:20170414T014500Z
DTEND:20170414T024000Z
LOCATION:PFFC Field House - D
CONTACT:
SUMMARY:  TDFC VS. UNFC
DESCRIPTION:League Name: MSL Soccer - W/T Men's Division #6 North\nGame Typ
 e: Regular\nGame Status: Complete\nHome Team:   TDFC\nAway Team: UNFC\nHom
 e Score: 1\nAway Score: 3
END:VEVENT
BEGIN:VEVENT
UID:10116768@ezleagues.ezfacility.com
DTSTAMP:20260421T184245Z
CREATED:20260421T184245Z
DTSTART:20170420T014500Z
DTEND:20170420T024000Z
LOCATION:PFFC Field House - B
CONTACT:
SUMMARY:  West Bloor united VS.   TDFC
DESCRIPTION:League Name: MSL Soccer - W/T Men's Division #6 North\nGame Typ
 e: Regular\nGame Status: Complete\nHome Team:   West Bloor united\nAway Te
 am:   TDFC\nHome Score: 3\nAway Score: 0
END:VEVENT
BEGIN:VEVENT
UID:10304402@ezleagues.ezfacility.com
DTSTAMP:20260421T184245Z
CREATED:20260421T184245Z
DTSTART:20170427T230500Z
DTEND:20170427T235500Z
LOCATION:PFFC Field House - B
CONTACT:
SUMMARY:  TDFC VS.   XJBT FC  
DESCRIPTION:League Name: MSL Soccer - W/T Men's Division #6 North\nGame Typ
 e: Postseason\nGame Status: Complete\nHome Team:   TDFC\nAway Team:   XJBT
  FC  \nHome Score: 4\nAway Score: 0
END:VEVENT
BEGIN:VEVENT
UID:10304408@ezleagues.ezfacility.com
DTSTAMP:20260421T184245Z
CREATED:20260421T184245Z
DTSTART:20170503T230500Z
DTEND:20170503T235500Z
LOCATION:PFFC Field House - C
CONTACT:
SUMMARY:  TDFC VS.   Regulators
DESCRIPTION:League Name: MSL Soccer - W/T Men's Division #6 North\nGame Typ
 e: Postseason\nGame Status: Complete\nHome Team:   TDFC\nAway Team:   Regu
 lators\nHome Score: 2\nAway Score: 3
END:VEVENT
END:VCALENDAR
