BEGIN:VCALENDAR
VERSION:2.0
PRODID:-//EZFacility.com, Inc.//EZL 2.5.5.28621
BEGIN:VEVENT
UID:10166076@ezleagues.ezfacility.com
DTSTAMP:20260424T043154Z
CREATED:20260424T043154Z
DTSTART:20170212T173000Z
DTEND:20170212T182500Z
LOCATION:Harmans Premier Field #4
CONTACT:
SUMMARY:Baltimore Celtic Dynamos VS. Misfits
DESCRIPTION:League Name: Youth (WINTER 2) SD2 Sat/Sun U12 Girls\nGame Type:
  Regular\nGame Status: Complete\nHome Team: Baltimore Celtic Dynamos\nAway
  Team: Misfits\nHome Score: 10\nAway Score: 2
END:VEVENT
BEGIN:VEVENT
UID:10166340@ezleagues.ezfacility.com
DTSTAMP:20260424T043154Z
CREATED:20260424T043154Z
DTSTART:20170220T180000Z
DTEND:20170220T185500Z
LOCATION:Harmans Premier Field #4
CONTACT:
SUMMARY:Maryland Rush White  VS. Baltimore Celtic Dynamos
DESCRIPTION:League Name: Youth (WINTER 2) SD2 Sat/Sun U12 Girls\nGame Type:
  Regular\nGame Status: Complete\nHome Team: Maryland Rush White \nAway Tea
 m: Baltimore Celtic Dynamos\nHome Score: 1\nAway Score: 6
END:VEVENT
BEGIN:VEVENT
UID:10166120@ezleagues.ezfacility.com
DTSTAMP:20260424T043154Z
CREATED:20260424T043154Z
DTSTART:20170220T200000Z
DTEND:20170220T205500Z
LOCATION:Harmans Premier Field #4
CONTACT:
SUMMARY:Baltimore Celtic Dynamos VS. GSPAA Storm
DESCRIPTION:League Name: Youth (WINTER 2) SD2 Sat/Sun U12 Girls\nGame Type:
  Regular\nGame Status: Complete\nHome Team: Baltimore Celtic Dynamos\nAway
  Team: GSPAA Storm\nHome Score: 10\nAway Score: 2
END:VEVENT
BEGIN:VEVENT
UID:10166164@ezleagues.ezfacility.com
DTSTAMP:20260424T043154Z
CREATED:20260424T043154Z
DTSTART:20170225T154000Z
DTEND:20170225T163500Z
LOCATION:Harmans Premier Field #5
CONTACT:
SUMMARY:Baltimore Celtic Dynamos VS. PSC Strykers
DESCRIPTION:League Name: Youth (WINTER 2) SD2 Sat/Sun U12 Girls\nGame Type:
  Regular\nGame Status: Complete\nHome Team: Baltimore Celtic Dynamos\nAway
  Team: PSC Strykers\nHome Score: 8\nAway Score: 0
END:VEVENT
BEGIN:VEVENT
UID:10166208@ezleagues.ezfacility.com
DTSTAMP:20260424T043154Z
CREATED:20260424T043154Z
DTSTART:20170305T154000Z
DTEND:20170305T163500Z
LOCATION:Harmans Premier Field #4
CONTACT:
SUMMARY:FSC Dynamite Red VS. Baltimore Celtic Dynamos
DESCRIPTION:League Name: Youth (WINTER 2) SD2 Sat/Sun U12 Girls\nGame Type:
  Regular\nGame Status: Complete\nHome Team: FSC Dynamite Red\nAway Team: B
 altimore Celtic Dynamos\nHome Score: 3\nAway Score: 9
END:VEVENT
BEGIN:VEVENT
UID:10166296@ezleagues.ezfacility.com
DTSTAMP:20260424T043154Z
CREATED:20260424T043154Z
DTSTART:20170311T144500Z
DTEND:20170311T154000Z
LOCATION:Harmans Premier Field #5
CONTACT:
SUMMARY:PSC Spirit VS. Baltimore Celtic Dynamos
DESCRIPTION:League Name: Youth (WINTER 2) SD2 Sat/Sun U12 Girls\nGame Type:
  Regular\nGame Status: Complete\nHome Team: PSC Spirit\nAway Team: Baltimo
 re Celtic Dynamos\nHome Score: 0\nAway Score: 8
END:VEVENT
BEGIN:VEVENT
UID:10166252@ezleagues.ezfacility.com
DTSTAMP:20260424T043154Z
CREATED:20260424T043154Z
DTSTART:20170326T144000Z
DTEND:20170326T153500Z
LOCATION:Harmans Premier Field #4
CONTACT:
SUMMARY:SAC Challenge VS. Baltimore Celtic Dynamos
DESCRIPTION:League Name: Youth (WINTER 2) SD2 Sat/Sun U12 Girls\nGame Type:
  Regular\nGame Status: Complete\nHome Team: SAC Challenge\nAway Team: Balt
 imore Celtic Dynamos\nHome Score: 1\nAway Score: 9
END:VEVENT
END:VCALENDAR
