BEGIN:VCALENDAR
VERSION:2.0
PRODID:-//EZFacility.com, Inc.//EZL 2.5.5.28621
BEGIN:VEVENT
UID:10111720@ezleagues.ezfacility.com
DTSTAMP:20260420T082744Z
CREATED:20260420T082744Z
DTSTART:20170128T001500Z
DTEND:20170128T005500Z
LOCATION:LG Field 2
CONTACT:
SUMMARY:Manchester United 04 VS. Arsenal
DESCRIPTION:League Name: Boys U13/14 Rec - Winter 2\nGame Type: Regular\nGa
 me Status: Complete\nHome Team: Manchester United 04\nAway Team: Arsenal\n
 Home Score: 11\nAway Score: 1
END:VEVENT
BEGIN:VEVENT
UID:10111728@ezleagues.ezfacility.com
DTSTAMP:20260420T082744Z
CREATED:20260420T082744Z
DTSTART:20170204T014500Z
DTEND:20170204T022500Z
LOCATION:LG Field 2
CONTACT:
SUMMARY:Manchester United 04 VS. Andromeda 
DESCRIPTION:League Name: Boys U13/14 Rec - Winter 2\nGame Type: Regular\nGa
 me Status: Complete\nHome Team: Manchester United 04\nAway Team: Andromeda
  \nHome Score: 6\nAway Score: 2
END:VEVENT
BEGIN:VEVENT
UID:10111748@ezleagues.ezfacility.com
DTSTAMP:20260420T082744Z
CREATED:20260420T082744Z
DTSTART:20170210T224500Z
DTEND:20170210T232500Z
LOCATION:LG Field 2
CONTACT:
SUMMARY:Manchester United 04 VS. Sharks 
DESCRIPTION:League Name: Boys U13/14 Rec - Winter 2\nGame Type: Regular\nGa
 me Status: Complete\nHome Team: Manchester United 04\nAway Team: Sharks \n
 Home Score: 7\nAway Score: 7
END:VEVENT
BEGIN:VEVENT
UID:10111738@ezleagues.ezfacility.com
DTSTAMP:20260420T082744Z
CREATED:20260420T082744Z
DTSTART:20170217T224500Z
DTEND:20170217T232500Z
LOCATION:LG Field 2
CONTACT:
SUMMARY:Thundercats VS. Manchester United 04
DESCRIPTION:League Name: Boys U13/14 Rec - Winter 2\nGame Type: Regular\nGa
 me Status: Complete\nHome Team: Thundercats\nAway Team: Manchester United 
 04\nHome Score: 0\nAway Score: 10
END:VEVENT
BEGIN:VEVENT
UID:10111758@ezleagues.ezfacility.com
DTSTAMP:20260420T082744Z
CREATED:20260420T082744Z
DTSTART:20170225T001500Z
DTEND:20170225T005500Z
LOCATION:LG Field 2
CONTACT:
SUMMARY:Galaxy  VS. Manchester United 04
DESCRIPTION:League Name: Boys U13/14 Rec - Winter 2\nGame Type: Regular\nGa
 me Status: Complete\nHome Team: Galaxy \nAway Team: Manchester United 04\n
 Home Score: 0\nAway Score: 10
END:VEVENT
BEGIN:VEVENT
UID:10111768@ezleagues.ezfacility.com
DTSTAMP:20260420T082744Z
CREATED:20260420T082744Z
DTSTART:20170304T023000Z
DTEND:20170304T031000Z
LOCATION:LG Field 2
CONTACT:
SUMMARY:Free Agents  VS. Manchester United 04
DESCRIPTION:League Name: Boys U13/14 Rec - Winter 2\nGame Type: Regular\nGa
 me Status: Complete\nHome Team: Free Agents \nAway Team: Manchester United
  04\nHome Score: 2\nAway Score: 9
END:VEVENT
BEGIN:VEVENT
UID:10111777@ezleagues.ezfacility.com
DTSTAMP:20260420T082744Z
CREATED:20260420T082744Z
DTSTART:20170310T224500Z
DTEND:20170310T232500Z
LOCATION:LG Field 2
CONTACT:
SUMMARY:Manchester United 04 VS. ODA Centro America
DESCRIPTION:League Name: Boys U13/14 Rec - Winter 2\nGame Type: Regular\nGa
 me Status: Complete\nHome Team: Manchester United 04\nAway Team: ODA Centr
 o America\nHome Score: 4\nAway Score: 4
END:VEVENT
BEGIN:VEVENT
UID:10111785@ezleagues.ezfacility.com
DTSTAMP:20260420T082744Z
CREATED:20260420T082744Z
DTSTART:20170317T231500Z
DTEND:20170317T235500Z
LOCATION:LG Field 2
CONTACT:
SUMMARY:Tulsa Eclipse  VS. Manchester United 04
DESCRIPTION:League Name: Boys U13/14 Rec - Winter 2\nGame Type: Regular\nGa
 me Status: Complete\nHome Team: Tulsa Eclipse \nAway Team: Manchester Unit
 ed 04\nHome Score: 0\nAway Score: 8
END:VEVENT
END:VCALENDAR
