BEGIN:VCALENDAR
VERSION:2.0
PRODID:-//EZFacility.com, Inc.//EZL 2.5.5.28621
BEGIN:VEVENT
UID:10136765@ezleagues.ezfacility.com
DTSTAMP:20260426T033449Z
CREATED:20260426T033449Z
DTSTART:20170206T220000Z
DTEND:20170206T230000Z
LOCATION:Jessup Premier Field #2
CONTACT:
SUMMARY:Blaze VS. Catonsville Elite Kaler
DESCRIPTION:League Name: Youth (WINTER 2) SD1 M, T, W, F U14 Boys\nGame Typ
 e: Regular\nGame Status: Complete\nHome Team: Blaze\nAway Team: Catonsvill
 e Elite Kaler\nHome Score: 8\nAway Score: 1
END:VEVENT
BEGIN:VEVENT
UID:10136778@ezleagues.ezfacility.com
DTSTAMP:20260426T033449Z
CREATED:20260426T033449Z
DTSTART:20170213T230000Z
DTEND:20170214T000000Z
LOCATION:Jessup Premier Field #1
CONTACT:
SUMMARY:BHRC Force VS. Catonsville Elite Kaler
DESCRIPTION:League Name: Youth (WINTER 2) SD1 M, T, W, F U14 Boys\nGame Typ
 e: Regular\nGame Status: Complete\nHome Team: BHRC Force\nAway Team: Caton
 sville Elite Kaler\nHome Score: 0\nAway Score: 8
END:VEVENT
BEGIN:VEVENT
UID:10136793@ezleagues.ezfacility.com
DTSTAMP:20260426T033449Z
CREATED:20260426T033449Z
DTSTART:20170224T230000Z
DTEND:20170225T000000Z
LOCATION:Jessup Premier Field #2
CONTACT:
SUMMARY:Catonsville Elite Kaler VS. Red Storm
DESCRIPTION:League Name: Youth (WINTER 2) SD1 M, T, W, F U14 Boys\nGame Typ
 e: Regular\nGame Status: Complete\nHome Team: Catonsville Elite Kaler\nAwa
 y Team: Red Storm\nHome Score: 5\nAway Score: 5
END:VEVENT
BEGIN:VEVENT
UID:10136808@ezleagues.ezfacility.com
DTSTAMP:20260426T033449Z
CREATED:20260426T033449Z
DTSTART:20170301T230000Z
DTEND:20170302T000000Z
LOCATION:Jessup Premier Field #1
CONTACT:
SUMMARY:Catonsville Elite Kaler VS. Maryland Rush White
DESCRIPTION:League Name: Youth (WINTER 2) SD1 M, T, W, F U14 Boys\nGame Typ
 e: Regular\nGame Status: Complete\nHome Team: Catonsville Elite Kaler\nAwa
 y Team: Maryland Rush White\nHome Score: 1\nAway Score: 9
END:VEVENT
BEGIN:VEVENT
UID:10136823@ezleagues.ezfacility.com
DTSTAMP:20260426T033449Z
CREATED:20260426T033449Z
DTSTART:20170306T230000Z
DTEND:20170307T000000Z
LOCATION:Jessup Premier Field #2
CONTACT:
SUMMARY:Catonsville Elite Kaler VS. Brooklyn Park Thunder
DESCRIPTION:League Name: Youth (WINTER 2) SD1 M, T, W, F U14 Boys\nGame Typ
 e: Regular\nGame Status: Complete\nHome Team: Catonsville Elite Kaler\nAwa
 y Team: Brooklyn Park Thunder\nHome Score: 1\nAway Score: 9
END:VEVENT
BEGIN:VEVENT
UID:10136852@ezleagues.ezfacility.com
DTSTAMP:20260426T033449Z
CREATED:20260426T033449Z
DTSTART:20170322T210000Z
DTEND:20170322T220000Z
LOCATION:Jessup Premier Field #2
CONTACT:
SUMMARY:Maryland Rush Blue VS. Catonsville Elite Kaler
DESCRIPTION:League Name: Youth (WINTER 2) SD1 M, T, W, F U14 Boys\nGame Typ
 e: Regular\nGame Status: Complete\nHome Team: Maryland Rush Blue\nAway Tea
 m: Catonsville Elite Kaler\nHome Score: 5\nAway Score: 1
END:VEVENT
BEGIN:VEVENT
UID:10141139@ezleagues.ezfacility.com
DTSTAMP:20260426T033449Z
CREATED:20260426T033449Z
DTSTART:20170327T220000Z
DTEND:20170327T224800Z
LOCATION:Jessup Premier Field #1
CONTACT:
SUMMARY:Catonsville Elite Kaler VS. SAC North F.C.
DESCRIPTION:League Name: Youth (WINTER 2) SD1 M, T, W, F U14 Boys\nGame Typ
 e: Regular\nGame Status: Complete\nHome Team: Catonsville Elite Kaler\nAwa
 y Team: SAC North F.C.\nHome Score: 4\nAway Score: 2
END:VEVENT
BEGIN:VEVENT
UID:10136838@ezleagues.ezfacility.com
DTSTAMP:20260426T033449Z
CREATED:20260426T033449Z
DTSTART:20170407T220000Z
DTEND:20170407T230000Z
LOCATION:Harmans Premier Field #5
CONTACT:
SUMMARY:Catonsville Elite Kaler VS. Brasil FC
DESCRIPTION:League Name: Youth (WINTER 2) SD1 M, T, W, F U14 Boys\nGame Typ
 e: Regular\nGame Status: Complete\nHome Team: Catonsville Elite Kaler\nAwa
 y Team: Brasil FC\nHome Score: 3\nAway Score: 0
END:VEVENT
END:VCALENDAR
