BEGIN:VCALENDAR
VERSION:2.0
PRODID:-//EZFacility.com, Inc.//EZL 2.5.5.28621
BEGIN:VEVENT
UID:10141501@ezleagues.ezfacility.com
DTSTAMP:20260426T033711Z
CREATED:20260426T033711Z
DTSTART:20170210T230000Z
DTEND:20170210T234800Z
LOCATION:Harmans Premier Field #5
CONTACT:
SUMMARY:Gladiators VS. SAC Blue Dragon
DESCRIPTION:League Name: Youth (WINTER 2) SD2 M-F U13 Boys\nGame Type: Regu
 lar\nGame Status: Complete\nHome Team: Gladiators\nAway Team: SAC Blue Dra
 gon\nHome Score: 15\nAway Score: 7
END:VEVENT
BEGIN:VEVENT
UID:10141517@ezleagues.ezfacility.com
DTSTAMP:20260426T033711Z
CREATED:20260426T033711Z
DTSTART:20170213T230000Z
DTEND:20170213T234800Z
LOCATION:Harmans Premier Field #5
CONTACT:
SUMMARY:ASA Bobcats '04 VS. SAC Blue Dragon
DESCRIPTION:League Name: Youth (WINTER 2) SD2 M-F U13 Boys\nGame Type: Regu
 lar\nGame Status: Complete\nHome Team: ASA Bobcats '04\nAway Team: SAC Blu
 e Dragon\nHome Score: 6\nAway Score: 2
END:VEVENT
BEGIN:VEVENT
UID:10141533@ezleagues.ezfacility.com
DTSTAMP:20260426T033711Z
CREATED:20260426T033711Z
DTSTART:20170222T230000Z
DTEND:20170222T234800Z
LOCATION:Harmans Premier Field #5
CONTACT:
SUMMARY:Freiburg MD - Haller VS. SAC Blue Dragon
DESCRIPTION:League Name: Youth (WINTER 2) SD2 M-F U13 Boys\nGame Type: Regu
 lar\nGame Status: Complete\nHome Team: Freiburg MD - Haller\nAway Team: SA
 C Blue Dragon\nHome Score: 9\nAway Score: 1
END:VEVENT
BEGIN:VEVENT
UID:10141549@ezleagues.ezfacility.com
DTSTAMP:20260426T033711Z
CREATED:20260426T033711Z
DTSTART:20170302T223000Z
DTEND:20170302T231800Z
LOCATION:Harmans Premier Field #5
CONTACT:
SUMMARY:ASA Alliance '04 VS. SAC Blue Dragon
DESCRIPTION:League Name: Youth (WINTER 2) SD2 M-F U13 Boys\nGame Type: Regu
 lar\nGame Status: Complete\nHome Team: ASA Alliance '04\nAway Team: SAC Bl
 ue Dragon\nHome Score: 8\nAway Score: 0
END:VEVENT
BEGIN:VEVENT
UID:10141567@ezleagues.ezfacility.com
DTSTAMP:20260426T033711Z
CREATED:20260426T033711Z
DTSTART:20170309T223000Z
DTEND:20170309T231800Z
LOCATION:Harmans Premier Field #4
CONTACT:
SUMMARY:SAC Blue Dragon VS. NWSC Warriors
DESCRIPTION:League Name: Youth (WINTER 2) SD2 M-F U13 Boys\nGame Type: Regu
 lar\nGame Status: Complete\nHome Team: SAC Blue Dragon\nAway Team: NWSC Wa
 rriors\nHome Score: 4\nAway Score: 11
END:VEVENT
BEGIN:VEVENT
UID:10141603@ezleagues.ezfacility.com
DTSTAMP:20260426T033711Z
CREATED:20260426T033711Z
DTSTART:20170324T210000Z
DTEND:20170324T214800Z
LOCATION:Harmans Premier Field #5
CONTACT:
SUMMARY:SAC Blue Dragon VS. Bayern MD - Haller
DESCRIPTION:League Name: Youth (WINTER 2) SD2 M-F U13 Boys\nGame Type: Regu
 lar\nGame Status: Complete\nHome Team: SAC Blue Dragon\nAway Team: Bayern 
 MD - Haller\nHome Score: 1\nAway Score: 9
END:VEVENT
BEGIN:VEVENT
UID:10141621@ezleagues.ezfacility.com
DTSTAMP:20260426T033711Z
CREATED:20260426T033711Z
DTSTART:20170327T210000Z
DTEND:20170327T214800Z
LOCATION:Harmans Premier Field #4
CONTACT:
SUMMARY:SAC Blue Dragon VS. Lightning
DESCRIPTION:League Name: Youth (WINTER 2) SD2 M-F U13 Boys\nGame Type: Regu
 lar\nGame Status: Complete\nHome Team: SAC Blue Dragon\nAway Team: Lightni
 ng\nHome Score: 11\nAway Score: 4
END:VEVENT
BEGIN:VEVENT
UID:10141585@ezleagues.ezfacility.com
DTSTAMP:20260426T033711Z
CREATED:20260426T033711Z
DTSTART:20170404T220000Z
DTEND:20170404T224800Z
LOCATION:Harmans Premier Field #4
CONTACT:
SUMMARY:SAC Blue Dragon VS. Black Lions
DESCRIPTION:League Name: Youth (WINTER 2) SD2 M-F U13 Boys\nGame Type: Regu
 lar\nGame Status: Complete\nHome Team: SAC Blue Dragon\nAway Team: Black L
 ions\nHome Score: 1\nAway Score: 5
END:VEVENT
END:VCALENDAR
