BEGIN:VCALENDAR
VERSION:2.0
PRODID:-//EZFacility.com, Inc.//EZL 2.5.5.28621
BEGIN:VEVENT
UID:10166097@ezleagues.ezfacility.com
DTSTAMP:20260424T043242Z
CREATED:20260424T043242Z
DTSTART:20170211T120000Z
DTEND:20170211T125500Z
LOCATION:Harmans Premier Field #5
CONTACT:
SUMMARY:A3 Oxford VS. FSC Chaos
DESCRIPTION:League Name: Youth (WINTER 2) SD2 Sat/Sun U9 Girls\nGame Type: 
 Regular\nGame Status: Complete\nHome Team: A3 Oxford\nAway Team: FSC Chaos
 \nHome Score: 4\nAway Score: 6
END:VEVENT
BEGIN:VEVENT
UID:10166142@ezleagues.ezfacility.com
DTSTAMP:20260424T043242Z
CREATED:20260424T043242Z
DTSTART:20170218T211000Z
DTEND:20170218T220500Z
LOCATION:Harmans Premier Field #4
CONTACT:
SUMMARY:A3 Oxford VS. PSC Pandemonium
DESCRIPTION:League Name: Youth (WINTER 2) SD2 Sat/Sun U9 Girls\nGame Type: 
 Regular\nGame Status: Complete\nHome Team: A3 Oxford\nAway Team: PSC Pande
 monium\nHome Score: 4\nAway Score: 1
END:VEVENT
BEGIN:VEVENT
UID:10166187@ezleagues.ezfacility.com
DTSTAMP:20260424T043242Z
CREATED:20260424T043242Z
DTSTART:20170225T120000Z
DTEND:20170225T125500Z
LOCATION:Harmans Premier Field #4
CONTACT:
SUMMARY:A3 Oxford VS. Pasadena SC United
DESCRIPTION:League Name: Youth (WINTER 2) SD2 Sat/Sun U9 Girls\nGame Type: 
 Regular\nGame Status: Complete\nHome Team: A3 Oxford\nAway Team: Pasadena 
 SC United\nHome Score: 6\nAway Score: 1
END:VEVENT
BEGIN:VEVENT
UID:10166232@ezleagues.ezfacility.com
DTSTAMP:20260424T043242Z
CREATED:20260424T043242Z
DTSTART:20170305T182500Z
DTEND:20170305T192000Z
LOCATION:Harmans Premier Field #5
CONTACT:
SUMMARY:A3 Oxford VS. FCC
DESCRIPTION:League Name: Youth (WINTER 2) SD2 Sat/Sun U9 Girls\nGame Type: 
 Regular\nGame Status: Complete\nHome Team: A3 Oxford\nAway Team: FCC\nHome
  Score: 8\nAway Score: 1
END:VEVENT
BEGIN:VEVENT
UID:10166276@ezleagues.ezfacility.com
DTSTAMP:20260424T043242Z
CREATED:20260424T043242Z
DTSTART:20170311T173000Z
DTEND:20170311T182500Z
LOCATION:Harmans Premier Field #5
CONTACT:
SUMMARY:Catonsville Cobras VS. A3 Oxford
DESCRIPTION:League Name: Youth (WINTER 2) SD2 Sat/Sun U9 Girls\nGame Type: 
 Regular\nGame Status: Complete\nHome Team: Catonsville Cobras\nAway Team: 
 A3 Oxford\nHome Score: 4\nAway Score: 0
END:VEVENT
BEGIN:VEVENT
UID:10166319@ezleagues.ezfacility.com
DTSTAMP:20260424T043242Z
CREATED:20260424T043242Z
DTSTART:20170319T163000Z
DTEND:20170319T172500Z
LOCATION:Harmans Premier Field #4
CONTACT:
SUMMARY:Jaguar Stars VS. A3 Oxford
DESCRIPTION:League Name: Youth (WINTER 2) SD2 Sat/Sun U9 Girls\nGame Type: 
 Regular\nGame Status: Complete\nHome Team: Jaguar Stars\nAway Team: A3 Oxf
 ord\nHome Score: 0\nAway Score: 8
END:VEVENT
BEGIN:VEVENT
UID:10166362@ezleagues.ezfacility.com
DTSTAMP:20260424T043242Z
CREATED:20260424T043242Z
DTSTART:20170325T201000Z
DTEND:20170325T210500Z
LOCATION:Harmans Premier Field #5
CONTACT:
SUMMARY:Severna Park Dynamite VS. A3 Oxford
DESCRIPTION:League Name: Youth (WINTER 2) SD2 Sat/Sun U9 Girls\nGame Type: 
 Regular\nGame Status: Complete\nHome Team: Severna Park Dynamite\nAway Tea
 m: A3 Oxford\nHome Score: 2\nAway Score: 1
END:VEVENT
END:VCALENDAR
