BEGIN:VCALENDAR
VERSION:2.0
PRODID:-//EZFacility.com, Inc.//EZL 2.5.5.28621
BEGIN:VEVENT
UID:10166069@ezleagues.ezfacility.com
DTSTAMP:20260424T044339Z
CREATED:20260424T044339Z
DTSTART:20170211T154000Z
DTEND:20170211T163500Z
LOCATION:Harmans Premier Field #4
CONTACT:
SUMMARY:ASA Arsenal - Red  VS. ASA Fierce '07
DESCRIPTION:League Name: Youth (WINTER 2) SD2 Sat/Sun U10 Girls GOLD\nGame 
 Type: Regular\nGame Status: Complete\nHome Team: ASA Arsenal - Red \nAway 
 Team: ASA Fierce '07\nHome Score: 8\nAway Score: 0
END:VEVENT
BEGIN:VEVENT
UID:10166114@ezleagues.ezfacility.com
DTSTAMP:20260424T044339Z
CREATED:20260424T044339Z
DTSTART:20170219T154000Z
DTEND:20170219T163500Z
LOCATION:Harmans Premier Field #5
CONTACT:
SUMMARY:Severna Park Premier Green VS. ASA Fierce '07
DESCRIPTION:League Name: Youth (WINTER 2) SD2 Sat/Sun U10 Girls GOLD\nGame 
 Type: Regular\nGame Status: Complete\nHome Team: Severna Park Premier Gree
 n\nAway Team: ASA Fierce '07\nHome Score: 7\nAway Score: 2
END:VEVENT
BEGIN:VEVENT
UID:10166289@ezleagues.ezfacility.com
DTSTAMP:20260424T044339Z
CREATED:20260424T044339Z
DTSTART:20170220T140000Z
DTEND:20170220T145500Z
LOCATION:Harmans Premier Field #4
CONTACT:
SUMMARY:ASA Fierce '07 VS. ASA Arsenal - Red 
DESCRIPTION:League Name: Youth (WINTER 2) SD2 Sat/Sun U10 Girls GOLD\nGame 
 Type: Regular\nGame Status: Complete\nHome Team: ASA Fierce '07\nAway Team
 : ASA Arsenal - Red \nHome Score: 0\nAway Score: 8
END:VEVENT
BEGIN:VEVENT
UID:10166159@ezleagues.ezfacility.com
DTSTAMP:20260424T044339Z
CREATED:20260424T044339Z
DTSTART:20170226T163500Z
DTEND:20170226T173000Z
LOCATION:Harmans Premier Field #5
CONTACT:
SUMMARY:ASA Fierce '07 VS. ASA Arsenal - White
DESCRIPTION:League Name: Youth (WINTER 2) SD2 Sat/Sun U10 Girls GOLD\nGame 
 Type: Regular\nGame Status: Complete\nHome Team: ASA Fierce '07\nAway Team
 : ASA Arsenal - White\nHome Score: 1\nAway Score: 7
END:VEVENT
BEGIN:VEVENT
UID:10166203@ezleagues.ezfacility.com
DTSTAMP:20260424T044339Z
CREATED:20260424T044339Z
DTSTART:20170304T163500Z
DTEND:20170304T173000Z
LOCATION:Harmans Premier Field #4
CONTACT:
SUMMARY:PHWM SC 07 RED VS. ASA Fierce '07
DESCRIPTION:League Name: Youth (WINTER 2) SD2 Sat/Sun U10 Girls GOLD\nGame 
 Type: Regular\nGame Status: Complete\nHome Team: PHWM SC 07 RED\nAway Team
 : ASA Fierce '07\nHome Score: 9\nAway Score: 1
END:VEVENT
BEGIN:VEVENT
UID:10166246@ezleagues.ezfacility.com
DTSTAMP:20260424T044339Z
CREATED:20260424T044339Z
DTSTART:20170326T182000Z
DTEND:20170326T191500Z
LOCATION:Harmans Premier Field #4
CONTACT:
SUMMARY:Baltimore Celtic Aspire '07 VS. ASA Fierce '07
DESCRIPTION:League Name: Youth (WINTER 2) SD2 Sat/Sun U10 Girls GOLD\nGame 
 Type: Regular\nGame Status: Complete\nHome Team: Baltimore Celtic Aspire '
 07\nAway Team: ASA Fierce '07\nHome Score: 8\nAway Score: 0
END:VEVENT
BEGIN:VEVENT
UID:10166334@ezleagues.ezfacility.com
DTSTAMP:20260424T044339Z
CREATED:20260424T044339Z
DTSTART:20170326T191500Z
DTEND:20170326T201000Z
LOCATION:Harmans Premier Field #4
CONTACT:
SUMMARY:ASA Fierce '07 VS. Severna Park Premier Green
DESCRIPTION:League Name: Youth (WINTER 2) SD2 Sat/Sun U10 Girls GOLD\nGame 
 Type: Regular\nGame Status: Complete\nHome Team: ASA Fierce '07\nAway Team
 : Severna Park Premier Green\nHome Score: 1\nAway Score: 2
END:VEVENT
END:VCALENDAR
