BEGIN:VCALENDAR
VERSION:2.0
PRODID:-//EZFacility.com, Inc.//EZL 2.5.5.28621
BEGIN:VEVENT
UID:10166073@ezleagues.ezfacility.com
DTSTAMP:20260426T033608Z
CREATED:20260426T033608Z
DTSTART:20170211T144500Z
DTEND:20170211T154000Z
LOCATION:Harmans Premier Field #5
CONTACT:
SUMMARY:BAYS '06 Cheetahs VS. PHWM G'06 White
DESCRIPTION:League Name: Youth (WINTER 2) SD2 Sat/Sun U11 Girls SILVER\nGam
 e Type: Regular\nGame Status: Complete\nHome Team: BAYS '06 Cheetahs\nAway
  Team: PHWM G'06 White\nHome Score: 3\nAway Score: 5
END:VEVENT
BEGIN:VEVENT
UID:10166118@ezleagues.ezfacility.com
DTSTAMP:20260426T033608Z
CREATED:20260426T033608Z
DTSTART:20170218T173000Z
DTEND:20170218T182500Z
LOCATION:Harmans Premier Field #4
CONTACT:
SUMMARY:BAYS '06 Cheetahs VS. Santos
DESCRIPTION:League Name: Youth (WINTER 2) SD2 Sat/Sun U11 Girls SILVER\nGam
 e Type: Regular\nGame Status: Complete\nHome Team: BAYS '06 Cheetahs\nAway
  Team: Santos\nHome Score: 6\nAway Score: 3
END:VEVENT
BEGIN:VEVENT
UID:10166163@ezleagues.ezfacility.com
DTSTAMP:20260426T033608Z
CREATED:20260426T033608Z
DTSTART:20170226T201500Z
DTEND:20170226T211000Z
LOCATION:Harmans Premier Field #4
CONTACT:
SUMMARY:BAYS '06 Cheetahs VS. Maryland Rush '06
DESCRIPTION:League Name: Youth (WINTER 2) SD2 Sat/Sun U11 Girls SILVER\nGam
 e Type: Regular\nGame Status: Complete\nHome Team: BAYS '06 Cheetahs\nAway
  Team: Maryland Rush '06\nHome Score: 8\nAway Score: 3
END:VEVENT
BEGIN:VEVENT
UID:10166207@ezleagues.ezfacility.com
DTSTAMP:20260426T033608Z
CREATED:20260426T033608Z
DTSTART:20170305T163500Z
DTEND:20170305T173000Z
LOCATION:Harmans Premier Field #5
CONTACT:
SUMMARY:GH Vipers VS. BAYS '06 Cheetahs
DESCRIPTION:League Name: Youth (WINTER 2) SD2 Sat/Sun U11 Girls SILVER\nGam
 e Type: Regular\nGame Status: Complete\nHome Team: GH Vipers\nAway Team: B
 AYS '06 Cheetahs\nHome Score: 1\nAway Score: 4
END:VEVENT
BEGIN:VEVENT
UID:10166250@ezleagues.ezfacility.com
DTSTAMP:20260426T033608Z
CREATED:20260426T033608Z
DTSTART:20170318T163000Z
DTEND:20170318T172500Z
LOCATION:Harmans Premier Field #4
CONTACT:
SUMMARY:SAC United Black '06 VS. BAYS '06 Cheetahs
DESCRIPTION:League Name: Youth (WINTER 2) SD2 Sat/Sun U11 Girls SILVER\nGam
 e Type: Regular\nGame Status: Complete\nHome Team: SAC United Black '06\nA
 way Team: BAYS '06 Cheetahs\nHome Score: 2\nAway Score: 0
END:VEVENT
BEGIN:VEVENT
UID:10166293@ezleagues.ezfacility.com
DTSTAMP:20260426T033608Z
CREATED:20260426T033608Z
DTSTART:20170319T134500Z
DTEND:20170319T144000Z
LOCATION:Harmans Premier Field #4
CONTACT:
SUMMARY:PSC Thunder VS. BAYS '06 Cheetahs
DESCRIPTION:League Name: Youth (WINTER 2) SD2 Sat/Sun U11 Girls SILVER\nGam
 e Type: Regular\nGame Status: Complete\nHome Team: PSC Thunder\nAway Team:
  BAYS '06 Cheetahs\nHome Score: 2\nAway Score: 4
END:VEVENT
BEGIN:VEVENT
UID:10166336@ezleagues.ezfacility.com
DTSTAMP:20260426T033608Z
CREATED:20260426T033608Z
DTSTART:20170325T134500Z
DTEND:20170325T144000Z
LOCATION:Harmans Premier Field #5
CONTACT:
SUMMARY:Baltimore Celtic White VS. BAYS '06 Cheetahs
DESCRIPTION:League Name: Youth (WINTER 2) SD2 Sat/Sun U11 Girls SILVER\nGam
 e Type: Regular\nGame Status: Complete\nHome Team: Baltimore Celtic White\
 nAway Team: BAYS '06 Cheetahs\nHome Score: 8\nAway Score: 0
END:VEVENT
END:VCALENDAR
